{"text_format":"1","workbook":"xlsx","n_sheets":12,"sheets":["January","February","March","April","May","June","July","August","September","October","November","December"],"not_rendered":{"charts":24,"images":0,"macros":1,"external_links":1,"defined_names":0,"comments":0,"pivot_tables":0},"unopened":[],"bounds":{"document_bytes":16777216,"sheet_cells":100000,"rows_first":2000,"rows_last":500,"rows_between":2000,"halvings":0,"cell_chars":16384,"cell_head_chars":4096},"cells_cut":0,"cells_raw":0,"read":"whole","date_system":"1900"}

{"sheet":"January","index":0,"n_rows":178,"n_cols":9,"rows_kept":178,"cut":false,"hidden":false,"merged":[[22,1,22,3],[1,1,1,7],[2,1,2,7],[2,8,2,13],[10,1,10,3],[11,1,11,3],[12,1,12,3],[13,1,13,3],[14,1,14,3],[15,1,15,3],[16,1,16,3],[21,1,21,3],[38,1,38,3],[23,1,23,3],[24,1,24,3],[25,1,25,3],[26,1,26,3],[27,1,27,3],[32,1,32,3],[33,1,33,3],[34,1,34,3],[35,1,35,3],[36,1,36,3],[37,1,37,3],[137,1,137,5],[137,6,137,7],[47,7,47,8],[48,1,48,3],[49,1,49,3],[50,1,50,3],[51,1,51,3],[52,1,52,3],[53,1,53,3],[127,1,127,5],[127,6,127,7],[128,1,128,5],[128,6,128,7],[138,1,138,5],[138,6,138,7],[139,1,139,5],[139,6,139,7],[140,1,140,5],[140,6,140,7],[141,1,141,5],[141,6,141,7],[142,1,142,5],[142,6,142,7],[143,1,143,5],[143,6,143,7],[144,1,144,5],[144,6,144,7],[145,1,145,5],[145,6,145,7],[146,1,146,5],[146,6,146,7],[147,1,147,5],[147,6,147,7],[152,1,152,5],[152,6,152,7],[153,1,153,5],[153,6,153,7],[154,1,154,5],[154,6,154,7],[155,1,155,5],[155,6,155,7],[156,1,156,5],[156,6,156,7],[157,1,157,5],[157,6,157,7],[158,1,158,5],[158,6,158,7],[159,1,159,5],[159,6,159,7],[170,1,170,5],[170,6,170,7],[160,1,160,5],[160,6,160,7],[161,1,161,5],[161,6,161,7],[162,1,162,5],[162,6,162,7],[167,6,167,7],[168,1,168,5],[168,6,168,7],[169,1,169,5],[169,6,169,7],[167,1,167,5],[171,1,171,5],[171,6,171,7],[172,1,172,5],[172,6,172,7],[173,1,173,5],[173,6,173,7],[177,1,177,5],[177,6,177,7],[174,1,174,5],[174,6,174,7],[175,1,175,5],[175,6,175,7],[176,1,176,5],[176,6,176,7]]}
[]
[null,"Клиенты Участников торгов Фондовой биржи ММВБ"]
[null,"2016-01-31"]
[]
[]
[null,"Динамика количества клиентов за ",{"$f":"B3","v":"2016-01-31"}]
[]
[]
[]
[null,"Количество зарегистрированных клиентов в Системе торгов (по состоянию на последний день месяца):",null,null,null,null,null,"Таблица 1"]
[null,"Группы клиентов",null,null,{"$f":"EDATE(B3,-1)","v":"2015-12-31"},{"$f":"B3","v":"2016-01-31"},"Изменение (ед.)","Изменение (%)"]
[null,"Физические лица",null,null,1296101,1307886,{"$f":"F12-E12","v":11785},{"$f":"F12/E12-1","v":9.0926555877974824E-3}]
[null,"Юридические лица",null,null,34512,34500,{"$f":"F13-E13","v":-12},-3.4770514603621461E-4]
[null,"Иностранные лица",null,null,13405,13437,32,2.3871689668033547E-3]
[null,"Иностранные физические лица ",null,null,4571,4650,79,1.7282870269087702E-2]
[null,"Иностранные юридические лица ",null,null,8834,8787,-47,-5.320353180891968E-3]
[null,"Клиенты, передавшие свои средства в ДУ",null,null,16540,15249,-1291,-7.8053204353083383E-2]
[null,"Всего",null,null,1360558,1371072,10514,7.7277117182803501E-3]
[]
[]
[null,"Количество уникальных клиентов в Системе торгов (по состоянию на последний день месяца):",null,null,null,null,null,"Таблица 2"]
[null,"Группы клиентов",null,null,{"$f":"E11","v":"2015-12-31"},{"$f":"F11","v":"2016-01-31"},"Изменение (ед.)","Изменение (%)"]
[null,"Физические лица",null,null,1006751,1012875,{"$f":"F23-E23","v":6124},{"$f":"F23/E23-1","v":6.0829341118111557E-3}]
[null,"Юридические лица",null,null,20753,20804,{"$f":"F24-E24","v":51},{"$f":"F24/E24-1","v":2.4574760275621887E-3}]
[null,"Иностранные лица",null,null,8729,8764,35,4.0096230954289602E-3]
[null,"Иностранные физические лица ",null,null,4315,4377,62,1.4368482039397446E-2]
[null,"Иностранные юридические лица ",null,null,4414,4387,-27,-6.1169007702763789E-3]
[null,"Клиенты, передавшие свои средства в ДУ",null,null,3836,3848,12,3.1282586027112647E-3]
[null,"Всего",null,null,1040069,1046291,6222,5.9822954054009614E-3]
[]
[]
[null,"Количество активных клиентов в Системе торгов (совершивших в течение месяца хотя бы одну сделку):",null,null,null,null,null,"Таблица 3"]
[null,"Группы клиентов",null,null,{"$f":"E11","v":"2015-12-31"},{"$f":"F11","v":"2016-01-31"},"Изменение (ед.)","Изменение (%)"]
[null,"Физические лица",null,null,74911,71231,{"$f":"F34-E34","v":-3680},{"$f":"F34/E34-1","v":-4.9124961621123786E-2}]
[null,"Юридические лица",null,null,1188,927,-261,-0.21969696969696972]
[null,"Иностранные лица",null,null,659,567,-92,-0.13960546282245823]
[null,"Иностранные физические лица ",null,null,305,264,-41,-0.13442622950819672]
[null,"Иностранные юридические лица ",null,null,354,303,-51,-0.14406779661016944]
[null,"Клиенты, передавшие свои средства в ДУ",null,null,474,497,23,4.8523206751054815E-2]
[null,"Всего",null,null,77232,73222,-4010,-5.1921483322974971E-2]
[]
[]
[]
[null,"Изменение количества уникальных клиентов - ретроспективные данные"]
[]
[]
[]
[null,"Количество уникальных клиентов в Системе торгов (по состоянию на последний день месяца) (ежегодная статистика):",null,null,null,null,null,"Таблица 1"]
[null,"Группы клиентов",null,null,"2011-12-31","2012-12-31","2013-12-31","2014-12-31","2015-12-31"]
[null,"Физические лица",null,null,772175,805549,881844,944559,1006751]
[null,"Юридические лица",null,null,16850,17821,19539,20178,20753]
[null,"Иностранные лица",null,null,5058,5876,6957,7486,8729]
[null,"Клиенты, передавшие свои средства в ДУ",null,null,5242,5261,5182,5142,3836]
[null,"Всего",null,null,799325,834507,913522,977365,1040069]
[]
[]
[]
[]
[]
[]
[]
[]
[]
[]
[]
[]
[]
[]
[]
[]
[]
[]
[]
[]
[]
[]
[]
[]
[]
[]
[]
[null,"Количество уникальных клиентов в Системе торгов (по состоянию на последний день месяца) (за последние 6 месяцев):",null,null,null,null,null,"Таблица 2"]
[null,"Группы клиентов",{"$f":"EDATE(D83,-1)","v":"2015-08-30"},{"$f":"EDATE(E83,-1)","v":"2015-09-30"},{"$f":"EDATE(F83,-1)","v":"2015-10-30"},{"$f":"EDATE(G83,-1)","v":"2015-11-30"},{"$f":"EDATE(H83,-1)","v":"2015-12-31"},{"$f":"EDATE(E11,1)","v":"2016-01-31"}]
[null,"Физические лица",991257,993268,996118,1001556,1006751,1012875]
[null,"Юридические лица",20981,21072,20973,21007,20753,20804]
[null,"Иностранные лица",8602,8775,8894,8699,8729,8764]
[null,"Клиенты, передавшие свои средства в ДУ",4694,4323,4266,4148,3836,3848]
[null,"Всего",1025534,1027438,1030251,1035410,1040069,1046291]
[]
[]
[]
[]
[]
[]
[]
[]
[]
[]
[]
[]
[]
[]
[]
[]
[]
[]
[]
[]
[]
[]
[]
[]
[]
[]
[]
[]
[]
[]
[]
[]
[]
[]
[]
[null,"Дополнительные показатели за",{"$f":"B3","v":"2016-01-31"}]
[]
[]
[null,null,null,null,null,null,null,"Таблица 1"]
[null,"Участники торгов",null,null,null,null,"Абсолютные показатели"]
[null,"Количество Участников торгов, имеющих активных клиентов",null,null,null,null,378]
[]
[]
[]
[null,"Списки ведущих операторов фондового рынка - клиенты Участников торгов за ",null,null,null,{"$f":"C6","v":"2016-01-31"}]
[]
[]
[null,"Ведущие операторы рынка – число зарегистрированных клиентов",null,null,null,null,null,"Таблица 1"]
[null,"(по общему количеству уникальных клиентов всех типов, зарегистрированных в системе торгов биржи, в том числе  в течение месяца) "]
[null,"Наименование Участника торгов",null,null,null,null,"Количество клиентов"]
[null,"ВТБ 24 (ПАО)","ВТБ 24 (ПАО)","ВТБ 24 (ПАО)","ВТБ 24 (ПАО)","ВТБ 24 (ПАО)",229110,229110]
[null,"Сбербанк","Сбербанк","Сбербанк","Сбербанк","Сбербанк",181253,181253]
[null,"ФГ БКС","ФГ БКС","ФГ БКС","ФГ БКС","ФГ БКС",142758,142758]
[null,"АО \"ФИНАМ\"","АО \"ФИНАМ\"","АО \"ФИНАМ\"","АО \"ФИНАМ\"","АО \"ФИНАМ\"",141515,141515]
[null,"ФГ \"ОТКРЫТИЕ\"","ФГ \"ОТКРЫТИЕ\"","ФГ \"ОТКРЫТИЕ\"","ФГ \"ОТКРЫТИЕ\"","ФГ \"ОТКРЫТИЕ\"",72558,72558]
[null,"АО \"АЛЬФА-БАНК\"","АО \"АЛЬФА-БАНК\"","АО \"АЛЬФА-БАНК\"","АО \"АЛЬФА-БАНК\"","АО \"АЛЬФА-БАНК\"",60891,60891]
[null,"ООО \"АТОН\"","ООО \"АТОН\"","ООО \"АТОН\"","ООО \"АТОН\"","ООО \"АТОН\"",48052,48052]
[null,"АЛОР БРОКЕР","АЛОР БРОКЕР","АЛОР БРОКЕР","АЛОР БРОКЕР","АЛОР БРОКЕР",32150,32150]
[null,"КИТ Финанс (ООО)","КИТ Финанс (ООО)","КИТ Финанс (ООО)","КИТ Финанс (ООО)","КИТ Финанс (ООО)",20933,20933]
[null,"ООО \"Инвестиционная палата\"","ООО \"Инвестиционная палата\"","ООО \"Инвестиционная палата\"","ООО \"Инвестиционная палата\"","ООО \"Инвестиционная палата\"",19850,19850]
[]
[]
[null,"Ведущие операторы рынка – число активных клиентов",null,null,null,null,null,"Таблица 2"]
[null,"(по количеству уникальных клиентов, совершивших хотя бы одну сделку за месяц)"]
[null,"Наименование Участника торгов",null,null,null,null,"Количество клиентов"]
[null,"Сбербанк","Сбербанк","Сбербанк","Сбербанк","Сбербанк",12692,12692]
[null,"АО \"ФИНАМ\"","АО \"ФИНАМ\"","АО \"ФИНАМ\"","АО \"ФИНАМ\"","АО \"ФИНАМ\"",10935,10935]
[null,"ФГ БКС","ФГ БКС","ФГ БКС","ФГ БКС","ФГ БКС",10811,10811]
[null,"ВТБ 24 (ПАО)","ВТБ 24 (ПАО)","ВТБ 24 (ПАО)","ВТБ 24 (ПАО)","ВТБ 24 (ПАО)",10728,10728]
[null,"ФГ \"ОТКРЫТИЕ\"","ФГ \"ОТКРЫТИЕ\"","ФГ \"ОТКРЫТИЕ\"","ФГ \"ОТКРЫТИЕ\"","ФГ \"ОТКРЫТИЕ\"",7577,7577]
[null,"АО \"АЛЬФА-БАНК\"","АО \"АЛЬФА-БАНК\"","АО \"АЛЬФА-БАНК\"","АО \"АЛЬФА-БАНК\"","АО \"АЛЬФА-БАНК\"",4107,4107]
[null,"ООО \"АТОН\"","ООО \"АТОН\"","ООО \"АТОН\"","ООО \"АТОН\"","ООО \"АТОН\"",2929,2929]
[null,"Банк ГПБ (АО)","Банк ГПБ (АО)","Банк ГПБ (АО)","Банк ГПБ (АО)","Банк ГПБ (АО)",2168,2168]
[null,"ПАО \"Промсвязьбанк\"","ПАО \"Промсвязьбанк\"","ПАО \"Промсвязьбанк\"","ПАО \"Промсвязьбанк\"","ПАО \"Промсвязьбанк\"",1406,1406]
[null,"КИТ Финанс (ООО)","КИТ Финанс (ООО)","КИТ Финанс (ООО)","КИТ Финанс (ООО)","КИТ Финанс (ООО)",1353,1353]
[]
[]
[null,"Ведущие операторы рынка – объем клиентских операций",null,null,null,null,null,"Таблица 3"]
[null,"(по стоимостному объему сделок, заключенных в интересах клиентов за месяц) "]
[null,"Наименование Участника торгов",null,null,null,null,"Торговый оборот, руб."]
[null,"ООО \"Ренессанс Брокер\" ","ООО \"Ренессанс Брокер\" ","ООО \"Ренессанс Брокер\" ","ООО \"Ренессанс Брокер\" ","ООО \"Ренессанс Брокер\" ",1128359355170.1799,1128359355170.1799]
[null,"ФГ БКС","ФГ БКС","ФГ БКС","ФГ БКС","ФГ БКС",910468475967.67102,910468475967.67102]
[null,"ФГ \"ОТКРЫТИЕ\"","ФГ \"ОТКРЫТИЕ\"","ФГ \"ОТКРЫТИЕ\"","ФГ \"ОТКРЫТИЕ\"","ФГ \"ОТКРЫТИЕ\"",775767879482.16797,775767879482.16797]
[null,"Сбербанк","Сбербанк","Сбербанк","Сбербанк","Сбербанк",574813143193.49805,574813143193.49805]
[null,"ПАО \"Промсвязьбанк\"","ПАО \"Промсвязьбанк\"","ПАО \"Промсвязьбанк\"","ПАО \"Промсвязьбанк\"","ПАО \"Промсвязьбанк\"",265228754698.41901,265228754698.41901]
[null,"АО \"ФИНАМ\"","АО \"ФИНАМ\"","АО \"ФИНАМ\"","АО \"ФИНАМ\"","АО \"ФИНАМ\"",241753211629.29001,241753211629.29001]
[null,"ООО \"ИФК \"МЕТРОПОЛЬ\"","ООО \"ИФК \"МЕТРОПОЛЬ\"","ООО \"ИФК \"МЕТРОПОЛЬ\"","ООО \"ИФК \"МЕТРОПОЛЬ\"","ООО \"ИФК \"МЕТРОПОЛЬ\"",233442393029.95001,233442393029.95001]
[null,"ООО \"ИК ВЕЛЕС Капитал\"","ООО \"ИК ВЕЛЕС Капитал\"","ООО \"ИК ВЕЛЕС Капитал\"","ООО \"ИК ВЕЛЕС Капитал\"","ООО \"ИК ВЕЛЕС Капитал\"",180567868549.31601,180567868549.31601]
[null,"ЗАО \"БАНК КРЕДИТ СВИСС (МОСКВА)\"","ЗАО \"БАНК КРЕДИТ СВИСС (МОСКВА)\"","ЗАО \"БАНК КРЕДИТ СВИСС (МОСКВА)\"","ЗАО \"БАНК КРЕДИТ СВИСС (МОСКВА)\"","ЗАО \"БАНК КРЕДИТ СВИСС (МОСКВА)\"",152915653222.98999,152915653222.98999]
[null,"ООО \"АТОН\"","ООО \"АТОН\"","ООО \"АТОН\"","ООО \"АТОН\"","ООО \"АТОН\"",149166642555.55701,149166642555.55701]

{"sheet":"February","index":1,"n_rows":178,"n_cols":9,"rows_kept":178,"cut":false,"hidden":false,"merged":[[177,1,177,5],[177,6,177,7],[174,1,174,5],[174,6,174,7],[175,1,175,5],[175,6,175,7],[176,1,176,5],[176,6,176,7],[171,1,171,5],[171,6,171,7],[172,1,172,5],[172,6,172,7],[173,1,173,5],[173,6,173,7],[170,1,170,5],[170,6,170,7],[160,1,160,5],[160,6,160,7],[161,1,161,5],[161,6,161,7],[162,1,162,5],[162,6,162,7],[167,6,167,7],[168,1,168,5],[168,6,168,7],[169,1,169,5],[169,6,169,7],[167,1,167,5],[157,1,157,5],[157,6,157,7],[158,1,158,5],[158,6,158,7],[159,1,159,5],[159,6,159,7],[154,1,154,5],[154,6,154,7],[155,1,155,5],[155,6,155,7],[156,1,156,5],[156,6,156,7],[147,1,147,5],[147,6,147,7],[152,1,152,5],[152,6,152,7],[153,1,153,5],[153,6,153,7],[144,1,144,5],[144,6,144,7],[145,1,145,5],[145,6,145,7],[146,1,146,5],[146,6,146,7],[141,1,141,5],[141,6,141,7],[142,1,142,5],[142,6,142,7],[143,1,143,5],[143,6,143,7],[138,1,138,5],[138,6,138,7],[139,1,139,5],[139,6,139,7],[140,1,140,5],[140,6,140,7],[137,1,137,5],[137,6,137,7],[47,7,47,8],[48,1,48,3],[49,1,49,3],[50,1,50,3],[51,1,51,3],[52,1,52,3],[53,1,53,3],[127,1,127,5],[127,6,127,7],[128,1,128,5],[128,6,128,7],[38,1,38,3],[23,1,23,3],[24,1,24,3],[25,1,25,3],[26,1,26,3],[27,1,27,3],[32,1,32,3],[33,1,33,3],[34,1,34,3],[35,1,35,3],[36,1,36,3],[37,1,37,3],[22,1,22,3],[1,1,1,7],[2,1,2,7],[2,8,2,13],[10,1,10,3],[11,1,11,3],[12,1,12,3],[13,1,13,3],[14,1,14,3],[15,1,15,3],[16,1,16,3],[21,1,21,3]]}
[]
[null,"Клиенты Участников торгов Фондовой биржи ММВБ"]
[null,"2016-02-29"]
[]
[]
[null,"Динамика количества клиентов за ",{"$f":"B3","v":"2016-02-29"}]
[]
[]
[]
[null,"Количество зарегистрированных клиентов в Системе торгов (по состоянию на последний день месяца):",null,null,null,null,null,"Таблица 1"]
[null,"Группы клиентов",null,null,{"$f":"EDATE(B3,-1)","v":"2016-01-29"},{"$f":"B3","v":"2016-02-29"},"Изменение (ед.)","Изменение (%)"]
[null,"Физические лица",null,null,{"$f":"January!F12","v":1307886},1299435,{"$f":"F12-E12","v":-8451},{"$f":"F12/E12-1","v":-6.4615723388735669E-3}]
[null,"Юридические лица",null,null,{"$f":"January!F13","v":34500},30184,{"$f":"F13-E13","v":-4316},-0.12510144927536226]
[null,"Иностранные лица",null,null,{"$f":"January!F14","v":13437},13261,-176,-1.3098161792066687E-2]
[null,"Иностранные физические лица ",null,null,{"$f":"January!F15","v":4650},5006,356,7.6559139784946328E-2]
[null,"Иностранные юридические лица ",null,null,{"$f":"January!F16","v":8787},8255,-532,-6.0543985433026082E-2]
[null,"Клиенты, передавшие свои средства в ДУ",null,null,{"$f":"January!F17","v":15249},14108,-1141,-7.4824578660895757E-2]
[null,"Всего",null,null,{"$f":"January!F18","v":1371072},1356988,-14084,-1.0272254119404356E-2]
[]
[]
[null,"Количество уникальных клиентов в Системе торгов (по состоянию на последний день месяца):",null,null,null,null,null,"Таблица 2"]
[null,"Группы клиентов",null,null,{"$f":"E11","v":"2016-01-29"},{"$f":"F11","v":"2016-02-29"},"Изменение (ед.)","Изменение (%)"]
[null,"Физические лица",null,null,{"$f":"January!F23","v":1012875},1006765,{"$f":"F23-E23","v":-6110},{"$f":"F23/E23-1","v":-6.0323337035665947E-3}]
[null,"Юридические лица",null,null,{"$f":"January!F24","v":20804},18908,{"$f":"F24-E24","v":-1896},{"$f":"F24/E24-1","v":-9.1136319938473376E-2}]
[null,"Иностранные лица",null,null,{"$f":"January!F25","v":8764},8657,-107,-1.2209036969420328E-2]
[null,"Иностранные физические лица ",null,null,{"$f":"January!F26","v":4377},4697,320,7.3109435686543378E-2]
[null,"Иностранные юридические лица ",null,null,{"$f":"January!F27","v":4387},3960,-427,-9.7333029405060389E-2]
[null,"Клиенты, передавшие свои средства в ДУ",null,null,{"$f":"January!F28","v":3848},2930,-918,-0.23856548856548854]
[null,"Всего",null,null,{"$f":"January!F29","v":1046291},1037260,-9031,-8.6314419219891692E-3]
[]
[]
[null,"Количество активных клиентов в Системе торгов (совершивших в течение месяца хотя бы одну сделку):",null,null,null,null,null,"Таблица 3"]
[null,"Группы клиентов",null,null,{"$f":"E11","v":"2016-01-29"},{"$f":"F11","v":"2016-02-29"},"Изменение (ед.)","Изменение (%)"]
[null,"Физические лица",null,null,{"$f":"January!F34","v":71231},73550,{"$f":"F34-E34","v":2319},{"$f":"F34/E34-1","v":3.2556050034395101E-2}]
[null,"Юридические лица",null,null,{"$f":"January!F35","v":927},1044,117,0.12621359223300965]
[null,"Иностранные лица",null,null,{"$f":"January!F36","v":567},642,75,0.13227513227513232]
[null,"Иностранные физические лица ",null,null,{"$f":"January!F37","v":264},318,54,0.20454545454545459]
[null,"Иностранные юридические лица ",null,null,{"$f":"January!F38","v":303},324,21,6.9306930693069368E-2]
[null,"Клиенты, передавшие свои средства в ДУ",null,null,{"$f":"January!F39","v":497},554,57,0.11468812877263579]
[null,"Всего",null,null,{"$f":"January!F40","v":73222},75790,2568,3.5071426620414625E-2]
[]
[]
[]
[null,"Изменение количества уникальных клиентов - ретроспективные данные"]
[]
[]
[]
[null,"Количество уникальных клиентов в Системе торгов (по состоянию на последний день месяца) (ежегодная статистика):",null,null,null,null,null,"Таблица 1"]
[null,"Группы клиентов",null,null,"2011-12-31","2012-12-31","2013-12-31","2014-12-31","2015-12-31"]
[null,"Физические лица",null,null,772175,805549,881844,944559,1006751]
[null,"Юридические лица",null,null,16850,17821,19539,20178,20753]
[null,"Иностранные лица",null,null,5058,5876,6957,7486,8729]
[null,"Клиенты, передавшие свои средства в ДУ",null,null,5242,5261,5182,5142,3836]
[null,"Всего",null,null,799325,834507,913522,977365,1040069]
[]
[]
[]
[]
[]
[]
[]
[]
[]
[]
[]
[]
[]
[]
[]
[]
[]
[]
[]
[]
[]
[]
[]
[]
[]
[]
[]
[null,"Количество уникальных клиентов в Системе торгов (по состоянию на последний день месяца) (за последние 6 месяцев):",null,null,null,null,null,"Таблица 2"]
[null,"Группы клиентов",{"$f":"EDATE(D83,-1)","v":"2015-09-29"},{"$f":"EDATE(E83,-1)","v":"2015-10-29"},{"$f":"EDATE(F83,-1)","v":"2015-11-29"},{"$f":"EDATE(G83,-1)","v":"2015-12-29"},{"$f":"EDATE(H83,-1)","v":"2016-01-29"},{"$f":"EDATE(E11,1)","v":"2016-02-29"}]
[null,"Физические лица",993268,996118,1001556,1006751,1012875,1006765]
[null,"Юридические лица",21072,20973,21007,20753,20804,18908]
[null,"Иностранные лица",8775,8894,8699,8729,8764,8657]
[null,"Клиенты, передавшие свои средства в ДУ",4323,4266,4148,3836,3848,2930]
[null,"Всего",1027438,1030251,1035410,1040069,1046291,1037260]
[]
[]
[]
[]
[]
[]
[]
[]
[]
[]
[]
[]
[]
[]
[]
[]
[]
[]
[]
[]
[]
[]
[]
[]
[]
[]
[]
[]
[]
[]
[]
[]
[]
[]
[]
[null,"Дополнительные показатели за",{"$f":"B3","v":"2016-02-29"}]
[]
[]
[null,null,null,null,null,null,null,"Таблица 1"]
[null,"Участники торгов",null,null,null,null,"Абсолютные показатели"]
[null,"Количество Участников торгов, имеющих активных клиентов",null,null,null,null,379]
[]
[]
[]
[null,"Списки ведущих операторов фондового рынка - клиенты Участников торгов за ",null,null,null,{"$f":"C6","v":"2016-02-29"}]
[]
[]
[null,"Ведущие операторы рынка – число зарегистрированных клиентов",null,null,null,null,null,"Таблица 1"]
[null,"(по общему количеству уникальных клиентов всех типов, зарегистрированных в системе торгов биржи, в том числе  в течение месяца) "]
[null,"Наименование Участника торгов",null,null,null,null,"Количество клиентов"]
[null,"ВТБ 24 (ПАО)","ВТБ 24 (ПАО)","ВТБ 24 (ПАО)","ВТБ 24 (ПАО)","ВТБ 24 (ПАО)",230467,230467]
[null,"Сбербанк","Сбербанк","Сбербанк","Сбербанк","Сбербанк",182037,182037]
[null,"АО \"ФИНАМ\"","АО \"ФИНАМ\"","АО \"ФИНАМ\"","АО \"ФИНАМ\"","АО \"ФИНАМ\"",145047,145047]
[null,"ФГ БКС","ФГ БКС","ФГ БКС","ФГ БКС","ФГ БКС",145043,145043]
[null,"ФГ \"ОТКРЫТИЕ\"","ФГ \"ОТКРЫТИЕ\"","ФГ \"ОТКРЫТИЕ\"","ФГ \"ОТКРЫТИЕ\"","ФГ \"ОТКРЫТИЕ\"",76490,76490]
[null,"АО \"АЛЬФА-БАНК\"","АО \"АЛЬФА-БАНК\"","АО \"АЛЬФА-БАНК\"","АО \"АЛЬФА-БАНК\"","АО \"АЛЬФА-БАНК\"",61367,61367]
[null,"ООО \"АТОН\"","ООО \"АТОН\"","ООО \"АТОН\"","ООО \"АТОН\"","ООО \"АТОН\"",48201,48201]
[null,"АЛОР БРОКЕР","АЛОР БРОКЕР","АЛОР БРОКЕР","АЛОР БРОКЕР","АЛОР БРОКЕР",32267,32267]
[null,"КИТ Финанс (ООО)","КИТ Финанс (ООО)","КИТ Финанс (ООО)","КИТ Финанс (ООО)","КИТ Финанс (ООО)",21036,21036]
[null,"ООО \"Инвестиционная палата\"","ООО \"Инвестиционная палата\"","ООО \"Инвестиционная палата\"","ООО \"Инвестиционная палата\"","ООО \"Инвестиционная палата\"",19859,19859]
[]
[]
[null,"Ведущие операторы рынка – число активных клиентов",null,null,null,null,null,"Таблица 2"]
[null,"(по количеству уникальных клиентов, совершивших хотя бы одну сделку за месяц)"]
[null,"Наименование Участника торгов",null,null,null,null,"Количество клиентов"]
[null,"Сбербанк","Сбербанк","Сбербанк","Сбербанк","Сбербанк",13681,13681]
[null,"ФГ БКС","ФГ БКС","ФГ БКС","ФГ БКС","ФГ БКС",11170,11170]
[null,"АО \"ФИНАМ\"","АО \"ФИНАМ\"","АО \"ФИНАМ\"","АО \"ФИНАМ\"","АО \"ФИНАМ\"",11116,11116]
[null,"ВТБ 24 (ПАО)","ВТБ 24 (ПАО)","ВТБ 24 (ПАО)","ВТБ 24 (ПАО)","ВТБ 24 (ПАО)",10956,10956]
[null,"ФГ \"ОТКРЫТИЕ\"","ФГ \"ОТКРЫТИЕ\"","ФГ \"ОТКРЫТИЕ\"","ФГ \"ОТКРЫТИЕ\"","ФГ \"ОТКРЫТИЕ\"",7875,7875]
[null,"АО \"АЛЬФА-БАНК\"","АО \"АЛЬФА-БАНК\"","АО \"АЛЬФА-БАНК\"","АО \"АЛЬФА-БАНК\"","АО \"АЛЬФА-БАНК\"",4262,4262]
[null,"ООО \"АТОН\"","ООО \"АТОН\"","ООО \"АТОН\"","ООО \"АТОН\"","ООО \"АТОН\"",2937,2937]
[null,"Банк ГПБ (АО)","Банк ГПБ (АО)","Банк ГПБ (АО)","Банк ГПБ (АО)","Банк ГПБ (АО)",2285,2285]
[null,"ПАО \"Промсвязьбанк\"","ПАО \"Промсвязьбанк\"","ПАО \"Промсвязьбанк\"","ПАО \"Промсвязьбанк\"","ПАО \"Промсвязьбанк\"",1503,1503]
[null,"КИТ Финанс (ООО)","КИТ Финанс (ООО)","КИТ Финанс (ООО)","КИТ Финанс (ООО)","КИТ Финанс (ООО)",1326,1326]
[]
[]
[null,"Ведущие операторы рынка – объем клиентских операций",null,null,null,null,null,"Таблица 3"]
[null,"(по стоимостному объему сделок, заключенных в интересах клиентов за месяц) "]
[null,"Наименование Участника торгов",null,null,null,null,"Торговый оборот, руб."]
[null,"ООО \"Ренессанс Брокер\" ","ООО \"Ренессанс Брокер\" ","ООО \"Ренессанс Брокер\" ","ООО \"Ренессанс Брокер\" ","ООО \"Ренессанс Брокер\" ",1229411259415.52,1229411259415.52]
[null,"ФГ БКС","ФГ БКС","ФГ БКС","ФГ БКС","ФГ БКС",1160833306621.49,1160833306621.49]
[null,"ФГ \"ОТКРЫТИЕ\"","ФГ \"ОТКРЫТИЕ\"","ФГ \"ОТКРЫТИЕ\"","ФГ \"ОТКРЫТИЕ\"","ФГ \"ОТКРЫТИЕ\"",818271925055.15002,818271925055.15002]
[null,"Сбербанк","Сбербанк","Сбербанк","Сбербанк","Сбербанк",591253321755.32996,591253321755.32996]
[null,"ООО \"ИФК \"МЕТРОПОЛЬ\"","ООО \"ИФК \"МЕТРОПОЛЬ\"","ООО \"ИФК \"МЕТРОПОЛЬ\"","ООО \"ИФК \"МЕТРОПОЛЬ\"","ООО \"ИФК \"МЕТРОПОЛЬ\"",365884082071.58002,365884082071.58002]
[null,"ПАО \"Промсвязьбанк\"","ПАО \"Промсвязьбанк\"","ПАО \"Промсвязьбанк\"","ПАО \"Промсвязьбанк\"","ПАО \"Промсвязьбанк\"",349480837138.42999,349480837138.42999]
[null,"ООО \"ИК ВЕЛЕС Капитал\"","ООО \"ИК ВЕЛЕС Капитал\"","ООО \"ИК ВЕЛЕС Капитал\"","ООО \"ИК ВЕЛЕС Капитал\"","ООО \"ИК ВЕЛЕС Капитал\"",321738443618.26001,321738443618.26001]
[null,"ООО \"БК РЕГИОН\"","ООО \"БК РЕГИОН\"","ООО \"БК РЕГИОН\"","ООО \"БК РЕГИОН\"","ООО \"БК РЕГИОН\"",272733916761.54001,272733916761.54001]
[null,"АО \"ФИНАМ\"","АО \"ФИНАМ\"","АО \"ФИНАМ\"","АО \"ФИНАМ\"","АО \"ФИНАМ\"",255271472047.64999,255271472047.64999]
[null,"ООО \"АТОН\"","ООО \"АТОН\"","ООО \"АТОН\"","ООО \"АТОН\"","ООО \"АТОН\"",249969984976.91,249969984976.91]

{"sheet":"March","index":2,"n_rows":178,"n_cols":9,"rows_kept":178,"cut":false,"hidden":false,"merged":[[22,1,22,3],[1,1,1,7],[2,1,2,7],[2,8,2,13],[10,1,10,3],[11,1,11,3],[12,1,12,3],[13,1,13,3],[14,1,14,3],[15,1,15,3],[16,1,16,3],[21,1,21,3],[38,1,38,3],[23,1,23,3],[24,1,24,3],[25,1,25,3],[26,1,26,3],[27,1,27,3],[32,1,32,3],[33,1,33,3],[34,1,34,3],[35,1,35,3],[36,1,36,3],[37,1,37,3],[137,1,137,5],[137,6,137,7],[47,7,47,8],[48,1,48,3],[49,1,49,3],[50,1,50,3],[51,1,51,3],[52,1,52,3],[53,1,53,3],[127,1,127,5],[127,6,127,7],[128,1,128,5],[128,6,128,7],[138,1,138,5],[138,6,138,7],[139,1,139,5],[139,6,139,7],[140,1,140,5],[140,6,140,7],[141,1,141,5],[141,6,141,7],[142,1,142,5],[142,6,142,7],[143,1,143,5],[143,6,143,7],[144,1,144,5],[144,6,144,7],[145,1,145,5],[145,6,145,7],[146,1,146,5],[146,6,146,7],[147,1,147,5],[147,6,147,7],[152,1,152,5],[152,6,152,7],[153,1,153,5],[153,6,153,7],[154,1,154,5],[154,6,154,7],[155,1,155,5],[155,6,155,7],[156,1,156,5],[156,6,156,7],[157,1,157,5],[157,6,157,7],[158,1,158,5],[158,6,158,7],[159,1,159,5],[159,6,159,7],[170,1,170,5],[170,6,170,7],[160,1,160,5],[160,6,160,7],[161,1,161,5],[161,6,161,7],[162,1,162,5],[162,6,162,7],[167,6,167,7],[168,1,168,5],[168,6,168,7],[169,1,169,5],[169,6,169,7],[167,1,167,5],[171,1,171,5],[171,6,171,7],[172,1,172,5],[172,6,172,7],[173,1,173,5],[173,6,173,7],[177,1,177,5],[177,6,177,7],[174,1,174,5],[174,6,174,7],[175,1,175,5],[175,6,175,7],[176,1,176,5],[176,6,176,7]]}
[]
[null,"Клиенты Участников торгов Фондовой биржи ММВБ"]
[null,"2016-03-31"]
[]
[]
[null,"Динамика количества клиентов за ",{"$f":"B3","v":"2016-03-31"}]
[]
[]
[]
[null,"Количество зарегистрированных клиентов в Системе торгов (по состоянию на последний день месяца):",null,null,null,null,null,"Таблица 1"]
[null,"Группы клиентов",null,null,{"$f":"EDATE(B3,-1)","v":"2016-02-29"},{"$f":"B3","v":"2016-03-31"},"Изменение (ед.)","Изменение (%)"]
[null,"Физические лица",null,null,{"$f":"February!F12","v":1299435},1311606,{"$f":"F12-E12","v":12171},{"$f":"F12/E12-1","v":9.3663784644864023E-3}]
[null,"Юридические лица",null,null,{"$f":"February!F13","v":30184},30416,{"$f":"F13-E13","v":232},7.6861913596606435E-3]
[null,"Иностранные лица",null,null,{"$f":"February!F14","v":13261},13565,304,2.2924364678380105E-2]
[null,"Иностранные физические лица ",null,null,{"$f":"February!F15","v":5006},5131,125,2.4970035956851877E-2]
[null,"Иностранные юридические лица ",null,null,{"$f":"February!F16","v":8255},8434,179,2.1683827983040471E-2]
[null,"Клиенты, передавшие свои средства в ДУ",null,null,{"$f":"February!F17","v":14108},13312,-796,-5.6421888290331679E-2]
[null,"Всего",null,null,{"$f":"February!F18","v":1356988},1368899,11911,8.7775278779178567E-3]
[]
[]
[null,"Количество уникальных клиентов в Системе торгов (по состоянию на последний день месяца):",null,null,null,null,null,"Таблица 2"]
[null,"Группы клиентов",null,null,{"$f":"EDATE(B3,-1)","v":"2016-02-29"},{"$f":"F11","v":"2016-03-31"},"Изменение (ед.)","Изменение (%)"]
[null,"Физические лица",null,null,{"$f":"February!F23","v":1006765},1008379,{"$f":"F23-E23","v":1614},{"$f":"F23/E23-1","v":1.6031546587336187E-3}]
[null,"Юридические лица",null,null,{"$f":"February!F24","v":18908},19035,{"$f":"F24-E24","v":127},{"$f":"F24/E24-1","v":6.7167336577109715E-3}]
[null,"Иностранные лица",null,null,{"$f":"February!F25","v":8657},8480,-177,-2.0445881945246658E-2]
[null,"Иностранные физические лица ",null,null,{"$f":"February!F26","v":4697},4794,97,2.0651479667873174E-2]
[null,"Иностранные юридические лица ",null,null,{"$f":"February!F27","v":3960},3686,-274,-6.9191919191919138E-2]
[null,"Клиенты, передавшие свои средства в ДУ",null,null,{"$f":"February!F28","v":2930},2548,-382,-0.13037542662116042]
[null,"Всего",null,null,{"$f":"February!F29","v":1037260},1038442,1182,1.1395407130323498E-3]
[]
[]
[null,"Количество активных клиентов в Системе торгов (совершивших в течение месяца хотя бы одну сделку):",null,null,null,null,null,"Таблица 3"]
[null,"Группы клиентов",null,null,{"$f":"EDATE(B3,-1)","v":"2016-02-29"},{"$f":"F11","v":"2016-03-31"},"Изменение (ед.)","Изменение (%)"]
[null,"Физические лица",null,null,{"$f":"February!F34","v":73550},79397,{"$f":"F34-E34","v":5847},{"$f":"F34/E34-1","v":7.9496940856560228E-2}]
[null,"Юридические лица",null,null,{"$f":"February!F35","v":1044},1099,55,5.268199233716464E-2]
[null,"Иностранные лица",null,null,{"$f":"February!F36","v":642},670,28,4.3613707165109039E-2]
[null,"Иностранные физические лица ",null,null,{"$f":"February!F37","v":318},336,18,5.6603773584905648E-2]
[null,"Иностранные юридические лица ",null,null,{"$f":"February!F38","v":324},334,10,3.0864197530864113E-2]
[null,"Клиенты, передавшие свои средства в ДУ",null,null,{"$f":"February!F39","v":554},506,-48,-8.6642599277978349E-2]
[null,"Всего",null,null,{"$f":"February!F40","v":75790},81672,5882,7.7609183269560678E-2]
[]
[]
[]
[null,"Изменение количества уникальных клиентов - ретроспективные данные"]
[]
[]
[]
[null,"Количество уникальных клиентов в Системе торгов (по состоянию на последний день месяца) (ежегодная статистика):",null,null,null,null,null,"Таблица 1"]
[null,"Группы клиентов",null,null,"2011-12-31","2012-12-31","2013-12-31","2014-12-31","2015-12-31"]
[null,"Физические лица",null,null,772175,805549,881844,944559,1006751]
[null,"Юридические лица",null,null,16850,17821,19539,20178,20753]
[null,"Иностранные лица",null,null,5058,5876,6957,7486,8729]
[null,"Клиенты, передавшие свои средства в ДУ",null,null,5242,5261,5182,5142,3836]
[null,"Всего",null,null,799325,834507,913522,977365,1040069]
[]
[]
[]
[]
[]
[]
[]
[]
[]
[]
[]
[]
[]
[]
[]
[]
[]
[]
[]
[]
[]
[]
[]
[]
[]
[]
[]
[null,"Количество уникальных клиентов в Системе торгов (по состоянию на последний день месяца) (за последние 6 месяцев):",null,null,null,null,null,"Таблица 2"]
[null,"Группы клиентов",{"$f":"EDATE(D83,-1)","v":"2015-10-29"},{"$f":"EDATE(E83,-1)","v":"2015-11-29"},{"$f":"EDATE(F83,-1)","v":"2015-12-29"},{"$f":"EDATE(G83,-1)","v":"2016-01-29"},{"$f":"EDATE(H83,-1)","v":"2016-02-29"},{"$f":"EDATE(E11,1)","v":"2016-03-29"}]
[null,"Физические лица",996118,1001556,1006751,1012875,1006765,1008379]
[null,"Юридические лица",20973,21007,20753,20804,18908,19035]
[null,"Иностранные лица",8894,8699,8729,8764,8657,8480]
[null,"Клиенты, передавшие свои средства в ДУ",4266,4148,3836,3848,2930,2548]
[null,"Всего",1030251,1035410,1040069,1046291,1037260,1038442]
[]
[]
[]
[]
[]
[]
[]
[]
[]
[]
[]
[]
[]
[]
[]
[]
[]
[]
[]
[]
[]
[]
[]
[]
[]
[]
[]
[]
[]
[]
[]
[]
[]
[]
[]
[null,"Дополнительные показатели за",{"$f":"B3","v":"2016-03-31"}]
[]
[]
[null,null,null,null,null,null,null,"Таблица 1"]
[null,"Участники торгов",null,null,null,null,"Абсолютные показатели"]
[null,"Количество Участников торгов, имеющих активных клиентов",null,null,null,null,381]
[]
[]
[]
[null,"Списки ведущих операторов фондового рынка - клиенты Участников торгов за ",null,null,null,{"$f":"C6","v":"2016-03-31"}]
[]
[]
[null,"Ведущие операторы рынка – число зарегистрированных клиентов",null,null,null,null,null,"Таблица 1"]
[null,"(по общему количеству уникальных клиентов всех типов, зарегистрированных в системе торгов биржи, в том числе  в течение месяца) "]
[null,"Наименование Участника торгов",null,null,null,null,"Количество клиентов"]
[null,"ВТБ 24 (ПАО)","ВТБ 24 (ПАО)","ВТБ 24 (ПАО)","ВТБ 24 (ПАО)","ВТБ 24 (ПАО)",232070,232070]
[null,"Сбербанк","Сбербанк","Сбербанк","Сбербанк","Сбербанк",182238,182238]
[null,"АО \"ФИНАМ\"","АО \"ФИНАМ\"","АО \"ФИНАМ\"","АО \"ФИНАМ\"","АО \"ФИНАМ\"",148635,148635]
[null,"ФГ БКС","ФГ БКС","ФГ БКС","ФГ БКС","ФГ БКС",147052,147052]
[null,"ФГ \"ОТКРЫТИЕ\"","ФГ \"ОТКРЫТИЕ\"","ФГ \"ОТКРЫТИЕ\"","ФГ \"ОТКРЫТИЕ\"","ФГ \"ОТКРЫТИЕ\"",78989,78989]
[null,"АО \"АЛЬФА-БАНК\"","АО \"АЛЬФА-БАНК\"","АО \"АЛЬФА-БАНК\"","АО \"АЛЬФА-БАНК\"","АО \"АЛЬФА-БАНК\"",61711,61711]
[null,"ООО \"АТОН\"","ООО \"АТОН\"","ООО \"АТОН\"","ООО \"АТОН\"","ООО \"АТОН\"",48374,48374]
[null,"АЛОР БРОКЕР","АЛОР БРОКЕР","АЛОР БРОКЕР","АЛОР БРОКЕР","АЛОР БРОКЕР",32385,32385]
[null,"КИТ Финанс (ООО)","КИТ Финанс (ООО)","КИТ Финанс (ООО)","КИТ Финанс (ООО)","КИТ Финанс (ООО)",21167,21167]
[null,"ООО \"Инвестиционная палата\"","ООО \"Инвестиционная палата\"","ООО \"Инвестиционная палата\"","ООО \"Инвестиционная палата\"","ООО \"Инвестиционная палата\"",19859,19859]
[]
[]
[null,"Ведущие операторы рынка – число активных клиентов",null,null,null,null,null,"Таблица 2"]
[null,"(по количеству уникальных клиентов, совершивших хотя бы одну сделку за месяц)"]
[null,"Наименование Участника торгов",null,null,null,null,"Количество клиентов"]
[null,"Сбербанк","Сбербанк","Сбербанк","Сбербанк","Сбербанк",15279,15279]
[null,"ФГ БКС","ФГ БКС","ФГ БКС","ФГ БКС","ФГ БКС",12165,12165]
[null,"АО \"ФИНАМ\"","АО \"ФИНАМ\"","АО \"ФИНАМ\"","АО \"ФИНАМ\"","АО \"ФИНАМ\"",11885,11885]
[null,"ВТБ 24 (ПАО)","ВТБ 24 (ПАО)","ВТБ 24 (ПАО)","ВТБ 24 (ПАО)","ВТБ 24 (ПАО)",11417,11417]
[null,"ФГ \"ОТКРЫТИЕ\"","ФГ \"ОТКРЫТИЕ\"","ФГ \"ОТКРЫТИЕ\"","ФГ \"ОТКРЫТИЕ\"","ФГ \"ОТКРЫТИЕ\"",8584,8584]
[null,"АО \"АЛЬФА-БАНК\"","АО \"АЛЬФА-БАНК\"","АО \"АЛЬФА-БАНК\"","АО \"АЛЬФА-БАНК\"","АО \"АЛЬФА-БАНК\"",4491,4491]
[null,"ООО \"АТОН\"","ООО \"АТОН\"","ООО \"АТОН\"","ООО \"АТОН\"","ООО \"АТОН\"",3115,3115]
[null,"Банк ГПБ (АО)","Банк ГПБ (АО)","Банк ГПБ (АО)","Банк ГПБ (АО)","Банк ГПБ (АО)",2509,2509]
[null,"ПАО \"Промсвязьбанк\"","ПАО \"Промсвязьбанк\"","ПАО \"Промсвязьбанк\"","ПАО \"Промсвязьбанк\"","ПАО \"Промсвязьбанк\"",1578,1578]
[null,"КИТ Финанс (ООО)","КИТ Финанс (ООО)","КИТ Финанс (ООО)","КИТ Финанс (ООО)","КИТ Финанс (ООО)",1440,1440]
[]
[]
[null,"Ведущие операторы рынка – объем клиентских операций",null,null,null,null,null,"Таблица 3"]
[null,"(по стоимостному объему сделок, заключенных в интересах клиентов за месяц) "]
[null,"Наименование Участника торгов",null,null,null,null,"Торговый оборот, руб."]
[null,"ФГ БКС","ФГ БКС","ФГ БКС","ФГ БКС","ФГ БКС",1335242569579.99,1335242569579.99]
[null,"ООО \"Ренессанс Брокер\" ","ООО \"Ренессанс Брокер\" ","ООО \"Ренессанс Брокер\" ","ООО \"Ренессанс Брокер\" ","ООО \"Ренессанс Брокер\" ",1122119956910.1201,1122119956910.1201]
[null,"ФГ \"ОТКРЫТИЕ\"","ФГ \"ОТКРЫТИЕ\"","ФГ \"ОТКРЫТИЕ\"","ФГ \"ОТКРЫТИЕ\"","ФГ \"ОТКРЫТИЕ\"",911488246069.604,911488246069.604]
[null,"Сбербанк","Сбербанк","Сбербанк","Сбербанк","Сбербанк",511305722564.13,511305722564.13]
[null,"ООО \"ИК ВЕЛЕС Капитал\"","ООО \"ИК ВЕЛЕС Капитал\"","ООО \"ИК ВЕЛЕС Капитал\"","ООО \"ИК ВЕЛЕС Капитал\"","ООО \"ИК ВЕЛЕС Капитал\"",383770142965.28998,383770142965.28998]
[null,"ООО \"БК РЕГИОН\"","ООО \"БК РЕГИОН\"","ООО \"БК РЕГИОН\"","ООО \"БК РЕГИОН\"","ООО \"БК РЕГИОН\"",379891793950.26099,379891793950.26099]
[null,"ООО \"ИФК \"МЕТРОПОЛЬ\"","ООО \"ИФК \"МЕТРОПОЛЬ\"","ООО \"ИФК \"МЕТРОПОЛЬ\"","ООО \"ИФК \"МЕТРОПОЛЬ\"","ООО \"ИФК \"МЕТРОПОЛЬ\"",366762817954.65002,366762817954.65002]
[null,"ПАО \"Промсвязьбанк\"","ПАО \"Промсвязьбанк\"","ПАО \"Промсвязьбанк\"","ПАО \"Промсвязьбанк\"","ПАО \"Промсвязьбанк\"",335352624763.19,335352624763.19]
[null,"ООО \"АТОН\"","ООО \"АТОН\"","ООО \"АТОН\"","ООО \"АТОН\"","ООО \"АТОН\"",313898922142.06897,313898922142.06897]
[null,"АО \"ФИНАМ\"","АО \"ФИНАМ\"","АО \"ФИНАМ\"","АО \"ФИНАМ\"","АО \"ФИНАМ\"",309494372929.87,309494372929.87]

{"sheet":"April","index":3,"n_rows":178,"n_cols":9,"rows_kept":178,"cut":false,"hidden":false,"merged":[[22,1,22,3],[1,1,1,7],[2,1,2,7],[2,8,2,13],[10,1,10,3],[11,1,11,3],[12,1,12,3],[13,1,13,3],[14,1,14,3],[15,1,15,3],[16,1,16,3],[21,1,21,3],[38,1,38,3],[23,1,23,3],[24,1,24,3],[25,1,25,3],[26,1,26,3],[27,1,27,3],[32,1,32,3],[33,1,33,3],[34,1,34,3],[35,1,35,3],[36,1,36,3],[37,1,37,3],[137,1,137,5],[137,6,137,7],[47,7,47,8],[48,1,48,3],[49,1,49,3],[50,1,50,3],[51,1,51,3],[52,1,52,3],[53,1,53,3],[127,1,127,5],[127,6,127,7],[128,1,128,5],[128,6,128,7],[138,1,138,5],[138,6,138,7],[139,1,139,5],[139,6,139,7],[140,1,140,5],[140,6,140,7],[141,1,141,5],[141,6,141,7],[142,1,142,5],[142,6,142,7],[143,1,143,5],[143,6,143,7],[144,1,144,5],[144,6,144,7],[145,1,145,5],[145,6,145,7],[146,1,146,5],[146,6,146,7],[147,1,147,5],[147,6,147,7],[152,1,152,5],[152,6,152,7],[153,1,153,5],[153,6,153,7],[154,1,154,5],[154,6,154,7],[155,1,155,5],[155,6,155,7],[156,1,156,5],[156,6,156,7],[157,1,157,5],[157,6,157,7],[158,1,158,5],[158,6,158,7],[159,1,159,5],[159,6,159,7],[170,1,170,5],[170,6,170,7],[160,1,160,5],[160,6,160,7],[161,1,161,5],[161,6,161,7],[162,1,162,5],[162,6,162,7],[167,6,167,7],[168,1,168,5],[168,6,168,7],[169,1,169,5],[169,6,169,7],[167,1,167,5],[171,1,171,5],[171,6,171,7],[172,1,172,5],[172,6,172,7],[173,1,173,5],[173,6,173,7],[177,1,177,5],[177,6,177,7],[174,1,174,5],[174,6,174,7],[175,1,175,5],[175,6,175,7],[176,1,176,5],[176,6,176,7]]}
[]
[null,"Клиенты Участников торгов Фондовой биржи ММВБ"]
[null,"2016-04-30"]
[]
[]
[null,"Динамика количества клиентов за ",{"$f":"B3","v":"2016-04-30"}]
[]
[]
[]
[null,"Количество зарегистрированных клиентов в Системе торгов (по состоянию на последний день месяца):",null,null,null,null,null,"Таблица 1"]
[null,"Группы клиентов",null,null,{"$f":"EDATE(B3,-1)","v":"2016-03-30"},{"$f":"B3","v":"2016-04-30"},"Изменение (ед.)","Изменение (%)"]
[null,"Физические лица",null,null,{"$f":"March!F12","v":1311606},1345077,{"$f":"F12-E12","v":33471},{"$f":"F12/E12-1","v":2.5519096435972388E-2}]
[null,"Юридические лица",null,null,{"$f":"March!F13","v":30416},32138,{"$f":"F13-E13","v":1722},5.6614939505523321E-2]
[null,"Иностранные лица",null,null,{"$f":"March!F14","v":13565},13635,70,5.1603391079986238E-3]
[null,"Иностранные физические лица ",null,null,{"$f":"March!F15","v":5131},5458,327,6.3730267004482588E-2]
[null,"Иностранные юридические лица ",null,null,{"$f":"March!F16","v":8434},8177,-257,-3.0471899454588613E-2]
[null,"Клиенты, передавшие свои средства в ДУ",null,null,{"$f":"March!F17","v":13312},12595,-717,-5.3861177884615419E-2]
[null,"Всего",null,null,{"$f":"March!F18","v":1368899},1403445,34546,2.5236339569244981E-2]
[]
[]
[null,"Количество уникальных клиентов в Системе торгов (по состоянию на последний день месяца):",null,null,null,null,null,"Таблица 2"]
[null,"Группы клиентов",null,null,{"$f":"EDATE(B3,-1)","v":"2016-03-30"},{"$f":"F11","v":"2016-04-30"},"Изменение (ед.)","Изменение (%)"]
[null,"Физические лица",null,null,{"$f":"March!F23","v":1008379},1014752,{"$f":"F23-E23","v":6373},{"$f":"F23/E23-1","v":6.3200443484046076E-3}]
[null,"Юридические лица",null,null,{"$f":"March!F24","v":19035},19023,{"$f":"F24-E24","v":-12},{"$f":"F24/E24-1","v":-6.3041765169424835E-4}]
[null,"Иностранные лица",null,null,{"$f":"March!F25","v":8480},8800,320,3.7735849056603765E-2]
[null,"Иностранные физические лица ",null,null,{"$f":"March!F26","v":4794},5052,258,5.3817271589486904E-2]
[null,"Иностранные юридические лица ",null,null,{"$f":"March!F27","v":3686},3748,62,1.6820401519262118E-2]
[null,"Клиенты, передавшие свои средства в ДУ",null,null,{"$f":"March!F28","v":2548},1422,-1126,-0.4419152276295133]
[null,"Всего",null,null,{"$f":"March!F29","v":1038442},1043997,5555,5.3493599064753372E-3]
[]
[]
[null,"Количество активных клиентов в Системе торгов (совершивших в течение месяца хотя бы одну сделку):",null,null,null,null,null,"Таблица 3"]
[null,"Группы клиентов",null,null,{"$f":"EDATE(B3,-1)","v":"2016-03-30"},{"$f":"F11","v":"2016-04-30"},"Изменение (ед.)","Изменение (%)"]
[null,"Физические лица",null,null,{"$f":"March!F34","v":79397},80653,{"$f":"F34-E34","v":1256},{"$f":"F34/E34-1","v":1.5819237502676442E-2}]
[null,"Юридические лица",null,null,{"$f":"March!F35","v":1099},1150,51,4.6405823475887065E-2]
[null,"Иностранные лица",null,null,{"$f":"March!F36","v":670},665,-5,-7.4626865671642006E-3]
[null,"Иностранные физические лица ",null,null,{"$f":"March!F37","v":336},332,-4,-1.1904761904761862E-2]
[null,"Иностранные юридические лица ",null,null,{"$f":"March!F38","v":334},333,-1,-2.9940119760478723E-3]
[null,"Клиенты, передавшие свои средства в ДУ",null,null,{"$f":"March!F39","v":506},524,18,3.5573122529644285E-2]
[null,"Всего",null,null,{"$f":"March!F40","v":81672},82992,1320,1.6162209814869266E-2]
[]
[]
[]
[null,"Изменение количества уникальных клиентов - ретроспективные данные"]
[]
[]
[]
[null,"Количество уникальных клиентов в Системе торгов (по состоянию на последний день месяца) (ежегодная статистика):",null,null,null,null,null,"Таблица 1"]
[null,"Группы клиентов",null,null,"2011-12-31","2012-12-31","2013-12-31","2014-12-31","2015-12-31"]
[null,"Физические лица",null,null,772175,805549,881844,944559,1006751]
[null,"Юридические лица",null,null,16850,17821,19539,20178,20753]
[null,"Иностранные лица",null,null,5058,5876,6957,7486,8729]
[null,"Клиенты, передавшие свои средства в ДУ",null,null,5242,5261,5182,5142,3836]
[null,"Всего",null,null,799325,834507,913522,977365,1040069]
[]
[]
[]
[]
[]
[]
[]
[]
[]
[]
[]
[]
[]
[]
[]
[]
[]
[]
[]
[]
[]
[]
[]
[]
[]
[]
[]
[null,"Количество уникальных клиентов в Системе торгов (по состоянию на последний день месяца) (за последние 6 месяцев):",null,null,null,null,null,"Таблица 2"]
[null,"Группы клиентов",{"$f":"EDATE(D83,-1)","v":"2015-11-29"},{"$f":"EDATE(E83,-1)","v":"2015-12-29"},{"$f":"EDATE(F83,-1)","v":"2016-01-29"},{"$f":"EDATE(G83,-1)","v":"2016-02-29"},{"$f":"EDATE(H83,-1)","v":"2016-03-30"},{"$f":"EDATE(E11,1)","v":"2016-04-30"}]
[null,"Физические лица",1001556,1006751,1012875,1006765,1008379,1014752]
[null,"Юридические лица",21007,20753,20804,18908,19035,19023]
[null,"Иностранные лица",8699,8729,8764,8657,8480,8800]
[null,"Клиенты, передавшие свои средства в ДУ",4148,3836,3848,2930,2548,1422]
[null,"Всего",1035410,1040069,1046291,1037260,1038442,1043997]
[]
[]
[]
[]
[]
[]
[]
[]
[]
[]
[]
[]
[]
[]
[]
[]
[]
[]
[]
[]
[]
[]
[]
[]
[]
[]
[]
[]
[]
[]
[]
[]
[]
[]
[]
[null,"Дополнительные показатели за",{"$f":"B3","v":"2016-04-30"}]
[]
[]
[null,null,null,null,null,null,null,"Таблица 1"]
[null,"Участники торгов",null,null,null,null,"Абсолютные показатели"]
[null,"Количество Участников торгов, имеющих активных клиентов",null,null,null,null,376]
[]
[]
[]
[null,"Списки ведущих операторов фондового рынка - клиенты Участников торгов за ",null,null,null,{"$f":"C6","v":"2016-04-30"}]
[]
[]
[null,"Ведущие операторы рынка – число зарегистрированных клиентов",null,null,null,null,null,"Таблица 1"]
[null,"(по общему количеству уникальных клиентов всех типов, зарегистрированных в системе торгов биржи, в том числе  в течение месяца) "]
[null,"Наименование Участника торгов",null,null,null,null,"Количество клиентов"]
[null,"ВТБ 24 (ПАО)","ВТБ 24 (ПАО)","ВТБ 24 (ПАО)","ВТБ 24 (ПАО)","ВТБ 24 (ПАО)",233329,233329]
[null,"Сбербанк","Сбербанк","Сбербанк","Сбербанк","Сбербанк",182259,182259]
[null,"АО \"ФИНАМ\"","АО \"ФИНАМ\"","АО \"ФИНАМ\"","АО \"ФИНАМ\"","АО \"ФИНАМ\"",148959,148959]
[null,"ФГ БКС","ФГ БКС","ФГ БКС","ФГ БКС","ФГ БКС",148913,148913]
[null,"ФГ \"ОТКРЫТИЕ\"","ФГ \"ОТКРЫТИЕ\"","ФГ \"ОТКРЫТИЕ\"","ФГ \"ОТКРЫТИЕ\"","ФГ \"ОТКРЫТИЕ\"",81157,81157]
[null,"АО \"АЛЬФА-БАНК\"","АО \"АЛЬФА-БАНК\"","АО \"АЛЬФА-БАНК\"","АО \"АЛЬФА-БАНК\"","АО \"АЛЬФА-БАНК\"",61725,61725]
[null,"ООО \"АТОН\"","ООО \"АТОН\"","ООО \"АТОН\"","ООО \"АТОН\"","ООО \"АТОН\"",48571,48571]
[null,"АЛОР БРОКЕР","АЛОР БРОКЕР","АЛОР БРОКЕР","АЛОР БРОКЕР","АЛОР БРОКЕР",32500,32500]
[null,"КИТ Финанс (ООО)","КИТ Финанс (ООО)","КИТ Финанс (ООО)","КИТ Финанс (ООО)","КИТ Финанс (ООО)",21198,21198]
[null,"ООО \"Инвестиционная палата\"","ООО \"Инвестиционная палата\"","ООО \"Инвестиционная палата\"","ООО \"Инвестиционная палата\"","ООО \"Инвестиционная палата\"",19859,19859]
[]
[]
[null,"Ведущие операторы рынка – число активных клиентов",null,null,null,null,null,"Таблица 2"]
[null,"(по количеству уникальных клиентов, совершивших хотя бы одну сделку за месяц)"]
[null,"Наименование Участника торгов",null,null,null,null,"Количество клиентов"]
[null,"Сбербанк","Сбербанк","Сбербанк","Сбербанк","Сбербанк",15321,15321]
[null,"ФГ БКС","ФГ БКС","ФГ БКС","ФГ БКС","ФГ БКС",12461,12461]
[null,"АО \"ФИНАМ\"","АО \"ФИНАМ\"","АО \"ФИНАМ\"","АО \"ФИНАМ\"","АО \"ФИНАМ\"",12099,12099]
[null,"ВТБ 24 (ПАО)","ВТБ 24 (ПАО)","ВТБ 24 (ПАО)","ВТБ 24 (ПАО)","ВТБ 24 (ПАО)",11356,11356]
[null,"ФГ \"ОТКРЫТИЕ\"","ФГ \"ОТКРЫТИЕ\"","ФГ \"ОТКРЫТИЕ\"","ФГ \"ОТКРЫТИЕ\"","ФГ \"ОТКРЫТИЕ\"",8789,8789]
[null,"АО \"АЛЬФА-БАНК\"","АО \"АЛЬФА-БАНК\"","АО \"АЛЬФА-БАНК\"","АО \"АЛЬФА-БАНК\"","АО \"АЛЬФА-БАНК\"",4445,4445]
[null,"ООО \"АТОН\"","ООО \"АТОН\"","ООО \"АТОН\"","ООО \"АТОН\"","ООО \"АТОН\"",3216,3216]
[null,"Банк ГПБ (АО)","Банк ГПБ (АО)","Банк ГПБ (АО)","Банк ГПБ (АО)","Банк ГПБ (АО)",2537,2537]
[null,"ПАО \"Промсвязьбанк\"","ПАО \"Промсвязьбанк\"","ПАО \"Промсвязьбанк\"","ПАО \"Промсвязьбанк\"","ПАО \"Промсвязьбанк\"",1665,1665]
[null,"КИТ Финанс (ООО)","КИТ Финанс (ООО)","КИТ Финанс (ООО)","КИТ Финанс (ООО)","КИТ Финанс (ООО)",1509,1509]
[]
[]
[null,"Ведущие операторы рынка – объем клиентских операций",null,null,null,null,null,"Таблица 3"]
[null,"(по стоимостному объему сделок, заключенных в интересах клиентов за месяц) "]
[null,"Наименование Участника торгов",null,null,null,null,"Торговый оборот, руб."]
[null,"ФГ БКС","ФГ БКС","ФГ БКС","ФГ БКС","ФГ БКС",1373528593133.1001,1373528593133.1001]
[null,"ООО \"Ренессанс Брокер\" ","ООО \"Ренессанс Брокер\" ","ООО \"Ренессанс Брокер\" ","ООО \"Ренессанс Брокер\" ","ООО \"Ренессанс Брокер\" ",1111967767953.1799,1111967767953.1799]
[null,"ФГ \"ОТКРЫТИЕ\"","ФГ \"ОТКРЫТИЕ\"","ФГ \"ОТКРЫТИЕ\"","ФГ \"ОТКРЫТИЕ\"","ФГ \"ОТКРЫТИЕ\"",1006373287927.47,1006373287927.47]
[null,"Сбербанк","Сбербанк","Сбербанк","Сбербанк","Сбербанк",586027562094.83398,586027562094.83398]
[null,"ООО \"БК РЕГИОН\"","ООО \"БК РЕГИОН\"","ООО \"БК РЕГИОН\"","ООО \"БК РЕГИОН\"","ООО \"БК РЕГИОН\"",560387980269.14001,560387980269.14001]
[null,"ООО \"ИФК \"МЕТРОПОЛЬ\"","ООО \"ИФК \"МЕТРОПОЛЬ\"","ООО \"ИФК \"МЕТРОПОЛЬ\"","ООО \"ИФК \"МЕТРОПОЛЬ\"","ООО \"ИФК \"МЕТРОПОЛЬ\"",361136820509.46002,361136820509.46002]
[null,"АО \"ФИНАМ\"","АО \"ФИНАМ\"","АО \"ФИНАМ\"","АО \"ФИНАМ\"","АО \"ФИНАМ\"",349435571602.20001,349435571602.20001]
[null,"ООО \"ИК ВЕЛЕС Капитал\"","ООО \"ИК ВЕЛЕС Капитал\"","ООО \"ИК ВЕЛЕС Капитал\"","ООО \"ИК ВЕЛЕС Капитал\"","ООО \"ИК ВЕЛЕС Капитал\"",341434696250.38,341434696250.38]
[null,"ПАО \"Промсвязьбанк\"","ПАО \"Промсвязьбанк\"","ПАО \"Промсвязьбанк\"","ПАО \"Промсвязьбанк\"","ПАО \"Промсвязьбанк\"",309113434371.56,309113434371.56]
[null,"ООО \"АТОН\"","ООО \"АТОН\"","ООО \"АТОН\"","ООО \"АТОН\"","ООО \"АТОН\"",285987729530.55701,285987729530.55701]

{"sheet":"May","index":4,"n_rows":178,"n_cols":9,"rows_kept":178,"cut":false,"hidden":false,"merged":[[22,1,22,3],[1,1,1,7],[2,1,2,7],[2,8,2,13],[10,1,10,3],[11,1,11,3],[12,1,12,3],[13,1,13,3],[14,1,14,3],[15,1,15,3],[16,1,16,3],[21,1,21,3],[38,1,38,3],[23,1,23,3],[24,1,24,3],[25,1,25,3],[26,1,26,3],[27,1,27,3],[32,1,32,3],[33,1,33,3],[34,1,34,3],[35,1,35,3],[36,1,36,3],[37,1,37,3],[137,1,137,5],[137,6,137,7],[47,7,47,8],[48,1,48,3],[49,1,49,3],[50,1,50,3],[51,1,51,3],[52,1,52,3],[53,1,53,3],[127,1,127,5],[127,6,127,7],[128,1,128,5],[128,6,128,7],[138,1,138,5],[138,6,138,7],[139,1,139,5],[139,6,139,7],[140,1,140,5],[140,6,140,7],[141,1,141,5],[141,6,141,7],[142,1,142,5],[142,6,142,7],[143,1,143,5],[143,6,143,7],[144,1,144,5],[144,6,144,7],[145,1,145,5],[145,6,145,7],[146,1,146,5],[146,6,146,7],[147,1,147,5],[147,6,147,7],[152,1,152,5],[152,6,152,7],[153,1,153,5],[153,6,153,7],[154,1,154,5],[154,6,154,7],[155,1,155,5],[155,6,155,7],[156,1,156,5],[156,6,156,7],[157,1,157,5],[157,6,157,7],[158,1,158,5],[158,6,158,7],[159,1,159,5],[159,6,159,7],[170,1,170,5],[170,6,170,7],[160,1,160,5],[160,6,160,7],[161,1,161,5],[161,6,161,7],[162,1,162,5],[162,6,162,7],[167,6,167,7],[168,1,168,5],[168,6,168,7],[169,1,169,5],[169,6,169,7],[167,1,167,5],[171,1,171,5],[171,6,171,7],[172,1,172,5],[172,6,172,7],[173,1,173,5],[173,6,173,7],[177,1,177,5],[177,6,177,7],[174,1,174,5],[174,6,174,7],[175,1,175,5],[175,6,175,7],[176,1,176,5],[176,6,176,7]]}
[]
[null,"Клиенты Участников торгов Фондовой биржи ММВБ"]
[null,"2016-05-30"]
[]
[]
[null,"Динамика количества клиентов за ",{"$f":"B3","v":"2016-05-30"}]
[]
[]
[]
[null,"Количество зарегистрированных клиентов в Системе торгов (по состоянию на последний день месяца):",null,null,null,null,null,"Таблица 1"]
[null,"Группы клиентов",null,null,{"$f":"EDATE(B3,-1)","v":"2016-04-30"},{"$f":"B3","v":"2016-05-30"},"Изменение (ед.)","Изменение (%)"]
[null,"Физические лица",null,null,{"$f":"April!F12","v":1345077},1350066,{"$f":"F12-E12","v":4989},{"$f":"F12/E12-1","v":3.7090813388378496E-3}]
[null,"Юридические лица",null,null,{"$f":"April!F13","v":32138},30800,{"$f":"F13-E13","v":-1338},-4.163295786918908E-2]
[null,"Иностранные лица",null,null,{"$f":"April!F14","v":13635},13714,79,5.793912724605832E-3]
[null,"Иностранные физические лица ",null,null,{"$f":"April!F15","v":5458},5667,209,3.8292414803957397E-2]
[null,"Иностранные юридические лица ",null,null,{"$f":"April!F16","v":8177},8047,-130,-1.5898251192368873E-2]
[null,"Клиенты, передавшие свои средства в ДУ",null,null,{"$f":"April!F17","v":12595},12965,370,2.9376736800317493E-2]
[null,"Всего",null,null,{"$f":"April!F18","v":1403445},1407545,4100,2.9213827403282711E-3]
[]
[]
[null,"Количество уникальных клиентов в Системе торгов (по состоянию на последний день месяца):",null,null,null,null,null,"Таблица 2"]
[null,"Группы клиентов",null,null,{"$f":"EDATE(B3,-1)","v":"2016-04-30"},{"$f":"F11","v":"2016-05-30"},"Изменение (ед.)","Изменение (%)"]
[null,"Физические лица",null,null,{"$f":"April!F23","v":1014752},1018892,{"$f":"F23-E23","v":4140},{"$f":"F23/E23-1","v":4.0798145753839776E-3}]
[null,"Юридические лица",null,null,{"$f":"April!F24","v":19023},19023,{"$f":"F24-E24","v":0},{"$f":"F24/E24-1","v":0}]
[null,"Иностранные лица",null,null,{"$f":"April!F25","v":8800},8928,128,1.4545454545454639E-2]
[null,"Иностранные физические лица ",null,null,{"$f":"April!F26","v":5052},5197,145,2.8701504354710972E-2]
[null,"Иностранные юридические лица ",null,null,{"$f":"April!F27","v":3748},3731,-17,-4.5357524012806794E-3]
[null,"Клиенты, передавшие свои средства в ДУ",null,null,{"$f":"April!F28","v":1422},1400,-22,-1.5471167369901506E-2]
[null,"Всего",null,null,{"$f":"April!F29","v":1043997},1048243,4246,4.0670614953874917E-3]
[]
[]
[null,"Количество активных клиентов в Системе торгов (совершивших в течение месяца хотя бы одну сделку):",null,null,null,null,null,"Таблица 3"]
[null,"Группы клиентов",null,null,{"$f":"EDATE(B3,-1)","v":"2016-04-30"},{"$f":"F11","v":"2016-05-30"},"Изменение (ед.)","Изменение (%)"]
[null,"Физические лица",null,null,{"$f":"April!F34","v":80653},68987,{"$f":"F34-E34","v":-11666},{"$f":"F34/E34-1","v":-0.14464434057009656}]
[null,"Юридические лица",null,null,{"$f":"April!F35","v":1150},999,-151,-0.13130434782608691]
[null,"Иностранные лица",null,null,{"$f":"April!F36","v":665},599,-66,-9.9248120300751919E-2]
[null,"Иностранные физические лица ",null,null,{"$f":"April!F37","v":332},287,-45,-0.13554216867469882]
[null,"Иностранные юридические лица ",null,null,{"$f":"April!F38","v":333},312,-21,-6.3063063063063085E-2]
[null,"Клиенты, передавшие свои средства в ДУ",null,null,{"$f":"April!F39","v":524},432,-92,-0.17557251908396942]
[null,"Всего",null,null,{"$f":"April!F40","v":82992},71017,-11975,-0.14429101600154237]
[]
[]
[]
[null,"Изменение количества уникальных клиентов - ретроспективные данные"]
[]
[]
[]
[null,"Количество уникальных клиентов в Системе торгов (по состоянию на последний день месяца) (ежегодная статистика):",null,null,null,null,null,"Таблица 1"]
[null,"Группы клиентов",null,null,"2011-12-31","2012-12-31","2013-12-31","2014-12-31","2015-12-31"]
[null,"Физические лица",null,null,772175,805549,881844,944559,1006751]
[null,"Юридические лица",null,null,16850,17821,19539,20178,20753]
[null,"Иностранные лица",null,null,5058,5876,6957,7486,8729]
[null,"Клиенты, передавшие свои средства в ДУ",null,null,5242,5261,5182,5142,3836]
[null,"Всего",null,null,799325,834507,913522,977365,1040069]
[]
[]
[]
[]
[]
[]
[]
[]
[]
[]
[]
[]
[]
[]
[]
[]
[]
[]
[]
[]
[]
[]
[]
[]
[]
[]
[]
[null,"Количество уникальных клиентов в Системе торгов (по состоянию на последний день месяца) (за последние 6 месяцев):",null,null,null,null,null,"Таблица 2"]
[null,"Группы клиентов",{"$f":"EDATE(D83,-1)","v":"2015-12-29"},{"$f":"EDATE(E83,-1)","v":"2016-01-29"},{"$f":"EDATE(F83,-1)","v":"2016-02-29"},{"$f":"EDATE(G83,-1)","v":"2016-03-30"},{"$f":"EDATE(H83,-1)","v":"2016-04-30"},{"$f":"EDATE(E11,1)","v":"2016-05-30"}]
[null,"Физические лица",1006751,1012875,1006765,1008379,1014752,1018892]
[null,"Юридические лица",20753,20804,18908,19035,19023,19023]
[null,"Иностранные лица",8729,8764,8657,8480,8800,8928]
[null,"Клиенты, передавшие свои средства в ДУ",3836,3848,2930,2548,1422,1400]
[null,"Всего",1040069,1046291,1037260,1038442,1043997,1048243]
[]
[]
[]
[]
[]
[]
[]
[]
[]
[]
[]
[]
[]
[]
[]
[]
[]
[]
[]
[]
[]
[]
[]
[]
[]
[]
[]
[]
[]
[]
[]
[]
[]
[]
[]
[null,"Дополнительные показатели за",{"$f":"B3","v":"2016-05-30"}]
[]
[]
[null,null,null,null,null,null,null,"Таблица 1"]
[null,"Участники торгов",null,null,null,null,"Абсолютные показатели"]
[null,"Количество Участников торгов, имеющих активных клиентов",null,null,null,null,366]
[]
[]
[]
[null,"Списки ведущих операторов фондового рынка - клиенты Участников торгов за ",null,null,null,{"$f":"C6","v":"2016-05-30"}]
[]
[]
[null,"Ведущие операторы рынка – число зарегистрированных клиентов",null,null,null,null,null,"Таблица 1"]
[null,"(по общему количеству уникальных клиентов всех типов, зарегистрированных в системе торгов биржи, в том числе  в течение месяца) "]
[null,"Наименование Участника торгов",null,null,null,null,"Количество клиентов"]
[null,"ВТБ 24 (ПАО)","ВТБ 24 (ПАО)","ВТБ 24 (ПАО)","ВТБ 24 (ПАО)","ВТБ 24 (ПАО)",234591,234591]
[null,"Сбербанк","Сбербанк","Сбербанк","Сбербанк","Сбербанк",183711,183711]
[null,"ФГ БКС","ФГ БКС","ФГ БКС","ФГ БКС","ФГ БКС",150354,150354]
[null,"АО \"ФИНАМ\"","АО \"ФИНАМ\"","АО \"ФИНАМ\"","АО \"ФИНАМ\"","АО \"ФИНАМ\"",150284,150284]
[null,"ФГ \"ОТКРЫТИЕ\"","ФГ \"ОТКРЫТИЕ\"","ФГ \"ОТКРЫТИЕ\"","ФГ \"ОТКРЫТИЕ\"","ФГ \"ОТКРЫТИЕ\"",82878,82878]
[null,"АО \"АЛЬФА-БАНК\"","АО \"АЛЬФА-БАНК\"","АО \"АЛЬФА-БАНК\"","АО \"АЛЬФА-БАНК\"","АО \"АЛЬФА-БАНК\"",61804,61804]
[null,"ООО \"АТОН\"","ООО \"АТОН\"","ООО \"АТОН\"","ООО \"АТОН\"","ООО \"АТОН\"",48775,48775]
[null,"АЛОР БРОКЕР","АЛОР БРОКЕР","АЛОР БРОКЕР","АЛОР БРОКЕР","АЛОР БРОКЕР",32628,32628]
[null,"КИТ Финанс (ООО)","КИТ Финанс (ООО)","КИТ Финанс (ООО)","КИТ Финанс (ООО)","КИТ Финанс (ООО)",21275,21275]
[null,"ООО \"Инвестиционная палата\"","ООО \"Инвестиционная палата\"","ООО \"Инвестиционная палата\"","ООО \"Инвестиционная палата\"","ООО \"Инвестиционная палата\"",19859,19859]
[]
[]
[null,"Ведущие операторы рынка – число активных клиентов",null,null,null,null,null,"Таблица 2"]
[null,"(по количеству уникальных клиентов, совершивших хотя бы одну сделку за месяц)"]
[null,"Наименование Участника торгов",null,null,null,null,"Количество клиентов"]
[null,"Сбербанк","Сбербанк","Сбербанк","Сбербанк","Сбербанк",12403,12403]
[null,"ФГ БКС","ФГ БКС","ФГ БКС","ФГ БКС","ФГ БКС",10606,10606]
[null,"АО \"ФИНАМ\"","АО \"ФИНАМ\"","АО \"ФИНАМ\"","АО \"ФИНАМ\"","АО \"ФИНАМ\"",10545,10545]
[null,"ВТБ 24 (ПАО)","ВТБ 24 (ПАО)","ВТБ 24 (ПАО)","ВТБ 24 (ПАО)","ВТБ 24 (ПАО)",10045,10045]
[null,"ФГ \"ОТКРЫТИЕ\"","ФГ \"ОТКРЫТИЕ\"","ФГ \"ОТКРЫТИЕ\"","ФГ \"ОТКРЫТИЕ\"","ФГ \"ОТКРЫТИЕ\"",8060,8060]
[null,"АО \"АЛЬФА-БАНК\"","АО \"АЛЬФА-БАНК\"","АО \"АЛЬФА-БАНК\"","АО \"АЛЬФА-БАНК\"","АО \"АЛЬФА-БАНК\"",3857,3857]
[null,"ООО \"АТОН\"","ООО \"АТОН\"","ООО \"АТОН\"","ООО \"АТОН\"","ООО \"АТОН\"",2698,2698]
[null,"Банк ГПБ (АО)","Банк ГПБ (АО)","Банк ГПБ (АО)","Банк ГПБ (АО)","Банк ГПБ (АО)",2236,2236]
[null,"ПАО \"Промсвязьбанк\"","ПАО \"Промсвязьбанк\"","ПАО \"Промсвязьбанк\"","ПАО \"Промсвязьбанк\"","ПАО \"Промсвязьбанк\"",1486,1486]
[null,"КИТ Финанс (ООО)","КИТ Финанс (ООО)","КИТ Финанс (ООО)","КИТ Финанс (ООО)","КИТ Финанс (ООО)",1236,1236]
[]
[]
[null,"Ведущие операторы рынка – объем клиентских операций",null,null,null,null,null,"Таблица 3"]
[null,"(по стоимостному объему сделок, заключенных в интересах клиентов за месяц) "]
[null,"Наименование Участника торгов",null,null,null,null,"Торговый оборот, руб."]
[null,"ФГ БКС","ФГ БКС","ФГ БКС","ФГ БКС","ФГ БКС",1279096538117.47,1279096538117.47]
[null,"ООО \"Ренессанс Брокер\" ","ООО \"Ренессанс Брокер\" ","ООО \"Ренессанс Брокер\" ","ООО \"Ренессанс Брокер\" ","ООО \"Ренессанс Брокер\" ",903984487997.79004,903984487997.79004]
[null,"ФГ \"ОТКРЫТИЕ\"","ФГ \"ОТКРЫТИЕ\"","ФГ \"ОТКРЫТИЕ\"","ФГ \"ОТКРЫТИЕ\"","ФГ \"ОТКРЫТИЕ\"",881402305397.70996,881402305397.70996]
[null,"ООО \"БК РЕГИОН\"","ООО \"БК РЕГИОН\"","ООО \"БК РЕГИОН\"","ООО \"БК РЕГИОН\"","ООО \"БК РЕГИОН\"",422950157241.83002,422950157241.83002]
[null,"Сбербанк","Сбербанк","Сбербанк","Сбербанк","Сбербанк",422103360481.96002,422103360481.96002]
[null,"ООО \"ИФК \"МЕТРОПОЛЬ\"","ООО \"ИФК \"МЕТРОПОЛЬ\"","ООО \"ИФК \"МЕТРОПОЛЬ\"","ООО \"ИФК \"МЕТРОПОЛЬ\"","ООО \"ИФК \"МЕТРОПОЛЬ\"",308204330856.21002,308204330856.21002]
[null,"ООО \"ИК ВЕЛЕС Капитал\"","ООО \"ИК ВЕЛЕС Капитал\"","ООО \"ИК ВЕЛЕС Капитал\"","ООО \"ИК ВЕЛЕС Капитал\"","ООО \"ИК ВЕЛЕС Капитал\"",287267314864.40997,287267314864.40997]
[null,"АО \"ФИНАМ\"","АО \"ФИНАМ\"","АО \"ФИНАМ\"","АО \"ФИНАМ\"","АО \"ФИНАМ\"",284247842688.53003,284247842688.53003]
[null,"ПАО \"Промсвязьбанк\"","ПАО \"Промсвязьбанк\"","ПАО \"Промсвязьбанк\"","ПАО \"Промсвязьбанк\"","ПАО \"Промсвязьбанк\"",277851037516.56,277851037516.56]
[null,"ООО \"РОНИН\"","ООО \"РОНИН\"","ООО \"РОНИН\"","ООО \"РОНИН\"","ООО \"РОНИН\"",199394308754.25,199394308754.25]

{"sheet":"June","index":5,"n_rows":178,"n_cols":9,"rows_kept":178,"cut":false,"hidden":false,"merged":[[177,1,177,5],[177,6,177,7],[174,1,174,5],[174,6,174,7],[175,1,175,5],[175,6,175,7],[176,1,176,5],[176,6,176,7],[171,1,171,5],[171,6,171,7],[172,1,172,5],[172,6,172,7],[173,1,173,5],[173,6,173,7],[170,1,170,5],[170,6,170,7],[160,1,160,5],[160,6,160,7],[161,1,161,5],[161,6,161,7],[162,1,162,5],[162,6,162,7],[167,6,167,7],[168,1,168,5],[168,6,168,7],[169,1,169,5],[169,6,169,7],[167,1,167,5],[157,1,157,5],[157,6,157,7],[158,1,158,5],[158,6,158,7],[159,1,159,5],[159,6,159,7],[154,1,154,5],[154,6,154,7],[155,1,155,5],[155,6,155,7],[156,1,156,5],[156,6,156,7],[147,1,147,5],[147,6,147,7],[152,1,152,5],[152,6,152,7],[153,1,153,5],[153,6,153,7],[144,1,144,5],[144,6,144,7],[145,1,145,5],[145,6,145,7],[146,1,146,5],[146,6,146,7],[141,1,141,5],[141,6,141,7],[142,1,142,5],[142,6,142,7],[143,1,143,5],[143,6,143,7],[138,1,138,5],[138,6,138,7],[139,1,139,5],[139,6,139,7],[140,1,140,5],[140,6,140,7],[137,1,137,5],[137,6,137,7],[47,7,47,8],[48,1,48,3],[49,1,49,3],[50,1,50,3],[51,1,51,3],[52,1,52,3],[53,1,53,3],[127,1,127,5],[127,6,127,7],[128,1,128,5],[128,6,128,7],[38,1,38,3],[23,1,23,3],[24,1,24,3],[25,1,25,3],[26,1,26,3],[27,1,27,3],[32,1,32,3],[33,1,33,3],[34,1,34,3],[35,1,35,3],[36,1,36,3],[37,1,37,3],[22,1,22,3],[1,1,1,7],[2,1,2,7],[2,8,2,13],[10,1,10,3],[11,1,11,3],[12,1,12,3],[13,1,13,3],[14,1,14,3],[15,1,15,3],[16,1,16,3],[21,1,21,3]]}
[]
[null,"Клиенты Участников торгов Фондовой биржи ММВБ"]
[null,"2016-06-30"]
[]
[]
[null,"Динамика количества клиентов за ",{"$f":"B3","v":"2016-06-30"}]
[]
[]
[]
[null,"Количество зарегистрированных клиентов в Системе торгов (по состоянию на последний день месяца):",null,null,null,null,null,"Таблица 1"]
[null,"Группы клиентов",null,null,{"$f":"EDATE(B3,-1)","v":"2016-05-30"},{"$f":"B3","v":"2016-06-30"},"Изменение (ед.)","Изменение (%)"]
[null,"Физические лица",null,null,1542221,1352100,{"$f":"F12-E12","v":-190121},{"$f":"F12/E12-1","v":-0.12327740317373448}]
[null,"Юридические лица",null,null,32597,30939,{"$f":"F13-E13","v":-1658},-5.0863576402736421E-2]
[null,"Иностранные лица",null,null,14470,14056,-414,-2.8610919143054581E-2]
[null,"Иностранные физические лица ",null,null,6294,5906,-388,-6.1646012074992096E-2]
[null,"Иностранные юридические лица ",null,null,8176,8150,-26,-3.1800391389432692E-3]
[null,"Клиенты, передавшие свои средства в ДУ",null,null,13729,13590,-139,-1.0124553864083286E-2]
[null,"Всего",null,null,1603017,1410685,-192332,-0.119981260335979]
[]
[]
[null,"Количество уникальных клиентов в Системе торгов (по состоянию на последний день месяца):",null,null,null,null,null,"Таблица 2"]
[null,"Группы клиентов",null,null,{"$f":"EDATE(B3,-1)","v":"2016-05-30"},{"$f":"F11","v":"2016-06-30"},"Изменение (ед.)","Изменение (%)"]
[null,"Физические лица",null,null,{"$f":"May!F23","v":1018892},1028991,{"$f":"F23-E23","v":10099},{"$f":"F23/E23-1","v":9.9117472705645415E-3}]
[null,"Юридические лица",null,null,{"$f":"May!F24","v":19023},19118,{"$f":"F24-E24","v":95},{"$f":"F24/E24-1","v":4.993954686432156E-3}]
[null,"Иностранные лица",null,null,{"$f":"May!F25","v":8928},9251,323,3.6178315412186413E-2]
[null,"Иностранные физические лица ",null,null,{"$f":"May!F26","v":5197},5517,320,6.1573984991341257E-2]
[null,"Иностранные юридические лица ",null,null,{"$f":"May!F27","v":3731},3734,3,8.0407397480564136E-4]
[null,"Клиенты, передавшие свои средства в ДУ",null,null,{"$f":"May!F28","v":1400},1412,12,8.5714285714286742E-3]
[null,"Всего",null,null,{"$f":"May!F29","v":1048243},1058772,10529,1.0044426721666611E-2]
[]
[]
[null,"Количество активных клиентов в Системе торгов (совершивших в течение месяца хотя бы одну сделку):",null,null,null,null,null,"Таблица 3"]
[null,"Группы клиентов",null,null,{"$f":"EDATE(B3,-1)","v":"2016-05-30"},{"$f":"F11","v":"2016-06-30"},"Изменение (ед.)","Изменение (%)"]
[null,"Физические лица",null,null,{"$f":"May!F34","v":68987},72090,{"$f":"F34-E34","v":3103},{"$f":"F34/E34-1","v":4.4979488889210995E-2}]
[null,"Юридические лица",null,null,{"$f":"May!F35","v":999},1092,93,9.3093093093093104E-2]
[null,"Иностранные лица",null,null,{"$f":"May!F36","v":599},673,74,0.12353923205342232]
[null,"Иностранные физические лица ",null,null,{"$f":"May!F37","v":287},334,47,0.16376306620209058]
[null,"Иностранные юридические лица ",null,null,{"$f":"May!F38","v":312},339,27,8.6538461538461453E-2]
[null,"Клиенты, передавшие свои средства в ДУ",null,null,{"$f":"May!F39","v":432},474,42,9.7222222222222321E-2]
[null,"Всего",null,null,{"$f":"May!F40","v":71017},74329,3312,4.6636720785164121E-2]
[]
[]
[]
[null,"Изменение количества уникальных клиентов - ретроспективные данные"]
[]
[]
[]
[null,"Количество уникальных клиентов в Системе торгов (по состоянию на последний день месяца) (ежегодная статистика):",null,null,null,null,null,"Таблица 1"]
[null,"Группы клиентов",null,null,"2011-12-31","2012-12-31","2013-12-31","2014-12-31","2015-12-31"]
[null,"Физические лица",null,null,772175,805549,881844,944559,1006751]
[null,"Юридические лица",null,null,16850,17821,19539,20178,20753]
[null,"Иностранные лица",null,null,5058,5876,6957,7486,8729]
[null,"Клиенты, передавшие свои средства в ДУ",null,null,5242,5261,5182,5142,3836]
[null,"Всего",null,null,799325,834507,913522,977365,1040069]
[]
[]
[]
[]
[]
[]
[]
[]
[]
[]
[]
[]
[]
[]
[]
[]
[]
[]
[]
[]
[]
[]
[]
[]
[]
[]
[]
[null,"Количество уникальных клиентов в Системе торгов (по состоянию на последний день месяца) (за последние 6 месяцев):",null,null,null,null,null,"Таблица 2"]
[null,"Группы клиентов",{"$f":"EDATE(D83,-1)","v":"2016-01-29"},{"$f":"EDATE(E83,-1)","v":"2016-02-29"},{"$f":"EDATE(F83,-1)","v":"2016-03-30"},{"$f":"EDATE(G83,-1)","v":"2016-04-30"},{"$f":"EDATE(H83,-1)","v":"2016-05-30"},{"$f":"EDATE(E11,1)","v":"2016-06-30"}]
[null,"Физические лица",1012875,1006765,1008379,1014752,1018892,1028991]
[null,"Юридические лица",20804,18908,19035,19023,19023,19118]
[null,"Иностранные лица",8764,8657,8480,8800,8928,9251]
[null,"Клиенты, передавшие свои средства в ДУ",3848,2930,2548,1422,1400,1412]
[null,"Всего",1046291,1037260,1038442,1043997,1048243,1058772]
[]
[]
[]
[]
[]
[]
[]
[]
[]
[]
[]
[]
[]
[]
[]
[]
[]
[]
[]
[]
[]
[]
[]
[]
[]
[]
[]
[]
[]
[]
[]
[]
[]
[]
[]
[null,"Дополнительные показатели за",{"$f":"B3","v":"2016-06-30"}]
[]
[]
[null,null,null,null,null,null,null,"Таблица 1"]
[null,"Участники торгов",null,null,null,null,"Абсолютные показатели"]
[null,"Количество Участников торгов, имеющих активных клиентов",null,null,null,null,364]
[]
[]
[]
[null,"Списки ведущих операторов фондового рынка - клиенты Участников торгов за ",null,null,null,{"$f":"C6","v":"2016-06-30"}]
[]
[]
[null,"Ведущие операторы рынка – число зарегистрированных клиентов",null,null,null,null,null,"Таблица 1"]
[null,"(по общему количеству уникальных клиентов всех типов, зарегистрированных в системе торгов биржи, в том числе  в течение месяца) "]
[null,"Наименование Участника торгов",null,null,null,null,"Количество клиентов"]
[null,"ВТБ 24 (ПАО)","ВТБ 24 (ПАО)","ВТБ 24 (ПАО)","ВТБ 24 (ПАО)","ВТБ 24 (ПАО)",236402,236402]
[null,"Сбербанк","Сбербанк","Сбербанк","Сбербанк","Сбербанк",184731,184731]
[null,"ФГ БКС","ФГ БКС","ФГ БКС","ФГ БКС","ФГ БКС",152263,152263]
[null,"АО \"ФИНАМ\"","АО \"ФИНАМ\"","АО \"ФИНАМ\"","АО \"ФИНАМ\"","АО \"ФИНАМ\"",151730,151730]
[null,"ФГ \"ОТКРЫТИЕ\"","ФГ \"ОТКРЫТИЕ\"","ФГ \"ОТКРЫТИЕ\"","ФГ \"ОТКРЫТИЕ\"","ФГ \"ОТКРЫТИЕ\"",84554,84554]
[null,"АО \"АЛЬФА-БАНК\"","АО \"АЛЬФА-БАНК\"","АО \"АЛЬФА-БАНК\"","АО \"АЛЬФА-БАНК\"","АО \"АЛЬФА-БАНК\"",61981,61981]
[null,"ООО \"АТОН\"","ООО \"АТОН\"","ООО \"АТОН\"","ООО \"АТОН\"","ООО \"АТОН\"",48592,48592]
[null,"АЛОР БРОКЕР","АЛОР БРОКЕР","АЛОР БРОКЕР","АЛОР БРОКЕР","АЛОР БРОКЕР",32817,32817]
[null,"КИТ Финанс (ООО)","КИТ Финанс (ООО)","КИТ Финанс (ООО)","КИТ Финанс (ООО)","КИТ Финанс (ООО)",21328,21328]
[null,"ООО \"Инвестиционная палата\"","ООО \"Инвестиционная палата\"","ООО \"Инвестиционная палата\"","ООО \"Инвестиционная палата\"","ООО \"Инвестиционная палата\"",19859,19859]
[]
[]
[null,"Ведущие операторы рынка – число активных клиентов",null,null,null,null,null,"Таблица 2"]
[null,"(по количеству уникальных клиентов, совершивших хотя бы одну сделку за месяц)"]
[null,"Наименование Участника торгов",null,null,null,null,"Количество клиентов"]
[null,"Сбербанк","Сбербанк","Сбербанк","Сбербанк","Сбербанк",12671,12671]
[null,"АО \"ФИНАМ\"","АО \"ФИНАМ\"","АО \"ФИНАМ\"","АО \"ФИНАМ\"","АО \"ФИНАМ\"",11453,11453]
[null,"ФГ БКС","ФГ БКС","ФГ БКС","ФГ БКС","ФГ БКС",11194,11194]
[null,"ВТБ 24 (ПАО)","ВТБ 24 (ПАО)","ВТБ 24 (ПАО)","ВТБ 24 (ПАО)","ВТБ 24 (ПАО)",10216,10216]
[null,"ФГ \"ОТКРЫТИЕ\"","ФГ \"ОТКРЫТИЕ\"","ФГ \"ОТКРЫТИЕ\"","ФГ \"ОТКРЫТИЕ\"","ФГ \"ОТКРЫТИЕ\"",8668,8668]
[null,"АО \"АЛЬФА-БАНК\"","АО \"АЛЬФА-БАНК\"","АО \"АЛЬФА-БАНК\"","АО \"АЛЬФА-БАНК\"","АО \"АЛЬФА-БАНК\"",4034,4034]
[null,"ООО \"АТОН\"","ООО \"АТОН\"","ООО \"АТОН\"","ООО \"АТОН\"","ООО \"АТОН\"",2784,2784]
[null,"Банк ГПБ (АО)","Банк ГПБ (АО)","Банк ГПБ (АО)","Банк ГПБ (АО)","Банк ГПБ (АО)",2282,2282]
[null,"ПАО \"Промсвязьбанк\"","ПАО \"Промсвязьбанк\"","ПАО \"Промсвязьбанк\"","ПАО \"Промсвязьбанк\"","ПАО \"Промсвязьбанк\"",1595,1595]
[null,"КИТ Финанс (ООО)","КИТ Финанс (ООО)","КИТ Финанс (ООО)","КИТ Финанс (ООО)","КИТ Финанс (ООО)",1361,1361]
[]
[]
[null,"Ведущие операторы рынка – объем клиентских операций",null,null,null,null,null,"Таблица 3"]
[null,"(по стоимостному объему сделок, заключенных в интересах клиентов за месяц) "]
[null,"Наименование Участника торгов",null,null,null,null,"Торговый оборот, руб."]
[null,"ФГ БКС","ФГ БКС","ФГ БКС","ФГ БКС","ФГ БКС",1510923077142.53,1510923077142.53]
[null,"ФГ \"ОТКРЫТИЕ\"","ФГ \"ОТКРЫТИЕ\"","ФГ \"ОТКРЫТИЕ\"","ФГ \"ОТКРЫТИЕ\"","ФГ \"ОТКРЫТИЕ\"",1062611598090.67,1062611598090.67]
[null,"ООО \"Ренессанс Брокер\" ","ООО \"Ренессанс Брокер\" ","ООО \"Ренессанс Брокер\" ","ООО \"Ренессанс Брокер\" ","ООО \"Ренессанс Брокер\" ",938024560689.43994,938024560689.43994]
[null,"ООО \"БК РЕГИОН\"","ООО \"БК РЕГИОН\"","ООО \"БК РЕГИОН\"","ООО \"БК РЕГИОН\"","ООО \"БК РЕГИОН\"",661091684340.82996,661091684340.82996]
[null,"Сбербанк","Сбербанк","Сбербанк","Сбербанк","Сбербанк",484023806812.40997,484023806812.40997]
[null,"ООО \"ИФК \"МЕТРОПОЛЬ\"","ООО \"ИФК \"МЕТРОПОЛЬ\"","ООО \"ИФК \"МЕТРОПОЛЬ\"","ООО \"ИФК \"МЕТРОПОЛЬ\"","ООО \"ИФК \"МЕТРОПОЛЬ\"",382979990756.71997,382979990756.71997]
[null,"АО \"ФИНАМ\"","АО \"ФИНАМ\"","АО \"ФИНАМ\"","АО \"ФИНАМ\"","АО \"ФИНАМ\"",347619439988.81,347619439988.81]
[null,"ПАО \"Промсвязьбанк\"","ПАО \"Промсвязьбанк\"","ПАО \"Промсвязьбанк\"","ПАО \"Промсвязьбанк\"","ПАО \"Промсвязьбанк\"",326502280995.03998,326502280995.03998]
[null,"ООО \"ИК ВЕЛЕС Капитал\"","ООО \"ИК ВЕЛЕС Капитал\"","ООО \"ИК ВЕЛЕС Капитал\"","ООО \"ИК ВЕЛЕС Капитал\"","ООО \"ИК ВЕЛЕС Капитал\"",324747065629.53998,324747065629.53998]
[null,"ООО \"РОНИН\"","ООО \"РОНИН\"","ООО \"РОНИН\"","ООО \"РОНИН\"","ООО \"РОНИН\"",321000506527.79999,321000506527.79999]

{"sheet":"July","index":6,"n_rows":178,"n_cols":9,"rows_kept":178,"cut":false,"hidden":false,"merged":[[177,1,177,5],[177,6,177,7],[174,1,174,5],[174,6,174,7],[175,1,175,5],[175,6,175,7],[176,1,176,5],[176,6,176,7],[171,1,171,5],[171,6,171,7],[172,1,172,5],[172,6,172,7],[173,1,173,5],[173,6,173,7],[170,1,170,5],[170,6,170,7],[160,1,160,5],[160,6,160,7],[161,1,161,5],[161,6,161,7],[162,1,162,5],[162,6,162,7],[167,6,167,7],[168,1,168,5],[168,6,168,7],[169,1,169,5],[169,6,169,7],[167,1,167,5],[157,1,157,5],[157,6,157,7],[158,1,158,5],[158,6,158,7],[159,1,159,5],[159,6,159,7],[154,1,154,5],[154,6,154,7],[155,1,155,5],[155,6,155,7],[156,1,156,5],[156,6,156,7],[147,1,147,5],[147,6,147,7],[152,1,152,5],[152,6,152,7],[153,1,153,5],[153,6,153,7],[144,1,144,5],[144,6,144,7],[145,1,145,5],[145,6,145,7],[146,1,146,5],[146,6,146,7],[141,1,141,5],[141,6,141,7],[142,1,142,5],[142,6,142,7],[143,1,143,5],[143,6,143,7],[138,1,138,5],[138,6,138,7],[139,1,139,5],[139,6,139,7],[140,1,140,5],[140,6,140,7],[137,1,137,5],[137,6,137,7],[47,7,47,8],[48,1,48,3],[49,1,49,3],[50,1,50,3],[51,1,51,3],[52,1,52,3],[53,1,53,3],[127,1,127,5],[127,6,127,7],[128,1,128,5],[128,6,128,7],[38,1,38,3],[23,1,23,3],[24,1,24,3],[25,1,25,3],[26,1,26,3],[27,1,27,3],[32,1,32,3],[33,1,33,3],[34,1,34,3],[35,1,35,3],[36,1,36,3],[37,1,37,3],[22,1,22,3],[1,1,1,7],[2,1,2,7],[2,8,2,13],[10,1,10,3],[11,1,11,3],[12,1,12,3],[13,1,13,3],[14,1,14,3],[15,1,15,3],[16,1,16,3],[21,1,21,3]]}
[]
[null,"Клиенты Участников торгов Фондовой биржи ММВБ"]
[null,"2016-07-31"]
[]
[]
[null,"Динамика количества клиентов за ",{"$f":"B3","v":"2016-07-31"}]
[]
[]
[]
[null,"Количество зарегистрированных клиентов в Системе торгов (по состоянию на последний день месяца):",null,null,null,null,null,"Таблица 1"]
[null,"Группы клиентов",null,null,{"$f":"EDATE(B3,-1)","v":"2016-06-30"},{"$f":"B3","v":"2016-07-31"},"Изменение (ед.)","Изменение (%)"]
[null,"Физические лица",null,null,{"$f":"June!F12","v":1352100},1578129,{"$f":"F12-E12","v":226029},{"$f":"F12/E12-1","v":0.16716884845795432}]
[null,"Юридические лица",null,null,{"$f":"June!F13","v":30939},33580,{"$f":"F13-E13","v":2641},8.5361517825398359E-2]
[null,"Иностранные лица",null,null,{"$f":"June!F14","v":14056},15262,1206,8.5799658508821874E-2]
[null,"Иностранные физические лица ",null,null,{"$f":"June!F15","v":5906},7030,1124,0.19031493396545884]
[null,"Иностранные юридические лица ",null,null,{"$f":"June!F16","v":8150},8232,82,1.0061349693251564E-2]
[null,"Клиенты, передавшие свои средства в ДУ",null,null,{"$f":"June!F17","v":13590},19136,5546,0.40809418690213395]
[null,"Всего",null,null,{"$f":"June!F18","v":1410685},1646107,235422,0.16688488216717401]
[]
[]
[null,"Количество уникальных клиентов в Системе торгов (по состоянию на последний день месяца):",null,null,null,null,null,"Таблица 2"]
[null,"Группы клиентов",null,null,{"$f":"EDATE(B3,-1)","v":"2016-06-30"},{"$f":"F11","v":"2016-07-31"},"Изменение (ед.)","Изменение (%)"]
[null,"Физические лица",null,null,{"$f":"June!F23","v":1028991},1033667,{"$f":"F23-E23","v":4676},{"$f":"F23/E23-1","v":4.5442574327667629E-3}]
[null,"Юридические лица",null,null,{"$f":"June!F24","v":19118},19019,{"$f":"F24-E24","v":-99},{"$f":"F24/E24-1","v":-5.1783659378595859E-3}]
[null,"Иностранные лица",null,null,{"$f":"June!F25","v":9251},8797,-454,-4.9075775591827964E-2]
[null,"Иностранные физические лица ",null,null,{"$f":"June!F26","v":5517},5304,-213,-3.8607939097335509E-2]
[null,"Иностранные юридические лица ",null,null,{"$f":"June!F27","v":3734},3493,-241,-6.4542046063203018E-2]
[null,"Клиенты, передавшие свои средства в ДУ",null,null,{"$f":"June!F28","v":1412},1620,208,0.14730878186968832]
[null,"Всего",null,null,{"$f":"June!F29","v":1058772},1063103,4331,4.0905879641697229E-3]
[]
[]
[null,"Количество активных клиентов в Системе торгов (совершивших в течение месяца хотя бы одну сделку):",null,null,null,null,null,"Таблица 3"]
[null,"Группы клиентов",null,null,{"$f":"EDATE(B3,-1)","v":"2016-06-30"},{"$f":"F11","v":"2016-07-31"},"Изменение (ед.)","Изменение (%)"]
[null,"Физические лица",null,null,{"$f":"June!F34","v":72090},72824,{"$f":"F34-E34","v":734},{"$f":"F34/E34-1","v":1.0181717297822246E-2}]
[null,"Юридические лица",null,null,{"$f":"June!F35","v":1092},1031,-61,-5.5860805860805884E-2]
[null,"Иностранные лица",null,null,{"$f":"June!F36","v":673},622,-51,-7.5780089153046015E-2]
[null,"Иностранные физические лица ",null,null,{"$f":"June!F37","v":334},324,-10,-2.9940119760479056E-2]
[null,"Иностранные юридические лица ",null,null,{"$f":"June!F38","v":339},298,-41,-0.12094395280235992]
[null,"Клиенты, передавшие свои средства в ДУ",null,null,{"$f":"June!F39","v":474},712,238,0.5021097046413503]
[null,"Всего",null,null,{"$f":"June!F40","v":74329},75189,860,1.1570181221326914E-2]
[]
[]
[]
[null,"Изменение количества уникальных клиентов - ретроспективные данные"]
[]
[]
[]
[null,"Количество уникальных клиентов в Системе торгов (по состоянию на последний день месяца) (ежегодная статистика):",null,null,null,null,null,"Таблица 1"]
[null,"Группы клиентов",null,null,"2011-12-31","2012-12-31","2013-12-31","2014-12-31","2015-12-31"]
[null,"Физические лица",null,null,772175,805549,881844,944559,1006751]
[null,"Юридические лица",null,null,16850,17821,19539,20178,20753]
[null,"Иностранные лица",null,null,5058,5876,6957,7486,8729]
[null,"Клиенты, передавшие свои средства в ДУ",null,null,5242,5261,5182,5142,3836]
[null,"Всего",null,null,799325,834507,913522,977365,1040069]
[]
[]
[]
[]
[]
[]
[]
[]
[]
[]
[]
[]
[]
[]
[]
[]
[]
[]
[]
[]
[]
[]
[]
[]
[]
[]
[]
[null,"Количество уникальных клиентов в Системе торгов (по состоянию на последний день месяца) (за последние 6 месяцев):",null,null,null,null,null,"Таблица 2"]
[null,"Группы клиентов",{"$f":"EDATE(D83,-1)","v":"2016-02-29"},{"$f":"EDATE(E83,-1)","v":"2016-03-30"},{"$f":"EDATE(F83,-1)","v":"2016-04-30"},{"$f":"EDATE(G83,-1)","v":"2016-05-30"},{"$f":"EDATE(H83,-1)","v":"2016-06-30"},{"$f":"EDATE(E11,1)","v":"2016-07-30"}]
[null,"Физические лица",1006765,1008379,1014752,1018892,1028991,1033667]
[null,"Юридические лица",18908,19035,19023,19023,19118,19019]
[null,"Иностранные лица",8657,8480,8800,8928,9251,8797]
[null,"Клиенты, передавшие свои средства в ДУ",2930,2548,1422,1400,1412,1620]
[null,"Всего",1037260,1038442,1043997,1048243,1058772,1063103]
[]
[]
[]
[]
[]
[]
[]
[]
[]
[]
[]
[]
[]
[]
[]
[]
[]
[]
[]
[]
[]
[]
[]
[]
[]
[]
[]
[]
[]
[]
[]
[]
[]
[]
[]
[null,"Дополнительные показатели за",{"$f":"B3","v":"2016-07-31"}]
[]
[]
[null,null,null,null,null,null,null,"Таблица 1"]
[null,"Участники торгов",null,null,null,null,"Абсолютные показатели"]
[null,"Количество Участников торгов, имеющих активных клиентов",null,null,null,null,352]
[]
[]
[]
[null,"Списки ведущих операторов фондового рынка - клиенты Участников торгов за ",null,null,null,{"$f":"C6","v":"2016-07-31"}]
[]
[]
[null,"Ведущие операторы рынка – число зарегистрированных клиентов",null,null,null,null,null,"Таблица 1"]
[null,"(по общему количеству уникальных клиентов всех типов, зарегистрированных в системе торгов биржи, в том числе  в течение месяца) "]
[null,"Наименование Участника торгов",null,null,null,null,"Количество клиентов"]
[null,"ВТБ 24 (ПАО)","ВТБ 24 (ПАО)","ВТБ 24 (ПАО)","ВТБ 24 (ПАО)","ВТБ 24 (ПАО)",237807,237807]
[null,"Сбербанк","Сбербанк","Сбербанк","Сбербанк","Сбербанк",185729,185729]
[null,"ФГ БКС","ФГ БКС","ФГ БКС","ФГ БКС","ФГ БКС",154003,154003]
[null,"АО \"ФИНАМ\"","АО \"ФИНАМ\"","АО \"ФИНАМ\"","АО \"ФИНАМ\"","АО \"ФИНАМ\"",152985,152985]
[null,"ФГ \"ОТКРЫТИЕ\"","ФГ \"ОТКРЫТИЕ\"","ФГ \"ОТКРЫТИЕ\"","ФГ \"ОТКРЫТИЕ\"","ФГ \"ОТКРЫТИЕ\"",82537,82537]
[null,"АО \"АЛЬФА-БАНК\"","АО \"АЛЬФА-БАНК\"","АО \"АЛЬФА-БАНК\"","АО \"АЛЬФА-БАНК\"","АО \"АЛЬФА-БАНК\"",62133,62133]
[null,"ООО \"АТОН\"","ООО \"АТОН\"","ООО \"АТОН\"","ООО \"АТОН\"","ООО \"АТОН\"",48750,48750]
[null,"АЛОР БРОКЕР","АЛОР БРОКЕР","АЛОР БРОКЕР","АЛОР БРОКЕР","АЛОР БРОКЕР",32890,32890]
[null,"КИТ Финанс (ООО)","КИТ Финанс (ООО)","КИТ Финанс (ООО)","КИТ Финанс (ООО)","КИТ Финанс (ООО)",21367,21367]
[null,"ООО \"Инвестиционная палата\"","ООО \"Инвестиционная палата\"","ООО \"Инвестиционная палата\"","ООО \"Инвестиционная палата\"","ООО \"Инвестиционная палата\"",19859,19859]
[]
[]
[null,"Ведущие операторы рынка – число активных клиентов",null,null,null,null,null,"Таблица 2"]
[null,"(по количеству уникальных клиентов, совершивших хотя бы одну сделку за месяц)"]
[null,"Наименование Участника торгов",null,null,null,null,"Количество клиентов"]
[null,"Сбербанк","Сбербанк","Сбербанк","Сбербанк","Сбербанк",12947,12947]
[null,"ФГ БКС","ФГ БКС","ФГ БКС","ФГ БКС","ФГ БКС",11391,11391]
[null,"АО \"ФИНАМ\"","АО \"ФИНАМ\"","АО \"ФИНАМ\"","АО \"ФИНАМ\"","АО \"ФИНАМ\"",11325,11325]
[null,"ВТБ 24 (ПАО)","ВТБ 24 (ПАО)","ВТБ 24 (ПАО)","ВТБ 24 (ПАО)","ВТБ 24 (ПАО)",10390,10390]
[null,"ФГ \"ОТКРЫТИЕ\"","ФГ \"ОТКРЫТИЕ\"","ФГ \"ОТКРЫТИЕ\"","ФГ \"ОТКРЫТИЕ\"","ФГ \"ОТКРЫТИЕ\"",8956,8956]
[null,"АО \"АЛЬФА-БАНК\"","АО \"АЛЬФА-БАНК\"","АО \"АЛЬФА-БАНК\"","АО \"АЛЬФА-БАНК\"","АО \"АЛЬФА-БАНК\"",3964,3964]
[null,"ООО \"АТОН\"","ООО \"АТОН\"","ООО \"АТОН\"","ООО \"АТОН\"","ООО \"АТОН\"",2746,2746]
[null,"Банк ГПБ (АО)","Банк ГПБ (АО)","Банк ГПБ (АО)","Банк ГПБ (АО)","Банк ГПБ (АО)",2217,2217]
[null,"ПАО \"Промсвязьбанк\"","ПАО \"Промсвязьбанк\"","ПАО \"Промсвязьбанк\"","ПАО \"Промсвязьбанк\"","ПАО \"Промсвязьбанк\"",1658,1658]
[null,"КИТ Финанс (ООО)","КИТ Финанс (ООО)","КИТ Финанс (ООО)","КИТ Финанс (ООО)","КИТ Финанс (ООО)",1321,1321]
[]
[]
[null,"Ведущие операторы рынка – объем клиентских операций",null,null,null,null,null,"Таблица 3"]
[null,"(по стоимостному объему сделок, заключенных в интересах клиентов за месяц) "]
[null,"Наименование Участника торгов",null,null,null,null,"Торговый оборот, руб."]
[null,"ФГ БКС","ФГ БКС","ФГ БКС","ФГ БКС","ФГ БКС",1403648660167.52,1403648660167.52]
[null,"ФГ \"ОТКРЫТИЕ\"","ФГ \"ОТКРЫТИЕ\"","ФГ \"ОТКРЫТИЕ\"","ФГ \"ОТКРЫТИЕ\"","ФГ \"ОТКРЫТИЕ\"",980300616038.32996,980300616038.32996]
[null,"ООО \"Ренессанс Брокер\" ","ООО \"Ренессанс Брокер\" ","ООО \"Ренессанс Брокер\" ","ООО \"Ренессанс Брокер\" ","ООО \"Ренессанс Брокер\" ",878430628524.58997,878430628524.58997]
[null,"Сбербанк","Сбербанк","Сбербанк","Сбербанк","Сбербанк",502635769285.38,502635769285.38]
[null,"ООО \"БК РЕГИОН\"","ООО \"БК РЕГИОН\"","ООО \"БК РЕГИОН\"","ООО \"БК РЕГИОН\"","ООО \"БК РЕГИОН\"",460525977205.29999,460525977205.29999]
[null,"ООО \"ИФК \"МЕТРОПОЛЬ\"","ООО \"ИФК \"МЕТРОПОЛЬ\"","ООО \"ИФК \"МЕТРОПОЛЬ\"","ООО \"ИФК \"МЕТРОПОЛЬ\"","ООО \"ИФК \"МЕТРОПОЛЬ\"",440112504210.08002,440112504210.08002]
[null,"ПАО \"Промсвязьбанк\"","ПАО \"Промсвязьбанк\"","ПАО \"Промсвязьбанк\"","ПАО \"Промсвязьбанк\"","ПАО \"Промсвязьбанк\"",362535657022.59003,362535657022.59003]
[null,"АО \"ФИНАМ\"","АО \"ФИНАМ\"","АО \"ФИНАМ\"","АО \"ФИНАМ\"","АО \"ФИНАМ\"",357611897104.82001,357611897104.82001]
[null,"ООО \"ИК ВЕЛЕС Капитал\"","ООО \"ИК ВЕЛЕС Капитал\"","ООО \"ИК ВЕЛЕС Капитал\"","ООО \"ИК ВЕЛЕС Капитал\"","ООО \"ИК ВЕЛЕС Капитал\"",329883579409.97998,329883579409.97998]
[null,"ПАО \"Совкомбанк\"","ПАО \"Совкомбанк\"","ПАО \"Совкомбанк\"","ПАО \"Совкомбанк\"","ПАО \"Совкомбанк\"",244055771451.44,244055771451.44]

{"sheet":"August","index":7,"n_rows":178,"n_cols":9,"rows_kept":178,"cut":false,"hidden":false,"merged":[[22,1,22,3],[1,1,1,7],[2,1,2,7],[2,8,2,13],[10,1,10,3],[11,1,11,3],[12,1,12,3],[13,1,13,3],[14,1,14,3],[15,1,15,3],[16,1,16,3],[21,1,21,3],[38,1,38,3],[23,1,23,3],[24,1,24,3],[25,1,25,3],[26,1,26,3],[27,1,27,3],[32,1,32,3],[33,1,33,3],[34,1,34,3],[35,1,35,3],[36,1,36,3],[37,1,37,3],[137,1,137,5],[137,6,137,7],[47,7,47,8],[48,1,48,3],[49,1,49,3],[50,1,50,3],[51,1,51,3],[52,1,52,3],[53,1,53,3],[127,1,127,5],[127,6,127,7],[128,1,128,5],[128,6,128,7],[138,1,138,5],[138,6,138,7],[139,1,139,5],[139,6,139,7],[140,1,140,5],[140,6,140,7],[141,1,141,5],[141,6,141,7],[142,1,142,5],[142,6,142,7],[143,1,143,5],[143,6,143,7],[144,1,144,5],[144,6,144,7],[145,1,145,5],[145,6,145,7],[146,1,146,5],[146,6,146,7],[147,1,147,5],[147,6,147,7],[152,1,152,5],[152,6,152,7],[153,1,153,5],[153,6,153,7],[154,1,154,5],[154,6,154,7],[155,1,155,5],[155,6,155,7],[156,1,156,5],[156,6,156,7],[157,1,157,5],[157,6,157,7],[158,1,158,5],[158,6,158,7],[159,1,159,5],[159,6,159,7],[170,1,170,5],[170,6,170,7],[160,1,160,5],[160,6,160,7],[161,1,161,5],[161,6,161,7],[162,1,162,5],[162,6,162,7],[167,6,167,7],[168,1,168,5],[168,6,168,7],[169,1,169,5],[169,6,169,7],[167,1,167,5],[171,1,171,5],[171,6,171,7],[172,1,172,5],[172,6,172,7],[173,1,173,5],[173,6,173,7],[177,1,177,5],[177,6,177,7],[174,1,174,5],[174,6,174,7],[175,1,175,5],[175,6,175,7],[176,1,176,5],[176,6,176,7]]}
[]
[null,"Клиенты Участников торгов Фондовой биржи ММВБ"]
[null,"2016-08-31"]
[]
[]
[null,"Динамика количества клиентов за ",{"$f":"B3","v":"2016-08-31"}]
[]
[]
[]
[null,"Количество зарегистрированных клиентов в Системе торгов (по состоянию на последний день месяца):",null,null,null,null,null,"Таблица 1"]
[null,"Группы клиентов",null,null,{"$f":"EDATE(B3,-1)","v":"2016-07-31"},{"$f":"B3","v":"2016-08-31"},"Изменение (ед.)","Изменение (%)"]
[null,"Физические лица",null,null,{"$f":"July!F12","v":1578129},1456699,{"$f":"F12-E12","v":-121430},{"$f":"F12/E12-1","v":-7.6945547543958659E-2}]
[null,"Юридические лица",null,null,{"$f":"July!F13","v":33580},31859,{"$f":"F13-E13","v":-1721},-5.1250744490768274E-2]
[null,"Иностранные лица",null,null,{"$f":"July!F14","v":15262},13766,-1496,-9.8021229196697646E-2]
[null,"Иностранные физические лица ",null,null,{"$f":"July!F15","v":7030},5890,-1140,-0.16216216216216217]
[null,"Иностранные юридические лица ",null,null,{"$f":"July!F16","v":8232},7876,-356,-4.3245869776482038E-2]
[null,"Клиенты, передавшие свои средства в ДУ",null,null,{"$f":"July!F17","v":19136},20000,864,4.5150501672240884E-2]
[null,"Всего",null,null,{"$f":"July!F18","v":1646107},1522324,-123783,-7.5197420337803078E-2]
[]
[]
[null,"Количество уникальных клиентов в Системе торгов (по состоянию на последний день месяца):",null,null,null,null,null,"Таблица 2"]
[null,"Группы клиентов",null,null,{"$f":"EDATE(B3,-1)","v":"2016-07-31"},{"$f":"F11","v":"2016-08-31"},"Изменение (ед.)","Изменение (%)"]
[null,"Физические лица",null,null,{"$f":"July!F23","v":1033667},1040684,{"$f":"F23-E23","v":7017},{"$f":"F23/E23-1","v":6.7884531478705767E-3}]
[null,"Юридические лица",null,null,{"$f":"July!F24","v":19019},19083,{"$f":"F24-E24","v":64},{"$f":"F24/E24-1","v":3.3650559966349469E-3}]
[null,"Иностранные лица",null,null,{"$f":"July!F25","v":8797},8850,53,6.0247811754006175E-3]
[null,"Иностранные физические лица ",null,null,{"$f":"July!F26","v":5304},5398,94,1.7722473604826483E-2]
[null,"Иностранные юридические лица ",null,null,{"$f":"July!F27","v":3493},3452,-41,-1.1737761236759181E-2]
[null,"Клиенты, передавшие свои средства в ДУ",null,null,{"$f":"July!F28","v":1620},2017,397,0.2450617283950618]
[null,"Всего",null,null,{"$f":"July!F29","v":1063103},1070634,7531,7.0839796332058391E-3]
[]
[]
[null,"Количество активных клиентов в Системе торгов (совершивших в течение месяца хотя бы одну сделку):",null,null,null,null,null,"Таблица 3"]
[null,"Группы клиентов",null,null,{"$f":"EDATE(B3,-1)","v":"2016-07-31"},{"$f":"F11","v":"2016-08-31"},"Изменение (ед.)","Изменение (%)"]
[null,"Физические лица",null,null,{"$f":"July!F34","v":72824},74793,{"$f":"F34-E34","v":1969},{"$f":"F34/E34-1","v":2.7037789739646323E-2}]
[null,"Юридические лица",null,null,{"$f":"July!F35","v":1031},1084,53,5.1406401551891356E-2]
[null,"Иностранные лица",null,null,{"$f":"July!F36","v":622},623,1,1.607717041800738E-3]
[null,"Иностранные физические лица ",null,null,{"$f":"July!F37","v":324},322,-2,-6.1728395061728669E-3]
[null,"Иностранные юридические лица ",null,null,{"$f":"July!F38","v":298},301,3,1.0067114093959662E-2]
[null,"Клиенты, передавшие свои средства в ДУ",null,null,{"$f":"July!F39","v":712},1068,356,0.5]
[null,"Всего",null,null,{"$f":"July!F40","v":75189},77568,2379,3.1640266528348615E-2]
[]
[]
[]
[null,"Изменение количества уникальных клиентов - ретроспективные данные"]
[]
[]
[]
[null,"Количество уникальных клиентов в Системе торгов (по состоянию на последний день месяца) (ежегодная статистика):",null,null,null,null,null,"Таблица 1"]
[null,"Группы клиентов",null,null,"2011-12-31","2012-12-31","2013-12-31","2014-12-31","2015-12-31"]
[null,"Физические лица",null,null,772175,805549,881844,944559,1006751]
[null,"Юридические лица",null,null,16850,17821,19539,20178,20753]
[null,"Иностранные лица",null,null,5058,5876,6957,7486,8729]
[null,"Клиенты, передавшие свои средства в ДУ",null,null,5242,5261,5182,5142,3836]
[null,"Всего",null,null,799325,834507,913522,977365,1040069]
[]
[]
[]
[]
[]
[]
[]
[]
[]
[]
[]
[]
[]
[]
[]
[]
[]
[]
[]
[]
[]
[]
[]
[]
[]
[]
[]
[null,"Количество уникальных клиентов в Системе торгов (по состоянию на последний день месяца) (за последние 6 месяцев):",null,null,null,null,null,"Таблица 2"]
[null,"Группы клиентов",{"$f":"EDATE(D83,-1)","v":"2016-03-30"},{"$f":"EDATE(E83,-1)","v":"2016-04-30"},{"$f":"EDATE(F83,-1)","v":"2016-05-30"},{"$f":"EDATE(G83,-1)","v":"2016-06-30"},{"$f":"EDATE(H83,-1)","v":"2016-07-31"},{"$f":"EDATE(E11,1)","v":"2016-08-31"}]
[null,"Физические лица",1008379,1014752,1018892,1028991,1033667,1040684]
[null,"Юридические лица",19035,19023,19023,19118,19019,19083]
[null,"Иностранные лица",8480,8800,8928,9251,8797,8850]
[null,"Клиенты, передавшие свои средства в ДУ",2548,1422,1400,1412,1620,2017]
[null,"Всего",1038442,1043997,1048243,1058772,1063103,1070634]
[]
[]
[]
[]
[]
[]
[]
[]
[]
[]
[]
[]
[]
[]
[]
[]
[]
[]
[]
[]
[]
[]
[]
[]
[]
[]
[]
[]
[]
[]
[]
[]
[]
[]
[]
[null,"Дополнительные показатели за",{"$f":"B3","v":"2016-08-31"}]
[]
[]
[null,null,null,null,null,null,null,"Таблица 1"]
[null,"Участники торгов",null,null,null,null,"Абсолютные показатели"]
[null,"Количество Участников торгов, имеющих активных клиентов",null,null,null,null,350]
[]
[]
[]
[null,"Списки ведущих операторов фондового рынка - клиенты Участников торгов за ",null,null,null,{"$f":"C6","v":"2016-08-31"}]
[]
[]
[null,"Ведущие операторы рынка – число зарегистрированных клиентов",null,null,null,null,null,"Таблица 1"]
[null,"(по общему количеству уникальных клиентов всех типов, зарегистрированных в системе торгов биржи, в том числе  в течение месяца) "]
[null,"Наименование Участника торгов",null,null,null,null,"Количество клиентов"]
[null,"ВТБ 24 (ПАО)","ВТБ 24 (ПАО)","ВТБ 24 (ПАО)","ВТБ 24 (ПАО)","ВТБ 24 (ПАО)",239833,239833]
[null,"Сбербанк","Сбербанк","Сбербанк","Сбербанк","Сбербанк",185374,185374]
[null,"ФГ БКС","ФГ БКС","ФГ БКС","ФГ БКС","ФГ БКС",156304,156304]
[null,"АО \"ФИНАМ\"","АО \"ФИНАМ\"","АО \"ФИНАМ\"","АО \"ФИНАМ\"","АО \"ФИНАМ\"",154223,154223]
[null,"ФГ \"ОТКРЫТИЕ\"","ФГ \"ОТКРЫТИЕ\"","ФГ \"ОТКРЫТИЕ\"","ФГ \"ОТКРЫТИЕ\"","ФГ \"ОТКРЫТИЕ\"",84138,84138]
[null,"АО \"АЛЬФА-БАНК\"","АО \"АЛЬФА-БАНК\"","АО \"АЛЬФА-БАНК\"","АО \"АЛЬФА-БАНК\"","АО \"АЛЬФА-БАНК\"",61312,61312]
[null,"ООО \"АТОН\"","ООО \"АТОН\"","ООО \"АТОН\"","ООО \"АТОН\"","ООО \"АТОН\"",48909,48909]
[null,"АЛОР БРОКЕР","АЛОР БРОКЕР","АЛОР БРОКЕР","АЛОР БРОКЕР","АЛОР БРОКЕР",32911,32911]
[null,"КИТ Финанс (ООО)","КИТ Финанс (ООО)","КИТ Финанс (ООО)","КИТ Финанс (ООО)","КИТ Финанс (ООО)",21432,21432]
[null,"ООО \"Инвестиционная палата\"","ООО \"Инвестиционная палата\"","ООО \"Инвестиционная палата\"","ООО \"Инвестиционная палата\"","ООО \"Инвестиционная палата\"",19859,19859]
[]
[]
[null,"Ведущие операторы рынка – число активных клиентов",null,null,null,null,null,"Таблица 2"]
[null,"(по количеству уникальных клиентов, совершивших хотя бы одну сделку за месяц)"]
[null,"Наименование Участника торгов",null,null,null,null,"Количество клиентов"]
[null,"Сбербанк","Сбербанк","Сбербанк","Сбербанк","Сбербанк",12979,12979]
[null,"ФГ БКС","ФГ БКС","ФГ БКС","ФГ БКС","ФГ БКС",11627,11627]
[null,"АО \"ФИНАМ\"","АО \"ФИНАМ\"","АО \"ФИНАМ\"","АО \"ФИНАМ\"","АО \"ФИНАМ\"",11602,11602]
[null,"ВТБ 24 (ПАО)","ВТБ 24 (ПАО)","ВТБ 24 (ПАО)","ВТБ 24 (ПАО)","ВТБ 24 (ПАО)",10333,10333]
[null,"ФГ \"ОТКРЫТИЕ\"","ФГ \"ОТКРЫТИЕ\"","ФГ \"ОТКРЫТИЕ\"","ФГ \"ОТКРЫТИЕ\"","ФГ \"ОТКРЫТИЕ\"",9289,9289]
[null,"АО \"АЛЬФА-БАНК\"","АО \"АЛЬФА-БАНК\"","АО \"АЛЬФА-БАНК\"","АО \"АЛЬФА-БАНК\"","АО \"АЛЬФА-БАНК\"",4045,4045]
[null,"ООО \"АТОН\"","ООО \"АТОН\"","ООО \"АТОН\"","ООО \"АТОН\"","ООО \"АТОН\"",2776,2776]
[null,"Банк ГПБ (АО)","Банк ГПБ (АО)","Банк ГПБ (АО)","Банк ГПБ (АО)","Банк ГПБ (АО)",2195,2195]
[null,"ПАО \"Промсвязьбанк\"","ПАО \"Промсвязьбанк\"","ПАО \"Промсвязьбанк\"","ПАО \"Промсвязьбанк\"","ПАО \"Промсвязьбанк\"",1771,1771]
[null,"КИТ Финанс (ООО)","КИТ Финанс (ООО)","КИТ Финанс (ООО)","КИТ Финанс (ООО)","КИТ Финанс (ООО)",1384,1384]
[]
[]
[null,"Ведущие операторы рынка – объем клиентских операций",null,null,null,null,null,"Таблица 3"]
[null,"(по стоимостному объему сделок, заключенных в интересах клиентов за месяц) "]
[null,"Наименование Участника торгов",null,null,null,null,"Торговый оборот, руб."]
[null,"ФГ БКС","ФГ БКС","ФГ БКС","ФГ БКС","ФГ БКС",1436968590939.5701,1436968590939.5701]
[null,"ФГ \"ОТКРЫТИЕ\"","ФГ \"ОТКРЫТИЕ\"","ФГ \"ОТКРЫТИЕ\"","ФГ \"ОТКРЫТИЕ\"","ФГ \"ОТКРЫТИЕ\"",1320967397566.1499,1320967397566.1499]
[null,"ООО \"Ренессанс Брокер\" ","ООО \"Ренессанс Брокер\" ","ООО \"Ренессанс Брокер\" ","ООО \"Ренессанс Брокер\" ","ООО \"Ренессанс Брокер\" ",904323437987.96997,904323437987.96997]
[null,"ПАО \"Промсвязьбанк\"","ПАО \"Промсвязьбанк\"","ПАО \"Промсвязьбанк\"","ПАО \"Промсвязьбанк\"","ПАО \"Промсвязьбанк\"",515553059541.21002,515553059541.21002]
[null,"ООО \"БК РЕГИОН\"","ООО \"БК РЕГИОН\"","ООО \"БК РЕГИОН\"","ООО \"БК РЕГИОН\"","ООО \"БК РЕГИОН\"",490302700894.10101,490302700894.10101]
[null,"Сбербанк","Сбербанк","Сбербанк","Сбербанк","Сбербанк",438180365163.53998,438180365163.53998]
[null,"ООО \"ИФК \"МЕТРОПОЛЬ\"","ООО \"ИФК \"МЕТРОПОЛЬ\"","ООО \"ИФК \"МЕТРОПОЛЬ\"","ООО \"ИФК \"МЕТРОПОЛЬ\"","ООО \"ИФК \"МЕТРОПОЛЬ\"",430101935734.22998,430101935734.22998]
[null,"АО \"ФИНАМ\"","АО \"ФИНАМ\"","АО \"ФИНАМ\"","АО \"ФИНАМ\"","АО \"ФИНАМ\"",387537005448.35999,387537005448.35999]
[null,"ООО \"ИК ВЕЛЕС Капитал\"","ООО \"ИК ВЕЛЕС Капитал\"","ООО \"ИК ВЕЛЕС Капитал\"","ООО \"ИК ВЕЛЕС Капитал\"","ООО \"ИК ВЕЛЕС Капитал\"",319599805909.28802,319599805909.28802]
[null,"ООО \"УНИВЕР Капитал\"","ООО \"УНИВЕР Капитал\"","ООО \"УНИВЕР Капитал\"","ООО \"УНИВЕР Капитал\"","ООО \"УНИВЕР Капитал\"",298076129406.89001,298076129406.89001]

{"sheet":"September","index":8,"n_rows":178,"n_cols":9,"rows_kept":178,"cut":false,"hidden":false,"merged":[[22,1,22,3],[1,1,1,7],[2,1,2,7],[2,8,2,13],[10,1,10,3],[11,1,11,3],[12,1,12,3],[13,1,13,3],[14,1,14,3],[15,1,15,3],[16,1,16,3],[21,1,21,3],[38,1,38,3],[23,1,23,3],[24,1,24,3],[25,1,25,3],[26,1,26,3],[27,1,27,3],[32,1,32,3],[33,1,33,3],[34,1,34,3],[35,1,35,3],[36,1,36,3],[37,1,37,3],[137,1,137,5],[137,6,137,7],[47,7,47,8],[48,1,48,3],[49,1,49,3],[50,1,50,3],[51,1,51,3],[52,1,52,3],[53,1,53,3],[127,1,127,5],[127,6,127,7],[128,1,128,5],[128,6,128,7],[138,1,138,5],[138,6,138,7],[139,1,139,5],[139,6,139,7],[140,1,140,5],[140,6,140,7],[141,1,141,5],[141,6,141,7],[142,1,142,5],[142,6,142,7],[143,1,143,5],[143,6,143,7],[144,1,144,5],[144,6,144,7],[145,1,145,5],[145,6,145,7],[146,1,146,5],[146,6,146,7],[147,1,147,5],[147,6,147,7],[152,1,152,5],[152,6,152,7],[153,1,153,5],[153,6,153,7],[154,1,154,5],[154,6,154,7],[155,1,155,5],[155,6,155,7],[156,1,156,5],[156,6,156,7],[157,1,157,5],[157,6,157,7],[158,1,158,5],[158,6,158,7],[159,1,159,5],[159,6,159,7],[170,1,170,5],[170,6,170,7],[160,1,160,5],[160,6,160,7],[161,1,161,5],[161,6,161,7],[162,1,162,5],[162,6,162,7],[167,1,167,5],[167,6,167,7],[168,1,168,5],[168,6,168,7],[169,1,169,5],[169,6,169,7],[171,1,171,5],[171,6,171,7],[172,1,172,5],[172,6,172,7],[173,1,173,5],[173,6,173,7],[177,1,177,5],[177,6,177,7],[174,1,174,5],[174,6,174,7],[175,1,175,5],[175,6,175,7],[176,1,176,5],[176,6,176,7]]}
[]
[null,"Клиенты Участников торгов Фондовой биржи ММВБ"]
[null,"2016-09-30"]
[]
[]
[null,"Динамика количества клиентов за ",{"$f":"B3","v":"2016-09-30"}]
[]
[]
[]
[null,"Количество зарегистрированных клиентов в Системе торгов (по состоянию на последний день месяца):",null,null,null,null,null,"Таблица 1"]
[null,"Группы клиентов",null,null,{"$f":"EDATE(B3,-1)","v":"2016-08-30"},{"$f":"B3","v":"2016-09-30"},"Изменение (ед.)","Изменение (%)"]
[null,"Физические лица",null,null,{"$f":"August!F12","v":1456699},1401262,{"$f":"F12-E12","v":-55437},{"$f":"F12/E12-1","v":-3.8056592336508821E-2}]
[null,"Юридические лица",null,null,{"$f":"August!F13","v":31859},30895,{"$f":"F13-E13","v":-964},-3.0258325747826387E-2]
[null,"Иностранные лица",null,null,{"$f":"August!F14","v":13766},13958,192,1.3947406654075234E-2]
[null,"Иностранные физические лица ",null,null,{"$f":"August!F15","v":5890},6050,160,2.7164685908319219E-2]
[null,"Иностранные юридические лица ",null,null,{"$f":"August!F16","v":7876},7908,32,4.0629761300152722E-3]
[null,"Клиенты, передавшие свои средства в ДУ",null,null,{"$f":"August!F17","v":20000},22333,2333,0.11664999999999992]
[null,"Всего",null,null,{"$f":"August!F18","v":1522324},1468448,-53876,-3.5390626436947681E-2]
[]
[]
[null,"Количество уникальных клиентов в Системе торгов (по состоянию на последний день месяца):",null,null,null,null,null,"Таблица 2"]
[null,"Группы клиентов",null,null,{"$f":"EDATE(B3,-1)","v":"2016-08-30"},{"$f":"F11","v":"2016-09-30"},"Изменение (ед.)","Изменение (%)"]
[null,"Физические лица",null,null,{"$f":"August!F23","v":1040684},1049230,{"$f":"F23-E23","v":8546},{"$f":"F23/E23-1","v":8.2119067843842153E-3}]
[null,"Юридические лица",null,null,{"$f":"August!F24","v":19083},19110,{"$f":"F24-E24","v":27},{"$f":"F24/E24-1","v":1.4148718754913858E-3}]
[null,"Иностранные лица",null,null,{"$f":"August!F25","v":8850},8966,116,1.3107344632768303E-2]
[null,"Иностранные физические лица ",null,null,{"$f":"August!F26","v":5398},5512,114,2.1118932938125168E-2]
[null,"Иностранные юридические лица ",null,null,{"$f":"August!F27","v":3452},3454,2,5.7937427578225176E-4]
[null,"Клиенты, передавшие свои средства в ДУ",null,null,{"$f":"August!F28","v":2017},2602,585,0.29003470500743678]
[null,"Всего",null,null,{"$f":"August!F29","v":1070634},1079908,9274,8.662157189104791E-3]
[]
[]
[null,"Количество активных клиентов в Системе торгов (совершивших в течение месяца хотя бы одну сделку):",null,null,null,null,null,"Таблица 3"]
[null,"Группы клиентов",null,null,{"$f":"EDATE(B3,-1)","v":"2016-08-30"},{"$f":"F11","v":"2016-09-30"},"Изменение (ед.)","Изменение (%)"]
[null,"Физические лица",null,null,{"$f":"August!F34","v":74793},77990,{"$f":"F34-E34","v":3197},{"$f":"F34/E34-1","v":4.2744641878250667E-2}]
[null,"Юридические лица",null,null,{"$f":"August!F35","v":1084},1101,17,1.568265682656822E-2]
[null,"Иностранные лица",null,null,{"$f":"August!F36","v":623},671,48,7.7046548956661409E-2]
[null,"Иностранные физические лица ",null,null,{"$f":"August!F37","v":322},362,40,0.12422360248447206]
[null,"Иностранные юридические лица ",null,null,{"$f":"August!F38","v":301},309,8,2.6578073089700949E-2]
[null,"Клиенты, передавшие свои средства в ДУ",null,null,{"$f":"August!F39","v":1068},1076,8,7.4906367041198685E-3]
[null,"Всего",null,null,{"$f":"August!F40","v":77568},80838,3270,4.2156559405940541E-2]
[]
[]
[]
[null,"Изменение количества уникальных клиентов - ретроспективные данные"]
[]
[]
[]
[null,"Количество уникальных клиентов в Системе торгов (по состоянию на последний день месяца) (ежегодная статистика):",null,null,null,null,null,"Таблица 1"]
[null,"Группы клиентов",null,null,"2011-12-31","2012-12-31","2013-12-31","2014-12-31","2015-12-31"]
[null,"Физические лица",null,null,772175,805549,881844,944559,1006751]
[null,"Юридические лица",null,null,16850,17821,19539,20178,20753]
[null,"Иностранные лица",null,null,5058,5876,6957,7486,8729]
[null,"Клиенты, передавшие свои средства в ДУ",null,null,5242,5261,5182,5142,3836]
[null,"Всего",null,null,799325,834507,913522,977365,1040069]
[]
[]
[]
[]
[]
[]
[]
[]
[]
[]
[]
[]
[]
[]
[]
[]
[]
[]
[]
[]
[]
[]
[]
[]
[]
[]
[]
[null,"Количество уникальных клиентов в Системе торгов (по состоянию на последний день месяца) (за последние 6 месяцев):",null,null,null,null,null,"Таблица 2"]
[null,"Группы клиентов",{"$f":"EDATE(D83,-1)","v":"2016-04-30"},{"$f":"EDATE(E83,-1)","v":"2016-05-30"},{"$f":"EDATE(F83,-1)","v":"2016-06-30"},{"$f":"EDATE(G83,-1)","v":"2016-07-30"},{"$f":"EDATE(H83,-1)","v":"2016-08-30"},{"$f":"EDATE(E11,1)","v":"2016-09-30"}]
[null,"Физические лица",1014752,1018892,1028991,1033667,1040684,1049230]
[null,"Юридические лица",19023,19023,19118,19019,19083,19110]
[null,"Иностранные лица",8800,8928,9251,8797,8850,8966]
[null,"Клиенты, передавшие свои средства в ДУ",1422,1400,1412,1620,2017,2602]
[null,"Всего",1043997,1048243,1058772,1063103,1070634,1079908]
[]
[]
[]
[]
[]
[]
[]
[]
[]
[]
[]
[]
[]
[]
[]
[]
[]
[]
[]
[]
[]
[]
[]
[]
[]
[]
[]
[]
[]
[]
[]
[]
[]
[]
[]
[null,"Дополнительные показатели за",{"$f":"B3","v":"2016-09-30"}]
[]
[]
[null,null,null,null,null,null,null,"Таблица 1"]
[null,"Участники торгов",null,null,null,null,"Абсолютные показатели"]
[null,"Количество Участников торгов, имеющих активных клиентов",null,null,null,null,352]
[]
[]
[]
[null,"Списки ведущих операторов фондового рынка - клиенты Участников торгов за ",null,null,null,{"$f":"C6","v":"2016-09-30"}]
[]
[]
[null,"Ведущие операторы рынка – число зарегистрированных клиентов",null,null,null,null,null,"Таблица 1"]
[null,"(по общему количеству уникальных клиентов всех типов, зарегистрированных в системе торгов биржи, в том числе  в течение месяца) "]
[null,"Наименование Участника торгов",null,null,null,null,"Количество клиентов"]
[null,"ВТБ 24 (ПАО)","ВТБ 24 (ПАО)","ВТБ 24 (ПАО)","ВТБ 24 (ПАО)","ВТБ 24 (ПАО)",242051,242051]
[null,"Сбербанк","Сбербанк","Сбербанк","Сбербанк","Сбербанк",187250,187250]
[null,"ФГ БКС","ФГ БКС","ФГ БКС","ФГ БКС","ФГ БКС",158474,158474]
[null,"АО \"ФИНАМ\"","АО \"ФИНАМ\"","АО \"ФИНАМ\"","АО \"ФИНАМ\"","АО \"ФИНАМ\"",155636,155636]
[null,"ФГ \"ОТКРЫТИЕ\"","ФГ \"ОТКРЫТИЕ\"","ФГ \"ОТКРЫТИЕ\"","ФГ \"ОТКРЫТИЕ\"","ФГ \"ОТКРЫТИЕ\"",86071,86071]
[null,"АО \"АЛЬФА-БАНК\"","АО \"АЛЬФА-БАНК\"","АО \"АЛЬФА-БАНК\"","АО \"АЛЬФА-БАНК\"","АО \"АЛЬФА-БАНК\"",61394,61394]
[null,"ООО \"АТОН\"","ООО \"АТОН\"","ООО \"АТОН\"","ООО \"АТОН\"","ООО \"АТОН\"",49061,49061]
[null,"АЛОР БРОКЕР","АЛОР БРОКЕР","АЛОР БРОКЕР","АЛОР БРОКЕР","АЛОР БРОКЕР",32983,32983]
[null,"КИТ Финанс (ООО)","КИТ Финанс (ООО)","КИТ Финанс (ООО)","КИТ Финанс (ООО)","КИТ Финанс (ООО)",21491,21491]
[null,"ООО \"Инвестиционная палата\"","ООО \"Инвестиционная палата\"","ООО \"Инвестиционная палата\"","ООО \"Инвестиционная палата\"","ООО \"Инвестиционная палата\"",19859,19859]
[]
[]
[null,"Ведущие операторы рынка – число активных клиентов",null,null,null,null,null,"Таблица 2"]
[null,"(по количеству уникальных клиентов, совершивших хотя бы одну сделку за месяц)"]
[null,"Наименование Участника торгов",null,null,null,null,"Количество клиентов"]
[null,"Сбербанк","Сбербанк","Сбербанк","Сбербанк","Сбербанк",13266,13266]
[null,"ФГ БКС","ФГ БКС","ФГ БКС","ФГ БКС","ФГ БКС",12008,12008]
[null,"АО \"ФИНАМ\"","АО \"ФИНАМ\"","АО \"ФИНАМ\"","АО \"ФИНАМ\"","АО \"ФИНАМ\"",11970,11970]
[null,"ВТБ 24 (ПАО)","ВТБ 24 (ПАО)","ВТБ 24 (ПАО)","ВТБ 24 (ПАО)","ВТБ 24 (ПАО)",10893,10893]
[null,"ФГ \"ОТКРЫТИЕ\"","ФГ \"ОТКРЫТИЕ\"","ФГ \"ОТКРЫТИЕ\"","ФГ \"ОТКРЫТИЕ\"","ФГ \"ОТКРЫТИЕ\"",9748,9748]
[null,"АО \"АЛЬФА-БАНК\"","АО \"АЛЬФА-БАНК\"","АО \"АЛЬФА-БАНК\"","АО \"АЛЬФА-БАНК\"","АО \"АЛЬФА-БАНК\"",4169,4169]
[null,"ООО \"АТОН\"","ООО \"АТОН\"","ООО \"АТОН\"","ООО \"АТОН\"","ООО \"АТОН\"",2893,2893]
[null,"Банк ГПБ (АО)","Банк ГПБ (АО)","Банк ГПБ (АО)","Банк ГПБ (АО)","Банк ГПБ (АО)",2272,2272]
[null,"ПАО \"Промсвязьбанк\"","ПАО \"Промсвязьбанк\"","ПАО \"Промсвязьбанк\"","ПАО \"Промсвязьбанк\"","ПАО \"Промсвязьбанк\"",1791,1791]
[null,"ООО ФК \"РГС Инвестиции\"","ООО ФК \"РГС Инвестиции\"","ООО ФК \"РГС Инвестиции\"","ООО ФК \"РГС Инвестиции\"","ООО ФК \"РГС Инвестиции\"",1761,1761]
[]
[]
[null,"Ведущие операторы рынка – объем клиентских операций",null,null,null,null,null,"Таблица 3"]
[null,"(по стоимостному объему сделок, заключенных в интересах клиентов за месяц) "]
[null,"Наименование Участника торгов",null,null,null,null,"Торговый оборот, руб."]
[null,"ФГ БКС","ФГ БКС","ФГ БКС","ФГ БКС","ФГ БКС",1436968590939.5701,1436968590939.5701]
[null,"ФГ \"ОТКРЫТИЕ\"","ФГ \"ОТКРЫТИЕ\"","ФГ \"ОТКРЫТИЕ\"","ФГ \"ОТКРЫТИЕ\"","ФГ \"ОТКРЫТИЕ\"",1320967397566.1499,1320967397566.1499]
[null,"ООО \"Ренессанс Брокер\" ","ООО \"Ренессанс Брокер\" ","ООО \"Ренессанс Брокер\" ","ООО \"Ренессанс Брокер\" ","ООО \"Ренессанс Брокер\" ",904323437987.96997,904323437987.96997]
[null,"ПАО \"Промсвязьбанк\"","ПАО \"Промсвязьбанк\"","ПАО \"Промсвязьбанк\"","ПАО \"Промсвязьбанк\"","ПАО \"Промсвязьбанк\"",515553059541.21002,515553059541.21002]
[null,"ООО \"БК РЕГИОН\"","ООО \"БК РЕГИОН\"","ООО \"БК РЕГИОН\"","ООО \"БК РЕГИОН\"","ООО \"БК РЕГИОН\"",490302700894.10101,490302700894.10101]
[null,"Сбербанк","Сбербанк","Сбербанк","Сбербанк","Сбербанк",438180365163.53998,438180365163.53998]
[null,"ООО \"ИФК \"МЕТРОПОЛЬ\"","ООО \"ИФК \"МЕТРОПОЛЬ\"","ООО \"ИФК \"МЕТРОПОЛЬ\"","ООО \"ИФК \"МЕТРОПОЛЬ\"","ООО \"ИФК \"МЕТРОПОЛЬ\"",430101935734.22998,430101935734.22998]
[null,"АО \"ФИНАМ\"","АО \"ФИНАМ\"","АО \"ФИНАМ\"","АО \"ФИНАМ\"","АО \"ФИНАМ\"",387537005448.35999,387537005448.35999]
[null,"ООО \"ИК ВЕЛЕС Капитал\"","ООО \"ИК ВЕЛЕС Капитал\"","ООО \"ИК ВЕЛЕС Капитал\"","ООО \"ИК ВЕЛЕС Капитал\"","ООО \"ИК ВЕЛЕС Капитал\"",319599805909.28802,319599805909.28802]
[null,"ООО \"УНИВЕР Капитал\"","ООО \"УНИВЕР Капитал\"","ООО \"УНИВЕР Капитал\"","ООО \"УНИВЕР Капитал\"","ООО \"УНИВЕР Капитал\"",298076129406.89001,298076129406.89001]

{"sheet":"October","index":9,"n_rows":178,"n_cols":9,"rows_kept":178,"cut":false,"hidden":false,"merged":[[1,1,1,7],[2,1,2,7],[2,8,2,13],[10,1,10,3],[11,1,11,3],[12,1,12,3],[23,1,23,3],[24,1,24,3],[25,1,25,3],[26,1,26,3],[27,1,27,3],[32,1,32,3],[13,1,13,3],[14,1,14,3],[15,1,15,3],[16,1,16,3],[21,1,21,3],[22,1,22,3],[47,7,47,8],[48,1,48,3],[49,1,49,3],[50,1,50,3],[51,1,51,3],[52,1,52,3],[33,1,33,3],[34,1,34,3],[35,1,35,3],[36,1,36,3],[37,1,37,3],[38,1,38,3],[138,1,138,5],[138,6,138,7],[139,1,139,5],[139,6,139,7],[140,1,140,5],[140,6,140,7],[53,1,53,3],[127,1,127,5],[127,6,127,7],[128,1,128,5],[128,6,128,7],[137,1,137,5],[137,6,137,7],[144,1,144,5],[144,6,144,7],[145,1,145,5],[145,6,145,7],[146,1,146,5],[146,6,146,7],[141,1,141,5],[141,6,141,7],[142,1,142,5],[142,6,142,7],[143,1,143,5],[143,6,143,7],[154,1,154,5],[154,6,154,7],[155,1,155,5],[155,6,155,7],[156,1,156,5],[156,6,156,7],[147,1,147,5],[147,6,147,7],[152,1,152,5],[152,6,152,7],[153,1,153,5],[153,6,153,7],[160,1,160,5],[160,6,160,7],[161,1,161,5],[161,6,161,7],[162,1,162,5],[162,6,162,7],[157,1,157,5],[157,6,157,7],[158,1,158,5],[158,6,158,7],[159,1,159,5],[159,6,159,7],[170,1,170,5],[170,6,170,7],[171,1,171,5],[171,6,171,7],[172,1,172,5],[172,6,172,7],[167,1,167,5],[167,6,167,7],[168,1,168,5],[168,6,168,7],[169,1,169,5],[169,6,169,7],[176,1,176,5],[176,6,176,7],[177,1,177,5],[177,6,177,7],[173,1,173,5],[173,6,173,7],[174,1,174,5],[174,6,174,7],[175,1,175,5],[175,6,175,7]]}
[]
[null,"Клиенты Участников торгов Фондовой биржи ММВБ"]
[null,"2016-10-30"]
[]
[]
[null,"Динамика количества клиентов за ",{"$f":"B3","v":"2016-10-30"}]
[]
[]
[]
[null,"Количество зарегистрированных клиентов в Системе торгов (по состоянию на последний день месяца):",null,null,null,null,null,"Таблица 1"]
[null,"Группы клиентов",null,null,{"$f":"EDATE(B3,-1)","v":"2016-09-30"},{"$f":"B3","v":"2016-10-30"},"Изменение (ед.)","Изменение (%)"]
[null,"Физические лица",null,null,{"$f":"September!F12","v":1401262},1432458,{"$f":"F12-E12","v":31196},{"$f":"F12/E12-1","v":2.2262788828927071E-2}]
[null,"Юридические лица",null,null,{"$f":"September!F13","v":30895},30842,{"$f":"F13-E13","v":-53},-1.7154879430328895E-3]
[null,"Иностранные лица",null,null,{"$f":"September!F14","v":13958},13811,-147,-1.053159478435306E-2]
[null,"Иностранные физические лица ",null,null,{"$f":"September!F15","v":6050},6153,103,1.7024793388429771E-2]
[null,"Иностранные юридические лица ",null,null,{"$f":"September!F16","v":7908},7658,-250,-3.161355589276682E-2]
[null,"Клиенты, передавшие свои средства в ДУ",null,null,{"$f":"September!F17","v":22333},26822,4489,0.20100300004477689]
[null,"Всего",null,null,{"$f":"September!F18","v":1468448},1503933,35485,2.416496872888918E-2]
[]
[]
[null,"Количество уникальных клиентов в Системе торгов (по состоянию на последний день месяца):",null,null,null,null,null,"Таблица 2"]
[null,"Группы клиентов",null,null,{"$f":"EDATE(B3,-1)","v":"2016-09-30"},{"$f":"F11","v":"2016-10-30"},"Изменение (ед.)","Изменение (%)"]
[null,"Физические лица",null,null,{"$f":"September!F23","v":1049230},1061843,{"$f":"F23-E23","v":12613},{"$f":"F23/E23-1","v":1.2021196496478259E-2}]
[null,"Юридические лица",null,null,{"$f":"September!F24","v":19110},18990,{"$f":"F24-E24","v":-120},{"$f":"F24/E24-1","v":-6.2794348508634634E-3}]
[null,"Иностранные лица",null,null,{"$f":"September!F25","v":8966},9026,60,6.6919473566808829E-3]
[null,"Иностранные физические лица ",null,null,{"$f":"September!F26","v":5512},5589,77,1.3969521044992828E-2]
[null,"Иностранные юридические лица ",null,null,{"$f":"September!F27","v":3454},3437,-17,-4.9218297625941432E-3]
[null,"Клиенты, передавшие свои средства в ДУ",null,null,{"$f":"September!F28","v":2602},7021,4419,1.6983089930822444]
[null,"Всего",null,null,{"$f":"September!F29","v":1079908},1096880,16972,1.57161535982695E-2]
[]
[]
[null,"Количество активных клиентов в Системе торгов (совершивших в течение месяца хотя бы одну сделку):",null,null,null,null,null,"Таблица 3"]
[null,"Группы клиентов",null,null,{"$f":"EDATE(B3,-1)","v":"2016-09-30"},{"$f":"F11","v":"2016-10-30"},"Изменение (ед.)","Изменение (%)"]
[null,"Физические лица",null,null,{"$f":"September!F34","v":77990},75984,{"$f":"F34-E34","v":-2006},{"$f":"F34/E34-1","v":-2.5721246313629931E-2}]
[null,"Юридические лица",null,null,{"$f":"September!F35","v":1101},1066,-35,-3.1789282470481406E-2]
[null,"Иностранные лица",null,null,{"$f":"September!F36","v":671},654,-17,-2.5335320417287588E-2]
[null,"Иностранные физические лица ",null,null,{"$f":"September!F37","v":362},334,-28,-7.7348066298342566E-2]
[null,"Иностранные юридические лица ",null,null,{"$f":"September!F38","v":309},320,11,3.5598705501618033E-2]
[null,"Клиенты, передавшие свои средства в ДУ",null,null,{"$f":"September!F39","v":1076},3423,2347,2.1812267657992566]
[null,"Всего",null,null,{"$f":"September!F40","v":80838},81127,289,3.5750513372423409E-3]
[]
[]
[]
[null,"Изменение количества уникальных клиентов - ретроспективные данные"]
[]
[]
[]
[null,"Количество уникальных клиентов в Системе торгов (по состоянию на последний день месяца) (ежегодная статистика):",null,null,null,null,null,"Таблица 1"]
[null,"Группы клиентов",null,null,"2011-12-31","2012-12-31","2013-12-31","2014-12-31","2015-12-31"]
[null,"Физические лица",null,null,772175,805549,881844,944559,1006751]
[null,"Юридические лица",null,null,16850,17821,19539,20178,20753]
[null,"Иностранные лица",null,null,5058,5876,6957,7486,8729]
[null,"Клиенты, передавшие свои средства в ДУ",null,null,5242,5261,5182,5142,3836]
[null,"Всего",null,null,799325,834507,913522,977365,1040069]
[]
[]
[]
[]
[]
[]
[]
[]
[]
[]
[]
[]
[]
[]
[]
[]
[]
[]
[]
[]
[]
[]
[]
[]
[]
[]
[]
[null,"Количество уникальных клиентов в Системе торгов (по состоянию на последний день месяца) (за последние 6 месяцев):",null,null,null,null,null,"Таблица 2"]
[null,"Группы клиентов",{"$f":"EDATE(D83,-1)","v":"2016-05-30"},{"$f":"EDATE(E83,-1)","v":"2016-06-30"},{"$f":"EDATE(F83,-1)","v":"2016-07-30"},{"$f":"EDATE(G83,-1)","v":"2016-08-30"},{"$f":"EDATE(H83,-1)","v":"2016-09-30"},{"$f":"EDATE(E11,1)","v":"2016-10-30"}]
[null,"Физические лица",1018892,1028991,1033667,1040684,1049230,1061843]
[null,"Юридические лица",19023,19118,19019,19083,19110,18990]
[null,"Иностранные лица",8928,9251,8797,8850,8966,9026]
[null,"Клиенты, передавшие свои средства в ДУ",1400,1412,1620,2017,2602,7021]
[null,"Всего",1048243,1058772,1063103,1070634,1079908,1096880]
[]
[]
[]
[]
[]
[]
[]
[]
[]
[]
[]
[]
[]
[]
[]
[]
[]
[]
[]
[]
[]
[]
[]
[]
[]
[]
[]
[]
[]
[]
[]
[]
[]
[]
[]
[null,"Дополнительные показатели за",{"$f":"B3","v":"2016-10-30"}]
[]
[]
[null,null,null,null,null,null,null,"Таблица 1"]
[null,"Участники торгов",null,null,null,null,"Абсолютные показатели"]
[null,"Количество Участников торгов, имеющих активных клиентов",null,null,null,null,350]
[]
[]
[]
[null,"Списки ведущих операторов фондового рынка - клиенты Участников торгов за ",null,null,null,{"$f":"C6","v":"2016-10-30"}]
[]
[]
[null,"Ведущие операторы рынка – число зарегистрированных клиентов",null,null,null,null,null,"Таблица 1"]
[null,"(по общему количеству уникальных клиентов всех типов, зарегистрированных в системе торгов биржи, в том числе  в течение месяца) "]
[null,"Наименование Участника торгов",null,null,null,null,"Количество клиентов"]
[null,"ВТБ 24 (ПАО)","ВТБ 24 (ПАО)","ВТБ 24 (ПАО)","ВТБ 24 (ПАО)","ВТБ 24 (ПАО)",244155,244155]
[null,"Сбербанк","Сбербанк","Сбербанк","Сбербанк","Сбербанк",189752,189752]
[null,"ФГ БКС","ФГ БКС","ФГ БКС","ФГ БКС","ФГ БКС",162846,162846]
[null,"АО \"ФИНАМ\"","АО \"ФИНАМ\"","АО \"ФИНАМ\"","АО \"ФИНАМ\"","АО \"ФИНАМ\"",157189,157189]
[null,"ФГ \"ОТКРЫТИЕ\"","ФГ \"ОТКРЫТИЕ\"","ФГ \"ОТКРЫТИЕ\"","ФГ \"ОТКРЫТИЕ\"","ФГ \"ОТКРЫТИЕ\"",87739,87739]
[null,"АО \"АЛЬФА-БАНК\"","АО \"АЛЬФА-БАНК\"","АО \"АЛЬФА-БАНК\"","АО \"АЛЬФА-БАНК\"","АО \"АЛЬФА-БАНК\"",61506,61506]
[null,"ООО \"АТОН\"","ООО \"АТОН\"","ООО \"АТОН\"","ООО \"АТОН\"","ООО \"АТОН\"",49237,49237]
[null,"АЛОР БРОКЕР","АЛОР БРОКЕР","АЛОР БРОКЕР","АЛОР БРОКЕР","АЛОР БРОКЕР",33076,33076]
[null,"КИТ Финанс (ООО)","КИТ Финанс (ООО)","КИТ Финанс (ООО)","КИТ Финанс (ООО)","КИТ Финанс (ООО)",21603,21603]
[null,"ООО \"Инвестиционная палата\"","ООО \"Инвестиционная палата\"","ООО \"Инвестиционная палата\"","ООО \"Инвестиционная палата\"","ООО \"Инвестиционная палата\"",19859,19859]
[]
[]
[null,"Ведущие операторы рынка – число активных клиентов",null,null,null,null,null,"Таблица 2"]
[null,"(по количеству уникальных клиентов, совершивших хотя бы одну сделку за месяц)"]
[null,"Наименование Участника торгов",null,null,null,null,"Количество клиентов"]
[null,"Сбербанк","Сбербанк","Сбербанк","Сбербанк","Сбербанк",12271,12271]
[null,"АО \"ФИНАМ\"","АО \"ФИНАМ\"","АО \"ФИНАМ\"","АО \"ФИНАМ\"","АО \"ФИНАМ\"",11904,11904]
[null,"ФГ БКС","ФГ БКС","ФГ БКС","ФГ БКС","ФГ БКС",11576,11576]
[null,"ВТБ 24 (ПАО)","ВТБ 24 (ПАО)","ВТБ 24 (ПАО)","ВТБ 24 (ПАО)","ВТБ 24 (ПАО)",11141,11141]
[null,"ФГ \"ОТКРЫТИЕ\"","ФГ \"ОТКРЫТИЕ\"","ФГ \"ОТКРЫТИЕ\"","ФГ \"ОТКРЫТИЕ\"","ФГ \"ОТКРЫТИЕ\"",9360,9360]
[null,"АО \"АЛЬФА-БАНК\"","АО \"АЛЬФА-БАНК\"","АО \"АЛЬФА-БАНК\"","АО \"АЛЬФА-БАНК\"","АО \"АЛЬФА-БАНК\"",3853,3853]
[null,"ООО \"АТОН\"","ООО \"АТОН\"","ООО \"АТОН\"","ООО \"АТОН\"","ООО \"АТОН\"",2753,2753]
[null,"Банк ГПБ (АО)","Банк ГПБ (АО)","Банк ГПБ (АО)","Банк ГПБ (АО)","Банк ГПБ (АО)",2304,2304]
[null,"ООО УК \"Альфа-Капитал\"","ООО УК \"Альфа-Капитал\"","ООО УК \"Альфа-Капитал\"","ООО УК \"Альфа-Капитал\"","ООО УК \"Альфа-Капитал\"",2222,2222]
[null,"ПАО \"Промсвязьбанк\"","ПАО \"Промсвязьбанк\"","ПАО \"Промсвязьбанк\"","ПАО \"Промсвязьбанк\"","ПАО \"Промсвязьбанк\"",1845,1845]
[]
[]
[null,"Ведущие операторы рынка – объем клиентских операций",null,null,null,null,null,"Таблица 3"]
[null,"(по стоимостному объему сделок, заключенных в интересах клиентов за месяц) "]
[null,"Наименование Участника торгов",null,null,null,null,"Торговый оборот, руб."]
[null,"ФГ \"ОТКРЫТИЕ\"","ФГ \"ОТКРЫТИЕ\"","ФГ \"ОТКРЫТИЕ\"","ФГ \"ОТКРЫТИЕ\"","ФГ \"ОТКРЫТИЕ\"",1739515728889.8301,1739515728889.8301]
[null,"ФГ БКС","ФГ БКС","ФГ БКС","ФГ БКС","ФГ БКС",1354600750295.73,1354600750295.73]
[null,"ООО \"Ренессанс Брокер\" ","ООО \"Ренессанс Брокер\" ","ООО \"Ренессанс Брокер\" ","ООО \"Ренессанс Брокер\" ","ООО \"Ренессанс Брокер\" ",1070668418695.1801,1070668418695.1801]
[null,"ПАО \"Промсвязьбанк\"","ПАО \"Промсвязьбанк\"","ПАО \"Промсвязьбанк\"","ПАО \"Промсвязьбанк\"","ПАО \"Промсвязьбанк\"",576882860772.34998,576882860772.34998]
[null,"ООО \"БК РЕГИОН\"","ООО \"БК РЕГИОН\"","ООО \"БК РЕГИОН\"","ООО \"БК РЕГИОН\"","ООО \"БК РЕГИОН\"",507189729827.97498,507189729827.97498]
[null,"Сбербанк","Сбербанк","Сбербанк","Сбербанк","Сбербанк",465952895039.53998,465952895039.53998]
[null,"ООО \"ИФК \"МЕТРОПОЛЬ\"","ООО \"ИФК \"МЕТРОПОЛЬ\"","ООО \"ИФК \"МЕТРОПОЛЬ\"","ООО \"ИФК \"МЕТРОПОЛЬ\"","ООО \"ИФК \"МЕТРОПОЛЬ\"",448705093242.35999,448705093242.35999]
[null,"АО \"ФИНАМ\"","АО \"ФИНАМ\"","АО \"ФИНАМ\"","АО \"ФИНАМ\"","АО \"ФИНАМ\"",385004758466.03998,385004758466.03998]
[null,"ООО \"РОНИН\"","ООО \"РОНИН\"","ООО \"РОНИН\"","ООО \"РОНИН\"","ООО \"РОНИН\"",321350632625.03003,321350632625.03003]
[null,"ООО \"ИК ВЕЛЕС Капитал\"","ООО \"ИК ВЕЛЕС Капитал\"","ООО \"ИК ВЕЛЕС Капитал\"","ООО \"ИК ВЕЛЕС Капитал\"","ООО \"ИК ВЕЛЕС Капитал\"",302439793282.547,302439793282.547]

{"sheet":"November","index":10,"n_rows":178,"n_cols":9,"rows_kept":178,"cut":false,"hidden":false,"merged":[[176,1,176,5],[176,6,176,7],[177,1,177,5],[177,6,177,7],[173,1,173,5],[173,6,173,7],[174,1,174,5],[174,6,174,7],[175,1,175,5],[175,6,175,7],[170,1,170,5],[170,6,170,7],[171,1,171,5],[171,6,171,7],[172,1,172,5],[172,6,172,7],[167,1,167,5],[167,6,167,7],[168,1,168,5],[168,6,168,7],[169,1,169,5],[169,6,169,7],[160,1,160,5],[160,6,160,7],[161,1,161,5],[161,6,161,7],[162,1,162,5],[162,6,162,7],[157,1,157,5],[157,6,157,7],[158,1,158,5],[158,6,158,7],[159,1,159,5],[159,6,159,7],[154,1,154,5],[154,6,154,7],[155,1,155,5],[155,6,155,7],[156,1,156,5],[156,6,156,7],[147,1,147,5],[147,6,147,7],[152,1,152,5],[152,6,152,7],[153,1,153,5],[153,6,153,7],[144,1,144,5],[144,6,144,7],[145,1,145,5],[145,6,145,7],[146,1,146,5],[146,6,146,7],[141,1,141,5],[141,6,141,7],[142,1,142,5],[142,6,142,7],[143,1,143,5],[143,6,143,7],[138,1,138,5],[138,6,138,7],[139,1,139,5],[139,6,139,7],[140,1,140,5],[140,6,140,7],[53,1,53,3],[127,1,127,5],[127,6,127,7],[128,1,128,5],[128,6,128,7],[137,1,137,5],[137,6,137,7],[47,7,47,8],[48,1,48,3],[49,1,49,3],[50,1,50,3],[51,1,51,3],[52,1,52,3],[33,1,33,3],[34,1,34,3],[35,1,35,3],[36,1,36,3],[37,1,37,3],[38,1,38,3],[26,1,26,3],[27,1,27,3],[32,1,32,3],[13,1,13,3],[14,1,14,3],[15,1,15,3],[16,1,16,3],[21,1,21,3],[22,1,22,3],[1,1,1,7],[2,1,2,7],[2,8,2,13],[10,1,10,3],[11,1,11,3],[12,1,12,3],[23,1,23,3],[24,1,24,3],[25,1,25,3]]}
[]
[null,"Клиенты Участников торгов Фондовой биржи ММВБ"]
[null,"2016-11-30"]
[]
[]
[null,"Динамика количества клиентов за ",{"$f":"B3","v":"2016-11-30"}]
[]
[]
[]
[null,"Количество зарегистрированных клиентов в Системе торгов (по состоянию на последний день месяца):",null,null,null,null,null,"Таблица 1"]
[null,"Группы клиентов",null,null,{"$f":"EDATE(B3,-1)","v":"2016-10-30"},{"$f":"B3","v":"2016-11-30"},"Изменение (ед.)","Изменение (%)"]
[null,"Физические лица",null,null,{"$f":"October!F12","v":1432458},1523242,{"$f":"F12-E12","v":90784},{"$f":"F12/E12-1","v":6.3376378225399987E-2}]
[null,"Юридические лица",null,null,{"$f":"October!F13","v":30842},32385,{"$f":"F13-E13","v":1543},5.0029180986965738E-2]
[null,"Иностранные лица",null,null,{"$f":"October!F14","v":13811},13790,-21,-1.5205271160668721E-3]
[null,"Иностранные физические лица ",null,null,{"$f":"October!F15","v":6153},6200,47,7.6385503006664024E-3]
[null,"Иностранные юридические лица ",null,null,{"$f":"October!F16","v":7658},7590,-68,-8.8796030295116291E-3]
[null,"Клиенты, передавшие свои средства в ДУ",null,null,{"$f":"October!F17","v":26822},30721,3899,0.14536574453806583]
[null,"Всего",null,null,{"$f":"October!F18","v":1503933},1600138,96205,6.3968940105709526E-2]
[]
[]
[null,"Количество уникальных клиентов в Системе торгов (по состоянию на последний день месяца):",null,null,null,null,null,"Таблица 2"]
[null,"Группы клиентов",null,null,{"$f":"EDATE(B3,-1)","v":"2016-10-30"},{"$f":"F11","v":"2016-11-30"},"Изменение (ед.)","Изменение (%)"]
[null,"Физические лица",null,null,{"$f":"October!F23","v":1061843},1080706,{"$f":"F23-E23","v":18863},{"$f":"F23/E23-1","v":1.7764396431487528E-2}]
[null,"Юридические лица",null,null,{"$f":"October!F24","v":18990},19037,{"$f":"F24-E24","v":47},{"$f":"F24/E24-1","v":2.4749868351763293E-3}]
[null,"Иностранные лица",null,null,{"$f":"October!F25","v":9026},9070,44,4.8748061156658196E-3]
[null,"Иностранные физические лица ",null,null,{"$f":"October!F26","v":5589},5652,63,1.1272141706924366E-2]
[null,"Иностранные юридические лица ",null,null,{"$f":"October!F27","v":3437},3418,-19,-5.5280768111725109E-3]
[null,"Клиенты, передавшие свои средства в ДУ",null,null,{"$f":"October!F28","v":7021},10116,3095,0.44082039595499212]
[null,"Всего",null,null,{"$f":"October!F29","v":1096880},1118929,22049,2.0101560790606099E-2]
[]
[]
[null,"Количество активных клиентов в Системе торгов (совершивших в течение месяца хотя бы одну сделку):",null,null,null,null,null,"Таблица 3"]
[null,"Группы клиентов",null,null,{"$f":"EDATE(B3,-1)","v":"2016-10-30"},{"$f":"F11","v":"2016-11-30"},"Изменение (ед.)","Изменение (%)"]
[null,"Физические лица",null,null,{"$f":"October!F34","v":75984},85263,{"$f":"F34-E34","v":9279},{"$f":"F34/E34-1","v":0.12211781427668988}]
[null,"Юридические лица",null,null,{"$f":"October!F35","v":1066},1065,-1,-9.3808630393998893E-4]
[null,"Иностранные лица",null,null,{"$f":"October!F36","v":654},708,54,8.256880733944949E-2]
[null,"Иностранные физические лица ",null,null,{"$f":"October!F37","v":334},393,59,0.17664670658682624]
[null,"Иностранные юридические лица ",null,null,{"$f":"October!F38","v":320},315,-5,-1.5625E-2]
[null,"Клиенты, передавшие свои средства в ДУ",null,null,{"$f":"October!F39","v":3423},6299,2876,0.84019865614957645]
[null,"Всего",null,null,{"$f":"October!F40","v":81127},93335,12208,0.15048011143022677]
[]
[]
[]
[null,"Изменение количества уникальных клиентов - ретроспективные данные"]
[]
[]
[]
[null,"Количество уникальных клиентов в Системе торгов (по состоянию на последний день месяца) (ежегодная статистика):",null,null,null,null,null,"Таблица 1"]
[null,"Группы клиентов",null,null,"2011-12-31","2012-12-31","2013-12-31","2014-12-31","2015-12-31"]
[null,"Физические лица",null,null,772175,805549,881844,944559,1006751]
[null,"Юридические лица",null,null,16850,17821,19539,20178,20753]
[null,"Иностранные лица",null,null,5058,5876,6957,7486,8729]
[null,"Клиенты, передавшие свои средства в ДУ",null,null,5242,5261,5182,5142,3836]
[null,"Всего",null,null,799325,834507,913522,977365,1040069]
[]
[]
[]
[]
[]
[]
[]
[]
[]
[]
[]
[]
[]
[]
[]
[]
[]
[]
[]
[]
[]
[]
[]
[]
[]
[]
[]
[null,"Количество уникальных клиентов в Системе торгов (по состоянию на последний день месяца) (за последние 6 месяцев):",null,null,null,null,null,"Таблица 2"]
[null,"Группы клиентов",{"$f":"EDATE(D83,-1)","v":"2016-06-30"},{"$f":"EDATE(E83,-1)","v":"2016-07-30"},{"$f":"EDATE(F83,-1)","v":"2016-08-30"},{"$f":"EDATE(G83,-1)","v":"2016-09-30"},{"$f":"EDATE(H83,-1)","v":"2016-10-30"},{"$f":"EDATE(E11,1)","v":"2016-11-30"}]
[null,"Физические лица",1028991,1033667,1040684,1049230,1061843,1080706]
[null,"Юридические лица",19118,19019,19083,19110,18990,19037]
[null,"Иностранные лица",9251,8797,8850,8966,9026,9070]
[null,"Клиенты, передавшие свои средства в ДУ",1412,1620,2017,2602,7021,10116]
[null,"Всего",1058772,1063103,1070634,1079908,1096880,1118929]
[]
[]
[]
[]
[]
[]
[]
[]
[]
[]
[]
[]
[]
[]
[]
[]
[]
[]
[]
[]
[]
[]
[]
[]
[]
[]
[]
[]
[]
[]
[]
[]
[]
[]
[]
[null,"Дополнительные показатели за",{"$f":"B3","v":"2016-11-30"}]
[]
[]
[null,null,null,null,null,null,null,"Таблица 1"]
[null,"Участники торгов",null,null,null,null,"Абсолютные показатели"]
[null,"Количество Участников торгов, имеющих активных клиентов",null,null,null,null,344]
[]
[]
[]
[null,"Списки ведущих операторов фондового рынка - клиенты Участников торгов за ",null,null,null,{"$f":"C6","v":"2016-11-30"}]
[]
[]
[null,"Ведущие операторы рынка – число зарегистрированных клиентов",null,null,null,null,null,"Таблица 1"]
[null,"(по общему количеству уникальных клиентов всех типов, зарегистрированных в системе торгов биржи, в том числе  в течение месяца) "]
[null,"Наименование Участника торгов",null,null,null,null,"Количество клиентов"]
[null,"ВТБ 24 (ПАО)","ВТБ 24 (ПАО)","ВТБ 24 (ПАО)","ВТБ 24 (ПАО)","ВТБ 24 (ПАО)",246199,246199]
[null,"Сбербанк","Сбербанк","Сбербанк","Сбербанк","Сбербанк",192901,192901]
[null,"ФГ БКС","ФГ БКС","ФГ БКС","ФГ БКС","ФГ БКС",171849,171849]
[null,"АО \"ФИНАМ\"","АО \"ФИНАМ\"","АО \"ФИНАМ\"","АО \"ФИНАМ\"","АО \"ФИНАМ\"",158407,158407]
[null,"ФГ \"ОТКРЫТИЕ\"","ФГ \"ОТКРЫТИЕ\"","ФГ \"ОТКРЫТИЕ\"","ФГ \"ОТКРЫТИЕ\"","ФГ \"ОТКРЫТИЕ\"",91393,91393]
[null,"АО \"АЛЬФА-БАНК\"","АО \"АЛЬФА-БАНК\"","АО \"АЛЬФА-БАНК\"","АО \"АЛЬФА-БАНК\"","АО \"АЛЬФА-БАНК\"",61421,61421]
[null,"ООО \"АТОН\"","ООО \"АТОН\"","ООО \"АТОН\"","ООО \"АТОН\"","ООО \"АТОН\"",49462,49462]
[null,"АЛОР БРОКЕР","АЛОР БРОКЕР","АЛОР БРОКЕР","АЛОР БРОКЕР","АЛОР БРОКЕР",33118,33118]
[null,"КИТ Финанс (ООО)","КИТ Финанс (ООО)","КИТ Финанс (ООО)","КИТ Финанс (ООО)","КИТ Финанс (ООО)",21704,21704]
[null,"ООО \"Инвестиционная палата\"","ООО \"Инвестиционная палата\"","ООО \"Инвестиционная палата\"","ООО \"Инвестиционная палата\"","ООО \"Инвестиционная палата\"",19859,19859]
[]
[]
[null,"Ведущие операторы рынка – число активных клиентов",null,null,null,null,null,"Таблица 2"]
[null,"(по количеству уникальных клиентов, совершивших хотя бы одну сделку за месяц)"]
[null,"Наименование Участника торгов",null,null,null,null,"Количество клиентов"]
[null,"Сбербанк","Сбербанк","Сбербанк","Сбербанк","Сбербанк",14460,14460]
[null,"АО \"ФИНАМ\"","АО \"ФИНАМ\"","АО \"ФИНАМ\"","АО \"ФИНАМ\"","АО \"ФИНАМ\"",13882,13882]
[null,"ФГ БКС","ФГ БКС","ФГ БКС","ФГ БКС","ФГ БКС",13372,13372]
[null,"ВТБ 24 (ПАО)","ВТБ 24 (ПАО)","ВТБ 24 (ПАО)","ВТБ 24 (ПАО)","ВТБ 24 (ПАО)",11306,11306]
[null,"ФГ \"ОТКРЫТИЕ\"","ФГ \"ОТКРЫТИЕ\"","ФГ \"ОТКРЫТИЕ\"","ФГ \"ОТКРЫТИЕ\"","ФГ \"ОТКРЫТИЕ\"",10532,10532]
[null,"ООО УК \"Альфа-Капитал\"","ООО УК \"Альфа-Капитал\"","ООО УК \"Альфа-Капитал\"","ООО УК \"Альфа-Капитал\"","ООО УК \"Альфа-Капитал\"",5354,5354]
[null,"АО \"АЛЬФА-БАНК\"","АО \"АЛЬФА-БАНК\"","АО \"АЛЬФА-БАНК\"","АО \"АЛЬФА-БАНК\"","АО \"АЛЬФА-БАНК\"",4221,4221]
[null,"ООО \"АТОН\"","ООО \"АТОН\"","ООО \"АТОН\"","ООО \"АТОН\"","ООО \"АТОН\"",3320,3320]
[null,"Банк ГПБ (АО)","Банк ГПБ (АО)","Банк ГПБ (АО)","Банк ГПБ (АО)","Банк ГПБ (АО)",2553,2553]
[null,"ПАО \"Промсвязьбанк\"","ПАО \"Промсвязьбанк\"","ПАО \"Промсвязьбанк\"","ПАО \"Промсвязьбанк\"","ПАО \"Промсвязьбанк\"",2030,2030]
[]
[]
[null,"Ведущие операторы рынка – объем клиентских операций",null,null,null,null,null,"Таблица 3"]
[null,"(по стоимостному объему сделок, заключенных в интересах клиентов за месяц) "]
[null,"Наименование Участника торгов",null,null,null,null,"Торговый оборот, руб."]
[null,"ФГ \"ОТКРЫТИЕ\"","ФГ \"ОТКРЫТИЕ\"","ФГ \"ОТКРЫТИЕ\"","ФГ \"ОТКРЫТИЕ\"","ФГ \"ОТКРЫТИЕ\"",1764627706889.99,1764627706889.99]
[null,"ФГ БКС","ФГ БКС","ФГ БКС","ФГ БКС","ФГ БКС",1518251528967,1518251528967]
[null,"ООО \"Ренессанс Брокер\" ","ООО \"Ренессанс Брокер\" ","ООО \"Ренессанс Брокер\" ","ООО \"Ренессанс Брокер\" ","ООО \"Ренессанс Брокер\" ",1158912362394.8601,1158912362394.8601]
[null,"Сбербанк","Сбербанк","Сбербанк","Сбербанк","Сбербанк",551927539733.43994,551927539733.43994]
[null,"ПАО \"Совкомбанк\"","ПАО \"Совкомбанк\"","ПАО \"Совкомбанк\"","ПАО \"Совкомбанк\"","ПАО \"Совкомбанк\"",512290359311.67999,512290359311.67999]
[null,"АО \"ФИНАМ\"","АО \"ФИНАМ\"","АО \"ФИНАМ\"","АО \"ФИНАМ\"","АО \"ФИНАМ\"",448942475447.47998,448942475447.47998]
[null,"ПАО \"Промсвязьбанк\"","ПАО \"Промсвязьбанк\"","ПАО \"Промсвязьбанк\"","ПАО \"Промсвязьбанк\"","ПАО \"Промсвязьбанк\"",425858313232.90997,425858313232.90997]
[null,"ООО \"ИФК \"МЕТРОПОЛЬ\"","ООО \"ИФК \"МЕТРОПОЛЬ\"","ООО \"ИФК \"МЕТРОПОЛЬ\"","ООО \"ИФК \"МЕТРОПОЛЬ\"","ООО \"ИФК \"МЕТРОПОЛЬ\"",424636216324.84003,424636216324.84003]
[null,"ООО \"ИК ВЕЛЕС Капитал\"","ООО \"ИК ВЕЛЕС Капитал\"","ООО \"ИК ВЕЛЕС Капитал\"","ООО \"ИК ВЕЛЕС Капитал\"","ООО \"ИК ВЕЛЕС Капитал\"",370492522357.13,370492522357.13]
[null,"ООО \"РОНИН\"","ООО \"РОНИН\"","ООО \"РОНИН\"","ООО \"РОНИН\"","ООО \"РОНИН\"",342506431948.03998,342506431948.03998]

{"sheet":"December","index":11,"n_rows":178,"n_cols":9,"rows_kept":178,"cut":false,"hidden":false,"merged":[[176,1,176,5],[176,6,176,7],[177,1,177,5],[177,6,177,7],[173,1,173,5],[173,6,173,7],[174,1,174,5],[174,6,174,7],[175,1,175,5],[175,6,175,7],[170,1,170,5],[170,6,170,7],[171,1,171,5],[171,6,171,7],[172,1,172,5],[172,6,172,7],[167,1,167,5],[167,6,167,7],[168,1,168,5],[168,6,168,7],[169,1,169,5],[169,6,169,7],[160,1,160,5],[160,6,160,7],[161,1,161,5],[161,6,161,7],[162,1,162,5],[162,6,162,7],[157,1,157,5],[157,6,157,7],[158,1,158,5],[158,6,158,7],[159,1,159,5],[159,6,159,7],[154,1,154,5],[154,6,154,7],[155,1,155,5],[155,6,155,7],[156,1,156,5],[156,6,156,7],[147,1,147,5],[147,6,147,7],[152,1,152,5],[152,6,152,7],[153,1,153,5],[153,6,153,7],[144,1,144,5],[144,6,144,7],[145,1,145,5],[145,6,145,7],[146,1,146,5],[146,6,146,7],[141,1,141,5],[141,6,141,7],[142,1,142,5],[142,6,142,7],[143,1,143,5],[143,6,143,7],[138,1,138,5],[138,6,138,7],[139,1,139,5],[139,6,139,7],[140,1,140,5],[140,6,140,7],[53,1,53,3],[127,1,127,5],[127,6,127,7],[128,1,128,5],[128,6,128,7],[137,1,137,5],[137,6,137,7],[47,7,47,8],[48,1,48,3],[49,1,49,3],[50,1,50,3],[51,1,51,3],[52,1,52,3],[33,1,33,3],[34,1,34,3],[35,1,35,3],[36,1,36,3],[37,1,37,3],[38,1,38,3],[26,1,26,3],[27,1,27,3],[32,1,32,3],[13,1,13,3],[14,1,14,3],[15,1,15,3],[16,1,16,3],[21,1,21,3],[22,1,22,3],[1,1,1,7],[2,1,2,7],[2,8,2,13],[10,1,10,3],[11,1,11,3],[12,1,12,3],[23,1,23,3],[24,1,24,3],[25,1,25,3]]}
[]
[null,"Клиенты Участников торгов Фондовой биржи ММВБ"]
[null,"2016-12-31"]
[]
[]
[null,"Динамика количества клиентов за ",{"$f":"B3","v":"2016-12-31"}]
[]
[]
[]
[null,"Количество зарегистрированных клиентов в Системе торгов (по состоянию на последний день месяца):",null,null,null,null,null,"Таблица 1"]
[null,"Группы клиентов",null,null,{"$f":"EDATE(B3,-1)","v":"2016-11-30"},{"$f":"B3","v":"2016-12-31"},"Изменение (ед.)","Изменение (%)"]
[null,"Физические лица",null,null,{"$f":"November!F12","v":1523242},1499778,{"$f":"F12-E12","v":-23464},{"$f":"F12/E12-1","v":-1.5403987022416632E-2}]
[null,"Юридические лица",null,null,{"$f":"November!F13","v":32385},30427,{"$f":"F13-E13","v":-1958},-6.0460089547630047E-2]
[null,"Иностранные лица",null,null,{"$f":"November!F14","v":13790},13937,147,1.0659898477157315E-2]
[null,"Иностранные физические лица ",null,null,{"$f":"November!F15","v":6200},6346,146,2.3548387096774093E-2]
[null,"Иностранные юридические лица ",null,null,{"$f":"November!F16","v":7590},7591,1,1.317523056654224E-4]
[null,"Клиенты, передавшие свои средства в ДУ",null,null,{"$f":"November!F17","v":30721},31549,828,2.6952247648188488E-2]
[null,"Всего",null,null,{"$f":"November!F18","v":1600138},1575691,-24447,-1.5278057267560707E-2]
[]
[]
[null,"Количество уникальных клиентов в Системе торгов (по состоянию на последний день месяца):",null,null,null,null,null,"Таблица 2"]
[null,"Группы клиентов",null,null,{"$f":"EDATE(B3,-1)","v":"2016-11-30"},{"$f":"F11","v":"2016-12-31"},"Изменение (ед.)","Изменение (%)"]
[null,"Физические лица",null,null,{"$f":"November!F23","v":1080706},1102966,{"$f":"F23-E23","v":22260},{"$f":"F23/E23-1","v":2.0597646353402332E-2}]
[null,"Юридические лица",null,null,{"$f":"November!F24","v":19037},18622,{"$f":"F24-E24","v":-415},{"$f":"F24/E24-1","v":-2.1799653306718514E-2}]
[null,"Иностранные лица",null,null,{"$f":"November!F25","v":9070},9215,145,1.5986769570011106E-2]
[null,"Иностранные физические лица ",null,null,{"$f":"November!F26","v":5652},5793,141,2.494692144373678E-2]
[null,"Иностранные юридические лица ",null,null,{"$f":"November!F27","v":3418},3422,4,1.170275014628519E-3]
[null,"Клиенты, передавшие свои средства в ДУ",null,null,{"$f":"November!F28","v":10116},10694,578,5.713720838275993E-2]
[null,"Всего",null,null,{"$f":"November!F29","v":1118929},1141497,22568,2.0169286880579618E-2]
[]
[]
[null,"Количество активных клиентов в Системе торгов (совершивших в течение месяца хотя бы одну сделку):",null,null,null,null,null,"Таблица 3"]
[null,"Группы клиентов",null,null,{"$f":"EDATE(B3,-1)","v":"2016-11-30"},{"$f":"F11","v":"2016-12-31"},"Изменение (ед.)","Изменение (%)"]
[null,"Физические лица",null,null,{"$f":"November!F34","v":85263},95743,{"$f":"F34-E34","v":10480},{"$f":"F34/E34-1","v":0.12291380786507622}]
[null,"Юридические лица",null,null,{"$f":"November!F35","v":1065},1182,117,0.10985915492957754]
[null,"Иностранные лица",null,null,{"$f":"November!F36","v":708},735,27,3.8135593220338881E-2]
[null,"Иностранные физические лица ",null,null,{"$f":"November!F37","v":393},402,9,2.2900763358778553E-2]
[null,"Иностранные юридические лица ",null,null,{"$f":"November!F38","v":315},333,18,5.7142857142857162E-2]
[null,"Клиенты, передавшие свои средства в ДУ",null,null,{"$f":"November!F39","v":6299},3524,-2775,-0.44054611843149705]
[null,"Всего",null,null,{"$f":"November!F40","v":93335},101184,7849,8.409492687630582E-2]
[]
[]
[]
[null,"Изменение количества уникальных клиентов - ретроспективные данные"]
[]
[]
[]
[null,"Количество уникальных клиентов в Системе торгов (по состоянию на последний день месяца) (ежегодная статистика):",null,null,null,null,null,"Таблица 1"]
[null,"Группы клиентов",null,null,"2012-12-31","2013-12-31","2014-12-31","2015-12-31","2016-12-31"]
[null,"Физические лица",null,null,805549,881844,944559,1006751,1102966]
[null,"Юридические лица",null,null,17821,19539,20178,20753,18622]
[null,"Иностранные лица",null,null,5876,6957,7486,8729,9215]
[null,"Клиенты, передавшие свои средства в ДУ",null,null,5261,5182,5142,3836,10694]
[null,"Всего",null,null,834507,913522,977365,1040069,1141497]
[]
[]
[]
[]
[]
[]
[]
[]
[]
[]
[]
[]
[]
[]
[]
[]
[]
[]
[]
[]
[]
[]
[]
[]
[]
[]
[]
[null,"Количество уникальных клиентов в Системе торгов (по состоянию на последний день месяца) (за последние 6 месяцев):",null,null,null,null,null,"Таблица 2"]
[null,"Группы клиентов",{"$f":"EDATE(D83,-1)","v":"2016-07-30"},{"$f":"EDATE(E83,-1)","v":"2016-08-30"},{"$f":"EDATE(F83,-1)","v":"2016-09-30"},{"$f":"EDATE(G83,-1)","v":"2016-10-30"},{"$f":"EDATE(H83,-1)","v":"2016-11-30"},{"$f":"EDATE(E11,1)","v":"2016-12-30"}]
[null,"Физические лица",1033667,1040684,1049230,1061843,1080706,1102966]
[null,"Юридические лица",19019,19083,19110,18990,19037,18622]
[null,"Иностранные лица",8797,8850,8966,9026,9070,9215]
[null,"Клиенты, передавшие свои средства в ДУ",1620,2017,2602,7021,10116,10694]
[null,"Всего",1063103,1070634,1079908,1096880,1118929,1141497]
[]
[]
[]
[]
[]
[]
[]
[]
[]
[]
[]
[]
[]
[]
[]
[]
[]
[]
[]
[]
[]
[]
[]
[]
[]
[]
[]
[]
[]
[]
[]
[]
[]
[]
[]
[null,"Дополнительные показатели за",{"$f":"B3","v":"2016-12-31"}]
[]
[]
[null,null,null,null,null,null,null,"Таблица 1"]
[null,"Участники торгов",null,null,null,null,"Абсолютные показатели"]
[null,"Количество Участников торгов, имеющих активных клиентов",null,null,null,null,351]
[]
[]
[]
[null,"Списки ведущих операторов фондового рынка - клиенты Участников торгов за ",null,null,null,{"$f":"C6","v":"2016-12-31"}]
[]
[]
[null,"Ведущие операторы рынка – число зарегистрированных клиентов",null,null,null,null,null,"Таблица 1"]
[null,"(по общему количеству уникальных клиентов всех типов, зарегистрированных в системе торгов биржи, в том числе  в течение месяца) "]
[null,"Наименование Участника торгов",null,null,null,null,"Количество клиентов"]
[null,"ВТБ 24 (ПАО)","ВТБ 24 (ПАО)","ВТБ 24 (ПАО)","ВТБ 24 (ПАО)","ВТБ 24 (ПАО)",249474,249474]
[null,"Сбербанк","Сбербанк","Сбербанк","Сбербанк","Сбербанк",196634,196634]
[null,"ФГ БКС","ФГ БКС","ФГ БКС","ФГ БКС","ФГ БКС",181728,181728]
[null,"АО \"ФИНАМ\"","АО \"ФИНАМ\"","АО \"ФИНАМ\"","АО \"ФИНАМ\"","АО \"ФИНАМ\"",160378,160378]
[null,"ФГ \"ОТКРЫТИЕ\"","ФГ \"ОТКРЫТИЕ\"","ФГ \"ОТКРЫТИЕ\"","ФГ \"ОТКРЫТИЕ\"","ФГ \"ОТКРЫТИЕ\"",94369,94369]
[null,"АО \"АЛЬФА-БАНК\"","АО \"АЛЬФА-БАНК\"","АО \"АЛЬФА-БАНК\"","АО \"АЛЬФА-БАНК\"","АО \"АЛЬФА-БАНК\"",61471,61471]
[null,"ООО \"АТОН\"","ООО \"АТОН\"","ООО \"АТОН\"","ООО \"АТОН\"","ООО \"АТОН\"",49755,49755]
[null,"АЛОР БРОКЕР","АЛОР БРОКЕР","АЛОР БРОКЕР","АЛОР БРОКЕР","АЛОР БРОКЕР",33250,33250]
[null,"КИТ Финанс (АО)","КИТ Финанс (АО)","КИТ Финанс (АО)","КИТ Финанс (АО)","КИТ Финанс (АО)",21868,21868]
[null,"ООО \"Инвестиционная палата\"","ООО \"Инвестиционная палата\"","ООО \"Инвестиционная палата\"","ООО \"Инвестиционная палата\"","ООО \"Инвестиционная палата\"",19859,19859]
[]
[]
[null,"Ведущие операторы рынка – число активных клиентов",null,null,null,null,null,"Таблица 2"]
[null,"(по количеству уникальных клиентов, совершивших хотя бы одну сделку за месяц)"]
[null,"Наименование Участника торгов",null,null,null,null,"Количество клиентов"]
[null,"Сбербанк","Сбербанк","Сбербанк","Сбербанк","Сбербанк",16198,16198]
[null,"АО \"ФИНАМ\"","АО \"ФИНАМ\"","АО \"ФИНАМ\"","АО \"ФИНАМ\"","АО \"ФИНАМ\"",15909,15909]
[null,"ФГ БКС","ФГ БКС","ФГ БКС","ФГ БКС","ФГ БКС",15484,15484]
[null,"ВТБ 24 (ПАО)","ВТБ 24 (ПАО)","ВТБ 24 (ПАО)","ВТБ 24 (ПАО)","ВТБ 24 (ПАО)",12899,12899]
[null,"ФГ \"ОТКРЫТИЕ\"","ФГ \"ОТКРЫТИЕ\"","ФГ \"ОТКРЫТИЕ\"","ФГ \"ОТКРЫТИЕ\"","ФГ \"ОТКРЫТИЕ\"",12290,12290]
[null,"АО \"АЛЬФА-БАНК\"","АО \"АЛЬФА-БАНК\"","АО \"АЛЬФА-БАНК\"","АО \"АЛЬФА-БАНК\"","АО \"АЛЬФА-БАНК\"",4561,4561]
[null,"ООО \"АТОН\"","ООО \"АТОН\"","ООО \"АТОН\"","ООО \"АТОН\"","ООО \"АТОН\"",3298,3298]
[null,"Банк ГПБ (АО)","Банк ГПБ (АО)","Банк ГПБ (АО)","Банк ГПБ (АО)","Банк ГПБ (АО)",2912,2912]
[null,"ООО УК \"Альфа-Капитал\"","ООО УК \"Альфа-Капитал\"","ООО УК \"Альфа-Капитал\"","ООО УК \"Альфа-Капитал\"","ООО УК \"Альфа-Капитал\"",2631,2631]
[null,"ПАО \"Промсвязьбанк\"","ПАО \"Промсвязьбанк\"","ПАО \"Промсвязьбанк\"","ПАО \"Промсвязьбанк\"","ПАО \"Промсвязьбанк\"",2384,2384]
[]
[]
[null,"Ведущие операторы рынка – объем клиентских операций",null,null,null,null,null,"Таблица 3"]
[null,"(по стоимостному объему сделок, заключенных в интересах клиентов за месяц) "]
[null,"Наименование Участника торгов",null,null,null,null,"Торговый оборот, руб."]
[null,"ФГ \"ОТКРЫТИЕ\"","ФГ \"ОТКРЫТИЕ\"","ФГ \"ОТКРЫТИЕ\"","ФГ \"ОТКРЫТИЕ\"","ФГ \"ОТКРЫТИЕ\"",1780135320449.29,1780135320449.29]
[null,"ФГ БКС","ФГ БКС","ФГ БКС","ФГ БКС","ФГ БКС",1599039882942.98,1599039882942.98]
[null,"ООО \"Ренессанс Брокер\" ","ООО \"Ренессанс Брокер\" ","ООО \"Ренессанс Брокер\" ","ООО \"Ренессанс Брокер\" ","ООО \"Ренессанс Брокер\" ",1006066971746.22,1006066971746.22]
[null,"Сбербанк","Сбербанк","Сбербанк","Сбербанк","Сбербанк",638035480241.18005,638035480241.18005]
[null,"ООО \"БК РЕГИОН\"","ООО \"БК РЕГИОН\"","ООО \"БК РЕГИОН\"","ООО \"БК РЕГИОН\"","ООО \"БК РЕГИОН\"",637937701775.79004,637937701775.79004]
[null,"ООО \"ИК ВЕЛЕС Капитал\"","ООО \"ИК ВЕЛЕС Капитал\"","ООО \"ИК ВЕЛЕС Капитал\"","ООО \"ИК ВЕЛЕС Капитал\"","ООО \"ИК ВЕЛЕС Капитал\"",582438371362.28003,582438371362.28003]
[null,"ПАО \"Совкомбанк\"","ПАО \"Совкомбанк\"","ПАО \"Совкомбанк\"","ПАО \"Совкомбанк\"","ПАО \"Совкомбанк\"",562026063061.18005,562026063061.18005]
[null,"АО \"ФИНАМ\"","АО \"ФИНАМ\"","АО \"ФИНАМ\"","АО \"ФИНАМ\"","АО \"ФИНАМ\"",491170627475.46002,491170627475.46002]
[null,"ООО \"УНИВЕР Капитал\"","ООО \"УНИВЕР Капитал\"","ООО \"УНИВЕР Капитал\"","ООО \"УНИВЕР Капитал\"","ООО \"УНИВЕР Капитал\"",467618182901.90002,467618182901.90002]
[null,"ООО \"ИФК \"МЕТРОПОЛЬ\"","ООО \"ИФК \"МЕТРОПОЛЬ\"","ООО \"ИФК \"МЕТРОПОЛЬ\"","ООО \"ИФК \"МЕТРОПОЛЬ\"","ООО \"ИФК \"МЕТРОПОЛЬ\"",426055554452.15002,426055554452.15002]