{"text_format":"1","workbook":"xlsx","n_sheets":13,"sheets":["Январь2012","Февраль2012","Март2012","Апрель2012","Май2012","Июнь2012","Июль2012","Август2012","Сентябрь2012","Октябрь2012","Ноябрь2012","Декабрь2012","Лист1"],"not_rendered":{"charts":24,"images":0,"macros":1,"external_links":1,"defined_names":1,"comments":0,"pivot_tables":0},"unopened":[],"bounds":{"document_bytes":16777216,"sheet_cells":100000,"rows_first":2000,"rows_last":500,"rows_between":2000,"halvings":0,"cell_chars":16384,"cell_head_chars":4096},"cells_cut":0,"cells_raw":0,"read":"whole","date_system":"1900"}

{"sheet":"Январь2012","index":0,"n_rows":177,"n_cols":8,"rows_kept":177,"cut":false,"hidden":false,"merged":[[38,1,38,3],[148,1,148,5],[139,6,139,7],[145,6,145,7],[153,1,153,5],[144,1,144,5],[140,6,140,7],[141,6,141,7],[142,6,142,7],[143,6,143,7],[144,6,144,7],[146,6,146,7],[147,6,147,7],[148,6,148,7],[152,1,152,5],[152,6,152,7],[145,1,145,5],[146,1,146,5],[147,1,147,5],[141,1,141,5],[142,1,142,5],[143,1,143,5],[139,1,139,5],[140,1,140,5],[48,1,48,3],[49,1,49,3],[37,1,37,3],[25,1,25,3],[26,1,26,3],[36,1,36,3],[1,1,1,7],[2,1,2,7],[10,1,10,3],[11,1,11,3],[12,1,12,3],[13,1,13,3],[27,1,27,3],[32,1,32,3],[14,1,14,3],[15,1,15,3],[33,1,33,3],[34,1,34,3],[35,1,35,3],[16,1,16,3],[21,1,21,3],[22,1,22,3],[23,1,23,3],[24,1,24,3],[50,1,50,3],[51,1,51,3],[138,1,138,5],[138,6,138,7],[129,1,129,5],[130,1,130,5],[128,1,128,5],[52,1,52,3],[53,1,53,3],[127,1,127,5],[127,6,127,7],[128,6,128,7],[129,6,129,7],[130,6,130,7],[157,6,157,7],[158,6,158,7],[153,6,153,7],[154,6,154,7],[155,6,155,7],[159,1,159,5],[160,1,160,5],[161,1,161,5],[162,1,162,5],[159,6,159,7],[160,6,160,7],[157,1,157,5],[158,1,158,5],[156,6,156,7],[154,1,154,5],[155,1,155,5],[156,1,156,5],[161,6,161,7],[162,6,162,7],[166,1,166,5],[166,6,166,7],[167,1,167,5],[168,1,168,5],[169,1,169,5],[170,1,170,5],[167,6,167,7],[168,6,168,7],[169,6,169,7],[170,6,170,7],[175,6,175,7],[176,6,176,7],[173,1,173,5],[174,1,174,5],[175,1,175,5],[176,1,176,5],[173,6,173,7],[174,6,174,7],[171,1,171,5],[172,1,172,5],[172,6,172,7],[171,6,171,7]]}
[]
[null,"Клиенты Участников торгов Фондовой биржи ММВБ"]
[null,"2012-01-01"]
[]
[]
[null,"Динамика количества клиентов за ",{"$f":"B3","v":"2012-01-01"}]
[]
[]
[]
[null,"Количество зарегистрированных клиентов в Системе торгов:",null,null,null,null,null,"Таблица 1"]
[null,"Группы клиентов",null,null,"2011-12-01","2012-01-01","Изменение (ед.)","Изменение (%)"]
[null,"Физические лица",null,null,954591,964377,{"$f":"F12-E12","v":9786},{"$f":"F12/E12-1","v":1.0251510856482016E-2}]
[null,"Юридические лица",null,null,32930,33291,{"$f":"F13-E13","v":361},{"$f":"F13/E13-1","v":1.096264804129965E-2}]
[null,"Нерезиденты",null,null,9804,10654,{"$f":"F14-E14","v":850},{"$f":"F14/E14-1","v":8.6699306405548793E-2}]
[null,"Нерезиденты - физические лица ",null,null,1845,1867,22,1.1924119E-2]
[null,"Нерезиденты - юридические лица ",null,null,7959,8787,828,0.10403316999999999]
[null,"Клиенты, передавшие свои средства в ДУ",null,null,16681,16797,{"$f":"F17-E17","v":116},{"$f":"F17/E17-1","v":6.9540195431927465E-3}]
[null,"Всего",null,null,1014006,1025119,{"$f":"F18-E18","v":11113},{"$f":"F18/E18-1","v":1.0959501225831003E-2}]
[]
[]
[null,"Количество уникальных клиентов в Системе торгов:",null,null,null,null,null,"Таблица 2"]
[null,"Группы клиентов",null,null,{"$f":"E11","v":"2011-12-01"},{"$f":"F11","v":"2012-01-01"},"Изменение (ед.)","Изменение (%)"]
[null,"Физические лица",null,null,772175,779514,{"$f":"F23-E23","v":7339},{"$f":"F23/E23-1","v":9.5043222067536792E-3}]
[null,"Юридические лица",null,null,16850,17011,{"$f":"F24-E24","v":161},{"$f":"F24/E24-1","v":9.5548961424332113E-3}]
[null,"Нерезиденты",null,null,5058,5180,{"$f":"F25-E25","v":122},{"$f":"F25/E25-1","v":2.4120205614867496E-2}]
[null,"Нерезиденты - физические лица ",null,null,1799,1820,21,1.1673151750972721E-2]
[null,"Нерезиденты - юридические лица ",null,null,3259,3360,101,3.099110156489715E-2]
[null,"Клиенты, передавшие свои средства в ДУ",null,null,5242,5257,{"$f":"F28-E28","v":15},{"$f":"F28/E28-1","v":2.8615032430370224E-3}]
[null,"Всего",null,null,799325,806962,{"$f":"F29-E29","v":7637},{"$f":"F29/E29-1","v":9.5543114502860682E-3}]
[]
[]
[null,"Количество активных клиентов в Системе торгов (совершивших в течение месяца хотя бы одну сделку):",null,null,null,null,null,"Таблица 3"]
[null,"Группы клиентов",null,null,{"$f":"EDATE(C6,-1)","v":"2011-12-01"},{"$f":"EDATE(E33,1)","v":"2012-01-01"},"Изменение (ед.)","Изменение (%)"]
[null,"Физические лица",null,null,93209,88477,{"$f":"F34-E34","v":-4732},{"$f":"F34/E34-1","v":-5.0767629735326003E-2}]
[null,"Юридические лица",null,null,1775,1488,{"$f":"F35-E35","v":-287},{"$f":"F35/E35-1","v":-0.16169014084507038}]
[null,"Нерезиденты",null,null,686,616,{"$f":"F36-E36","v":-70},{"$f":"F36/E36-1","v":-0.10204081632653061}]
[null,"Нерезиденты - физические лица ",null,null,201,194,-7,-3.4825870646766122E-2]
[null,"Нерезиденты - юридические лица ",null,null,485,422,-63,-0.12989690721649483]
[null,"Клиенты, передавшие свои средства в ДУ",null,null,1486,1366,{"$f":"F39-E39","v":-120},{"$f":"F39/E39-1","v":-8.075370121130554E-2}]
[null,"Всего",null,null,97156,91947,{"$f":"F40-E40","v":-5209},{"$f":"F40/E40-1","v":-5.361480505578653E-2}]
[]
[]
[]
[null,"Изменение количества уникальных клиентов - ретроспективные данные"]
[]
[]
[]
[null,"Количество уникальных клиентов в Системе торгов (ежегодная статистика):",null,null,null,null,null,"Таблица 1"]
[null,"Группы клиентов",null,null,"2008-12-31","2009-12-31","2010-12-31","2011-12-31"]
[null,"Физические лица",null,null,559320,671475,714295,772175]
[null,"Юридические лица",null,null,14748,16364,17170,16850]
[null,"Нерезиденты",null,null,3097,3851,4295,5058]
[null,"Клиенты, передавшие свои средства в ДУ",null,null,4512,4717,5348,5242]
[null,"Всего",null,null,581677,696407,741108,799325]
[]
[]
[]
[]
[]
[]
[]
[]
[]
[]
[]
[]
[]
[]
[]
[]
[]
[]
[]
[]
[]
[]
[]
[]
[]
[]
[]
[null,"Количество уникальных клиентов в Системе торгов (за последние 6 месяцев):",null,null,null,null,null,"Таблица 2"]
[null,"Группы клиентов","2011-08-31","2011-09-30","2011-10-31","2011-11-30","2011-12-31","2012-01-30"]
[null,"Физические лица",760620,756182,767680,774773,772175,{"$f":"IF(G83,F23,0)","v":779514}]
[null,"Юридические лица",17914,16858,17003,17114,16850,{"$f":"IF(G84,F24,0)","v":17011}]
[null,"Нерезиденты",3165,2939,2972,3002,5058,{"$f":"IF(G85,F25,0)","v":5180}]
[null,"Клиенты, передавшие свои средства в ДУ",5845,5301,5439,5463,5242,{"$f":"IF(G86,F28,0)","v":5257}]
[null,"Всего",789701,783477,795338,802636,799325,{"$f":"IF(G87,F29,0)","v":806962}]
[]
[]
[]
[]
[]
[]
[]
[]
[]
[]
[]
[]
[]
[]
[]
[]
[]
[]
[]
[]
[]
[]
[]
[]
[]
[]
[]
[]
[]
[]
[]
[]
[]
[]
[]
[null,"Дополнительные показатели за","2012-01-31"]
[]
[]
[null,null,null,null,null,null,null,"Таблица 1"]
[null,"Участники торгов",null,null,null,null,"Абсолютные показатели"]
[null,"Количество Участников торгов, имеющих зарегистрированных клиентов",null,null,null,null,739]
[null,"Количество Участников торгов, имеющих уникальных клиентов",null,null,null,null,739]
[null,"Количество Участников торгов, имеющих активных клиентов",null,null,null,null,456]
[]
[]
[]
[null,"Списки ведущих операторов фондового рынка - клиенты Участников торгов за ",null,null,null,{"$f":"C6","v":"2012-01-01"}]
[]
[]
[null,"Ведущие операторы рынка – число зарегистрированных клиентов",null,null,null,null,null,"Таблица 1"]
[null,"Наименование Участника торгов",null,null,null,null,"Количество клиентов"]
[null,"Сбербанк России ОАО",null,null,null,null,"189 072"]
[null,"ВТБ 24 (ЗАО)",null,null,null,null,"171 165"]
[null,"ЗАО \"ФИНАМ\"",null,null,null,null,"109 207"]
[null,"ООО \"Компания БКС\"",null,null,null,null,"95 008"]
[null,"ОАО \"АЛЬФА-БАНК\"",null,null,null,null,"56 306"]
[null,"ООО \"АТОН\"",null,null,null,null,"40 231"]
[null,"ФК \"ОТКРЫТИЕ\"",null,null,null,null,"26 612"]
[null,"ГК \"АЛОР\"",null,null,null,null,"19 035"]
[null,"ООО \"Инвестиционная палата\"",null,null,null,null,"18 706"]
[null,"КИТ Финанс (ООО)",null,null,null,null,"18 602"]
[]
[]
[null,"Ведущие операторы рынка – число активных клиентов",null,null,null,null,null,"Таблица 2"]
[null,"Наименование Участника торгов",null,null,null,null,"Количество клиентов"]
[null,"ЗАО \"ФИНАМ\"",null,null,null,null,"18 047"]
[null,"ООО \"Компания БКС\"",null,null,null,null,"14 914"]
[null,"Сбербанк России ОАО",null,null,null,null,"12 992"]
[null,"ВТБ 24 (ЗАО)",null,null,null,null,"8 850"]
[null,"ОАО \"АЛЬФА-БАНК\"",null,null,null,null,"5 865"]
[null,"ООО \"АТОН\"",null,null,null,null,"5 680"]
[null,"ФК \"ОТКРЫТИЕ\"",null,null,null,null,"3 375"]
[null,"КИТ Финанс (ООО)",null,null,null,null,"2 489"]
[null,"ГК \"АЛОР\"",null,null,null,null,"2 276"]
[null,"ООО \"НЭТТРЭЙДЕР\"",null,null,null,null,"1 579"]
[]
[]
[null,"Ведущие операторы рынка – объем клиентских операций",null,null,null,null,null,"Таблица 3"]
[null,"Наименование Участника торгов",null,null,null,null,"Торговый оборот, руб."]
[null,"ЗАО ИК \"Тройка Диалог\"",null,null,null,null,"928 909 986 093"]
[null,"ИК ”Ренессанс Капитал”",null,null,null,null,"756 791 310 063"]
[null,"ФК \"ОТКРЫТИЕ\"",null,null,null,null,"534 781 986 103"]
[null,"ОАО \"Промсвязьбанк\"",null,null,null,null,"451 120 751 066"]
[null,"ЗАО \"ФИНАМ\"",null,null,null,null,"381 706 975 857"]
[null,"ООО \"Компания БКС\"",null,null,null,null,"321 828 369 686"]
[null,"ООО \"АТОН\"",null,null,null,null,"217 222 805 057"]
[null,"ГК \"АЛОР\"",null,null,null,null,"155 589 616 549"]
[null,"ВТБ 24 (ЗАО)",null,null,null,null,"113 927 604 271"]
[null,"ООО \"ИК ВЕЛЕС Капитал\"",null,null,null,null,"103 399 232 313"]

{"sheet":"Февраль2012","index":1,"n_rows":177,"n_cols":8,"rows_kept":177,"cut":false,"hidden":false,"merged":[[176,6,176,7],[167,6,167,7],[168,6,168,7],[169,6,169,7],[170,6,170,7],[171,6,171,7],[173,6,173,7],[174,6,174,7],[14,1,14,3],[15,1,15,3],[25,1,25,3],[26,1,26,3],[36,1,36,3],[37,1,37,3],[176,1,176,5],[159,6,159,7],[160,6,160,7],[161,6,161,7],[162,6,162,7],[167,1,167,5],[168,1,168,5],[169,1,169,5],[170,1,170,5],[171,1,171,5],[129,6,129,7],[130,6,130,7],[172,1,172,5],[173,1,173,5],[174,1,174,5],[175,1,175,5],[172,6,172,7],[175,6,175,7],[166,1,166,5],[166,6,166,7],[139,1,139,5],[140,1,140,5],[141,1,141,5],[142,1,142,5],[143,1,143,5],[145,6,145,7],[146,6,146,7],[147,6,147,7],[148,6,148,7],[145,1,145,5],[146,1,146,5],[147,1,147,5],[148,1,148,5],[141,6,141,7],[130,1,130,5],[138,1,138,5],[138,6,138,7],[152,1,152,5],[152,6,152,7],[144,1,144,5],[142,6,142,7],[143,6,143,7],[144,6,144,7],[139,6,139,7],[140,6,140,7],[32,1,32,3],[33,1,33,3],[34,1,34,3],[35,1,35,3],[38,1,38,3],[48,1,48,3],[49,1,49,3],[50,1,50,3],[129,1,129,5],[160,1,160,5],[161,1,161,5],[162,1,162,5],[158,6,158,7],[158,1,158,5],[24,1,24,3],[1,1,1,7],[2,1,2,7],[10,1,10,3],[11,1,11,3],[12,1,12,3],[13,1,13,3],[16,1,16,3],[21,1,21,3],[22,1,22,3],[23,1,23,3],[52,1,52,3],[53,1,53,3],[127,1,127,5],[127,6,127,7],[128,1,128,5],[128,6,128,7],[51,1,51,3],[27,1,27,3],[153,6,153,7],[154,6,154,7],[155,6,155,7],[156,6,156,7],[157,6,157,7],[155,1,155,5],[156,1,156,5],[157,1,157,5],[159,1,159,5],[153,1,153,5],[154,1,154,5]]}
[]
[null,"Клиенты Участников торгов Фондовой биржи ММВБ"]
[null,{"$f":"EDATE(Январь2012!B3,1)","v":"2012-02-01"}]
[]
[]
[null,"Динамика количества клиентов за ",{"$f":"B3","v":"2012-02-01"}]
[]
[]
[]
[null,"Количество зарегистрированных клиентов в Системе торгов:",null,null,null,null,null,"Таблица 1"]
[null,"Группы клиентов",null,null,"2012-01-31",{"$f":"EDATE(E11,1)","v":"2012-02-29"},"Изменение (ед.)","Изменение (%)"]
[null,"Физические лица",null,null,964377,968945,{"$f":"F12-E12","v":4568},{"$f":"F12/E12-1","v":4.7367367741038002E-3}]
[null,"Юридические лица",null,null,33291,33334,{"$f":"F13-E13","v":43},{"$f":"F13/E13-1","v":1.291640383286774E-3}]
[null,"Нерезиденты",null,null,10654,10792,{"$f":"F14-E14","v":138},{"$f":"F14/E14-1","v":1.2952881546836936E-2}]
[null,"Нерезиденты - физические лица ",null,null,1867,1890,23,1.2319228709159136E-2]
[null,"Нерезиденты - юридические лица ",null,null,8787,8902,115,1.3087515648116499E-2]
[null,"Клиенты, передавшие свои средства в ДУ",null,null,16797,16802,{"$f":"F17-E17","v":5},{"$f":"F17/E17-1","v":2.9767220336962552E-4}]
[null,"Всего",null,null,1025119,1029873,{"$f":"F18-E18","v":4754},{"$f":"F18/E18-1","v":4.6375103768441228E-3}]
[]
[]
[null,"Количество уникальных клиентов в Системе торгов:",null,null,null,null,null,"Таблица 2"]
[null,"Группы клиентов",null,null,{"$f":"E11","v":"2012-01-31"},{"$f":"F11","v":"2012-02-29"},"Изменение (ед.)","Изменение (%)"]
[null,"Физические лица",null,null,779514,782553,{"$f":"F23-E23","v":3039},{"$f":"F23/E23-1","v":3.8985829632309787E-3}]
[null,"Юридические лица",null,null,17011,17054,{"$f":"F24-E24","v":43},{"$f":"F24/E24-1","v":2.5277761448474489E-3}]
[null,"Нерезиденты",null,null,5180,5224,{"$f":"F25-E25","v":44},{"$f":"F25/E25-1","v":8.4942084942085661E-3}]
[null,"Нерезиденты - физические лица ",null,null,1820,1842,22,1.2087912087912045E-2]
[null,"Нерезиденты - юридические лица ",null,null,3360,3382,22,6.5476190476190244E-3]
[null,"Клиенты, передавшие свои средства в ДУ",null,null,5257,5274,{"$f":"F28-E28","v":17},{"$f":"F28/E28-1","v":3.2337835267262083E-3}]
[null,"Всего",null,null,806962,810105,{"$f":"F29-E29","v":3143},{"$f":"F29/E29-1","v":3.8948550241522106E-3}]
[]
[]
[null,"Количество активных клиентов в Системе торгов (совершивших в течение месяца хотя бы одну сделку):",null,null,null,null,null,"Таблица 3"]
[null,"Группы клиентов",null,null,{"$f":"EDATE(C6,-1)","v":"2012-01-01"},{"$f":"EDATE(E33,1)","v":"2012-02-01"},"Изменение (ед.)","Изменение (%)"]
[null,"Физические лица",null,null,88477,91762,{"$f":"F34-E34","v":3285},{"$f":"F34/E34-1","v":3.7128293228748666E-2}]
[null,"Юридические лица",null,null,1488,1629,{"$f":"F35-E35","v":141},{"$f":"F35/E35-1","v":9.4758064516129004E-2}]
[null,"Нерезиденты",null,null,616,705,{"$f":"F36-E36","v":89},{"$f":"F36/E36-1","v":0.14448051948051943}]
[null,"Нерезиденты - физические лица ",null,null,194,213,19,9.7938144329897003E-2]
[null,"Нерезиденты - юридические лица ",null,null,422,492,70,0.16587677725118488]
[null,"Клиенты, передавшие свои средства в ДУ",null,null,1366,1432,{"$f":"F39-E39","v":66},{"$f":"F39/E39-1","v":4.8316251830160972E-2}]
[null,"Всего",null,null,91947,95528,{"$f":"F40-E40","v":3581},{"$f":"F40/E40-1","v":3.8946349527445134E-2}]
[]
[]
[]
[null,"Изменение количества уникальных клиентов - ретроспективные данные"]
[]
[]
[]
[null,"Количество уникальных клиентов в Системе торгов (ежегодная статистика):",null,null,null,null,null,"Таблица 1"]
[null,"Группы клиентов",null,null,"2008-12-31","2009-12-31","2010-12-31","2011-12-31"]
[null,"Физические лица",null,null,559320,671475,714295,772175]
[null,"Юридические лица",null,null,14748,16364,17170,16850]
[null,"Нерезиденты",null,null,3097,3851,4295,5058]
[null,"Клиенты, передавшие свои средства в ДУ",null,null,4512,4717,5348,5242]
[null,"Всего",null,null,581677,696407,741108,799325]
[]
[]
[]
[]
[]
[]
[]
[]
[]
[]
[]
[]
[]
[]
[]
[]
[]
[]
[]
[]
[]
[]
[]
[]
[]
[]
[]
[null,"Количество уникальных клиентов в Системе торгов (за последние 6 месяцев):",null,null,null,null,null,"Таблица 2"]
[null,"Группы клиентов","2011-09-30","2011-10-31","2011-11-30","2011-12-31","2012-01-30",{"$f":"EDATE(E11,1)","v":"2012-02-29"}]
[null,"Физические лица",756182,767680,774773,772175,779514,782553]
[null,"Юридические лица",16858,17003,17114,16850,17011,17054]
[null,"Нерезиденты",2939,2972,3002,5058,5180,5224]
[null,"Клиенты, передавшие свои средства в ДУ",5301,5439,5463,5242,5257,5274]
[null,"Всего",783477,795338,802636,799325,806962,810105]
[]
[]
[]
[]
[]
[]
[]
[]
[]
[]
[]
[]
[]
[]
[]
[]
[]
[]
[]
[]
[]
[]
[]
[]
[]
[]
[]
[]
[]
[]
[]
[]
[]
[]
[]
[null,"Дополнительные показатели за","2012-02-29"]
[]
[]
[null,null,null,null,null,null,null,"Таблица 1"]
[null,"Участники торгов",null,null,null,null,"Абсолютные показатели"]
[null,"Количество Участников торгов, имеющих зарегистрированных клиентов",null,null,null,null,737]
[null,"Количество Участников торгов, имеющих уникальных клиентов",null,null,null,null,737]
[null,"Количество Участников торгов, имеющих активных клиентов",null,null,null,null,475]
[]
[]
[]
[null,"Списки ведущих операторов фондового рынка - клиенты Участников торгов за ",null,null,null,"2012-02-29"]
[]
[]
[null,"Ведущие операторы рынка – число зарегистрированных клиентов",null,null,null,null,null,"Таблица 1"]
[null,"Наименование Участника торгов",null,null,null,null,"Количество клиентов"]
[null,"Сбербанк России ОАО",null,null,null,null,"190 194"]
[null,"ВТБ 24 (ЗАО)",null,null,null,null,"172 271"]
[null,"ЗАО \"ФИНАМ\"",null,null,null,null,"110 214"]
[null,"ООО \"Компания БКС\"",null,null,null,null,"95 974"]
[null,"ОАО \"АЛЬФА-БАНК\"",null,null,null,null,"56 727"]
[null,"ООО \"АТОН\"",null,null,null,null,"40 463"]
[null,"ФК \"ОТКРЫТИЕ\"",null,null,null,null,"27 146"]
[null,"ГК \"АЛОР\"",null,null,null,null,"19 187"]
[null,"ООО \"Инвестиционная палата\"",null,null,null,null,"18 833"]
[null,"КИТ Финанс (ООО)",null,null,null,null,"18 671"]
[]
[]
[null,"Ведущие операторы рынка – число активных клиентов",null,null,null,null,null,"Таблица 2"]
[null,"Наименование Участника торгов",null,null,null,null,"Количество клиентов"]
[null,"ЗАО \"ФИНАМ\"",null,null,null,null,"17 816"]
[null,"ООО \"Компания БКС\"",null,null,null,null,"15 105"]
[null,"Сбербанк России ОАО",null,null,null,null,"14 358"]
[null,"ВТБ 24 (ЗАО)",null,null,null,null,"9 127"]
[null,"ОАО \"АЛЬФА-БАНК\"",null,null,null,null,"6 081"]
[null,"ООО \"АТОН\"",null,null,null,null,"5 984"]
[null,"ФК \"ОТКРЫТИЕ\"",null,null,null,null,"3 706"]
[null,"КИТ Финанс (ООО)",null,null,null,null,"2 541"]
[null,"ГК \"АЛОР\"",null,null,null,null,"2 331"]
[null,"ООО \"НЭТТРЭЙДЕР\"",null,null,null,null,"1 784"]
[]
[]
[null,"Ведущие операторы рынка – объем клиентских операций",null,null,null,null,null,"Таблица 3"]
[null,"Наименование Участника торгов",null,null,null,null,"Торговый оборот, руб."]
[null,"ИК ”Ренессанс Капитал”",null,null,null,null,"984 282 388 114"]
[null,"ЗАО ИК \"Тройка Диалог\"",null,null,null,null,"964 785 157 085"]
[null,"ФК \"ОТКРЫТИЕ\"",null,null,null,null,"557 640 698 138"]
[null,"ЗАО \"ФИНАМ\"",null,null,null,null,"425 669 500 969"]
[null,"ОАО \"Промсвязьбанк\"",null,null,null,null,"410 968 308 782"]
[null,"ООО \"Компания БКС\"",null,null,null,null,"351 651 019 239"]
[null,"ООО \"АТОН\"",null,null,null,null,"350 508 264 201"]
[null,"ГК \"АЛОР\"",null,null,null,null,"190 575 903 939"]
[null,"ООО \"РОНИН\"",null,null,null,null,"156 194 773 705"]
[null,"ООО \"ИК ВЕЛЕС Капитал\"",null,null,null,null,"123 350 813 708"]

{"sheet":"Март2012","index":2,"n_rows":177,"n_cols":8,"rows_kept":177,"cut":false,"hidden":false,"merged":[[36,1,36,3],[37,1,37,3],[130,1,130,5],[152,1,152,5],[152,6,152,7],[127,1,127,5],[127,6,127,7],[128,1,128,5],[129,1,129,5],[51,1,51,3],[128,6,128,7],[129,6,129,7],[139,1,139,5],[144,6,144,7],[139,6,139,7],[140,6,140,7],[141,6,141,7],[142,6,142,7],[140,1,140,5],[141,1,141,5],[142,1,142,5],[1,1,1,7],[2,1,2,7],[10,1,10,3],[11,1,11,3],[12,1,12,3],[24,1,24,3],[27,1,27,3],[32,1,32,3],[33,1,33,3],[14,1,14,3],[15,1,15,3],[25,1,25,3],[26,1,26,3],[160,1,160,5],[161,1,161,5],[162,1,162,5],[158,6,158,7],[173,1,173,5],[173,6,173,7],[174,1,174,5],[13,1,13,3],[16,1,16,3],[21,1,21,3],[22,1,22,3],[23,1,23,3],[34,1,34,3],[49,1,49,3],[50,1,50,3],[52,1,52,3],[53,1,53,3],[35,1,35,3],[38,1,38,3],[48,1,48,3],[166,1,166,5],[166,6,166,7],[138,1,138,5],[138,6,138,7],[159,6,159,7],[146,1,146,5],[147,1,147,5],[148,1,148,5],[153,1,153,5],[154,1,154,5],[155,1,155,5],[159,1,159,5],[143,1,143,5],[144,1,144,5],[158,1,158,5],[153,6,153,7],[154,6,154,7],[155,6,155,7],[156,6,156,7],[157,6,157,7],[143,6,143,7],[148,6,148,7],[145,1,145,5],[156,1,156,5],[157,1,157,5],[174,6,174,7],[160,6,160,7],[161,6,161,7],[162,6,162,7],[130,6,130,7],[176,1,176,5],[167,6,167,7],[168,6,168,7],[169,6,169,7],[170,6,170,7],[171,6,171,7],[172,6,172,7],[167,1,167,5],[168,1,168,5],[169,1,169,5],[170,1,170,5],[171,1,171,5],[172,1,172,5],[175,6,175,7],[176,6,176,7],[175,1,175,5],[145,6,145,7],[146,6,146,7],[147,6,147,7]]}
[]
[null,"Клиенты Участников торгов Фондовой биржи ММВБ"]
[null,{"$f":"EDATE(Февраль2012!B3,1)","v":"2012-03-01"}]
[]
[]
[null,"Динамика количества клиентов за ",{"$f":"B3","v":"2012-03-01"}]
[]
[]
[]
[null,"Количество зарегистрированных клиентов в Системе торгов:",null,null,null,null,null,"Таблица 1"]
[null,"Группы клиентов",null,null,"2012-02-29",{"$f":"EDATE(E11,1)","v":"2012-03-29"},"Изменение (ед.)","Изменение (%)"]
[null,"Физические лица",null,null,968945,975514,{"$f":"F12-E12","v":6569},{"$f":"F12/E12-1","v":6.7795385703006694E-3}]
[null,"Юридические лица",null,null,33334,33497,{"$f":"F13-E13","v":163},{"$f":"F13/E13-1","v":4.8899022019559535E-3}]
[null,"Нерезиденты",null,null,10792,10160,{"$f":"F14-E14","v":-632},{"$f":"F14/E14-1","v":-5.8561897702001486E-2}]
[null,"Нерезиденты - физические лица ",null,null,1890,1931,41,2.1693121693121764E-2]
[null,"Нерезиденты - юридические лица ",null,null,8902,8229,-673,-7.5600988541900671E-2]
[null,"Клиенты, передавшие свои средства в ДУ",null,null,16802,16898,{"$f":"F17-E17","v":96},{"$f":"F17/E17-1","v":5.7136055231519212E-3}]
[null,"Всего",null,null,1029873,1036069,{"$f":"F18-E18","v":6196},{"$f":"F18/E18-1","v":6.0162757932289423E-3}]
[]
[]
[null,"Количество уникальных клиентов в Системе торгов:",null,null,null,null,null,"Таблица 2"]
[null,"Группы клиентов",null,null,{"$f":"E11","v":"2012-02-29"},{"$f":"F11","v":"2012-03-29"},"Изменение (ед.)","Изменение (%)"]
[null,"Физические лица",null,null,782553,787742,{"$f":"F23-E23","v":5189},{"$f":"F23/E23-1","v":6.6308607851481849E-3}]
[null,"Юридические лица",null,null,17054,17159,{"$f":"F24-E24","v":105},{"$f":"F24/E24-1","v":6.156913334115055E-3}]
[null,"Нерезиденты",null,null,5224,5311,{"$f":"F25-E25","v":87},{"$f":"F25/E25-1","v":1.6653905053598761E-2}]
[null,"Нерезиденты - физические лица ",null,null,1842,1880,38,2.0629750271444092E-2]
[null,"Нерезиденты - юридические лица ",null,null,3382,3431,49,1.4488468361915974E-2]
[null,"Клиенты, передавшие свои средства в ДУ",null,null,5274,5275,{"$f":"F28-E28","v":1},{"$f":"F28/E28-1","v":1.8960940462653397E-4}]
[null,"Всего",null,null,810105,815487,{"$f":"F29-E29","v":5382},{"$f":"F29/E29-1","v":6.6435832392097716E-3}]
[]
[]
[null,"Количество активных клиентов в Системе торгов (совершивших в течение месяца хотя бы одну сделку):",null,null,null,null,null,"Таблица 3"]
[null,"Группы клиентов",null,null,{"$f":"EDATE(C6,-1)","v":"2012-02-01"},{"$f":"EDATE(E33,1)","v":"2012-03-01"},"Изменение (ед.)","Изменение (%)"]
[null,"Физические лица",null,null,91762,92258,{"$f":"F34-E34","v":496},{"$f":"F34/E34-1","v":5.405287591813579E-3}]
[null,"Юридические лица",null,null,1629,1701,{"$f":"F35-E35","v":72},{"$f":"F35/E35-1","v":4.4198895027624419E-2}]
[null,"Нерезиденты",null,null,705,703,{"$f":"F36-E36","v":-2},{"$f":"F36/E36-1","v":-2.8368794326241176E-3}]
[null,"Нерезиденты - физические лица ",null,null,213,200,-13,-6.1032863849765251E-2]
[null,"Нерезиденты - юридические лица ",null,null,492,503,11,2.2357723577235866E-2]
[null,"Клиенты, передавшие свои средства в ДУ",null,null,1432,1299,{"$f":"F39-E39","v":-133},{"$f":"F39/E39-1","v":-9.2877094972067087E-2}]
[null,"Всего",null,null,95528,95961,{"$f":"F40-E40","v":433},{"$f":"F40/E40-1","v":4.5327024537309413E-3}]
[]
[]
[]
[null,"Изменение количества уникальных клиентов - ретроспективные данные"]
[]
[]
[]
[null,"Количество уникальных клиентов в Системе торгов (ежегодная статистика):",null,null,null,null,null,"Таблица 1"]
[null,"Группы клиентов",null,null,"2008-12-31","2009-12-31","2010-12-31","2011-12-31"]
[null,"Физические лица",null,null,559320,671475,714295,772175]
[null,"Юридические лица",null,null,14748,16364,17170,16850]
[null,"Нерезиденты",null,null,3097,3851,4295,5058]
[null,"Клиенты, передавшие свои средства в ДУ",null,null,4512,4717,5348,5242]
[null,"Всего",null,null,581677,696407,741108,799325]
[]
[]
[]
[]
[]
[]
[]
[]
[]
[]
[]
[]
[]
[]
[]
[]
[]
[]
[]
[]
[]
[]
[]
[]
[]
[]
[]
[null,"Количество уникальных клиентов в Системе торгов (за последние 6 месяцев):",null,null,null,null,null,"Таблица 2"]
[null,"Группы клиентов","2011-10-31","2011-11-30","2011-12-31",{"$f":"EDATE(G83,-1)","v":"2012-01-29"},{"$f":"EDATE(H83,-1)","v":"2012-02-29"},{"$f":"EDATE(E11,1)","v":"2012-03-29"}]
[null,"Физические лица",767680,774773,772175,779514,782553,787742]
[null,"Юридические лица",17003,17114,16850,17011,17054,17159]
[null,"Нерезиденты",2972,3002,5058,5180,5224,5311]
[null,"Клиенты, передавшие свои средства в ДУ",5439,5463,5242,5257,5274,5275]
[null,"Всего",795338,802636,799325,806962,810105,815487]
[]
[]
[]
[]
[]
[]
[]
[]
[]
[]
[]
[]
[]
[]
[]
[]
[]
[]
[]
[]
[]
[]
[]
[]
[]
[]
[]
[]
[]
[]
[]
[]
[]
[]
[]
[null,"Дополнительные показатели за","2012-03-30"]
[]
[]
[null,null,null,null,null,null,null,"Таблица 1"]
[null,"Участники торгов",null,null,null,null,"Абсолютные показатели"]
[null,"Количество Участников торгов, имеющих зарегистрированных клиентов",null,null,null,null,729]
[null,"Количество Участников торгов, имеющих уникальных клиентов",null,null,null,null,729]
[null,"Количество Участников торгов, имеющих активных клиентов",null,null,null,null,483]
[]
[]
[]
[null,"Списки ведущих операторов фондового рынка - клиенты Участников торгов за ",null,null,null,{"$f":"C6","v":"2012-03-01"}]
[]
[]
[null,"Ведущие операторы рынка – число зарегистрированных клиентов",null,null,null,null,null,"Таблица 1"]
[null,"Наименование Участника торгов",null,null,null,null,"Количество клиентов"]
[null,"Сбербанк России ОАО",null,null,null,null,"191 042"]
[null,"ВТБ 24 (ЗАО)",null,null,null,null,"174 343"]
[null,"ЗАО \"ФИНАМ\"",null,null,null,null,"111 218"]
[null,"ООО \"Компания БКС\"",null,null,null,null,"97 202"]
[null,"ОАО \"АЛЬФА-БАНК\"",null,null,null,null,"57 073"]
[null,"ООО \"АТОН\"",null,null,null,null,"40 660"]
[null,"ФК \"ОТКРЫТИЕ\"",null,null,null,null,"27 848"]
[null,"ГК \"АЛОР\"",null,null,null,null,"19 361"]
[null,"ООО \"Инвестиционная палата\"",null,null,null,null,"18 973"]
[null,"КИТ Финанс (ООО)",null,null,null,null,"18 796"]
[]
[]
[null,"Ведущие операторы рынка – число активных клиентов",null,null,null,null,null,"Таблица 2"]
[null,"Наименование Участника торгов",null,null,null,null,"Количество клиентов"]
[null,"ЗАО \"ФИНАМ\"",null,null,null,null,"17 856"]
[null,"ООО \"Компания БКС\"",null,null,null,null,"15 111"]
[null,"Сбербанк России ОАО",null,null,null,null,"14 648"]
[null,"ВТБ 24 (ЗАО)",null,null,null,null,"9 154"]
[null,"ОАО \"АЛЬФА-БАНК\"",null,null,null,null,"6 073"]
[null,"ООО \"АТОН\"",null,null,null,null,"6 015"]
[null,"ФК \"ОТКРЫТИЕ\"",null,null,null,null,"3 780"]
[null,"ГК \"АЛОР\"",null,null,null,null,"2 318"]
[null,"КИТ Финанс (ООО)",null,null,null,null,"2 303"]
[null,"ООО \"НЭТТРЭЙДЕР\"",null,null,null,null,"1 768"]
[]
[]
[null,"Ведущие операторы рынка – объем клиентских операций",null,null,null,null,null,"Таблица 3"]
[null,"Наименование Участника торгов",null,null,null,null,"Торговый оборот, руб."]
[null,"ЗАО ИК \"Тройка Диалог\"",null,null,null,null,"1 395 244 960 880"]
[null,"ИК ”Ренессанс Капитал”",null,null,null,null,"1 222 487 014 543"]
[null,"ФК \"ОТКРЫТИЕ\"",null,null,null,null,"736 013 029 451"]
[null,"ЗАО \"ФИНАМ\"",null,null,null,null,"448 011 670 647"]
[null,"ОАО \"Промсвязьбанк\"",null,null,null,null,"416 789 824 943"]
[null,"ООО \"Компания БКС\"",null,null,null,null,"398 500 648 181"]
[null,"ООО \"АТОН\"",null,null,null,null,"338 489 070 338"]
[null,"ООО \"РОНИН\"",null,null,null,null,"264 836 319 829"]
[null,"ГК \"АЛОР\"",null,null,null,null,"240 415 756 367"]
[null,"ООО \"ИК ВЕЛЕС Капитал\"",null,null,null,null,"174 559 800 062"]

{"sheet":"Апрель2012","index":3,"n_rows":177,"n_cols":8,"rows_kept":177,"cut":false,"hidden":false,"merged":[[24,1,24,3],[23,1,23,3],[162,6,162,7],[138,1,138,5],[138,6,138,7],[152,1,152,5],[152,6,152,7],[162,1,162,5],[158,6,158,7],[153,1,153,5],[154,1,154,5],[155,1,155,5],[156,1,156,5],[157,1,157,5],[158,1,158,5],[153,6,153,7],[154,6,154,7],[155,6,155,7],[141,6,141,7],[142,6,142,7],[143,6,143,7],[144,6,144,7],[156,6,156,7],[159,6,159,7],[25,1,25,3],[26,1,26,3],[36,1,36,3],[37,1,37,3],[159,1,159,5],[160,1,160,5],[161,1,161,5],[144,1,144,5],[148,1,148,5],[52,1,52,3],[53,1,53,3],[127,1,127,5],[157,6,157,7],[166,1,166,5],[166,6,166,7],[139,1,139,5],[140,1,140,5],[141,1,141,5],[142,1,142,5],[143,1,143,5],[145,6,145,7],[146,6,146,7],[147,6,147,7],[148,6,148,7],[145,1,145,5],[146,1,146,5],[147,1,147,5],[139,6,139,7],[140,6,140,7],[160,6,160,7],[161,6,161,7],[127,6,127,7],[128,1,128,5],[128,6,128,7],[51,1,51,3],[27,1,27,3],[32,1,32,3],[33,1,33,3],[34,1,34,3],[35,1,35,3],[38,1,38,3],[48,1,48,3],[49,1,49,3],[50,1,50,3],[1,1,1,7],[2,1,2,7],[10,1,10,3],[11,1,11,3],[12,1,12,3],[13,1,13,3],[16,1,16,3],[21,1,21,3],[22,1,22,3],[14,1,14,3],[15,1,15,3],[175,6,175,7],[176,6,176,7],[173,1,173,5],[173,6,173,7],[174,1,174,5],[174,6,174,7],[175,1,175,5],[176,1,176,5],[129,6,129,7],[130,6,130,7],[172,6,172,7],[167,1,167,5],[168,1,168,5],[169,1,169,5],[170,1,170,5],[171,1,171,5],[172,1,172,5],[167,6,167,7],[168,6,168,7],[169,6,169,7],[170,6,170,7],[171,6,171,7],[129,1,129,5],[130,1,130,5]]}
[]
[null,"Клиенты Участников торгов Фондовой биржи ММВБ"]
[null,{"$f":"EDATE(Март2012!B3,1)","v":"2012-04-01"}]
[]
[]
[null,"Динамика количества клиентов за ",{"$f":"B3","v":"2012-04-01"}]
[]
[]
[]
[null,"Количество зарегистрированных клиентов в Системе торгов:",null,null,null,null,null,"Таблица 1"]
[null,"Группы клиентов",null,null,"2012-03-30",{"$f":"EDATE(E11,1)","v":"2012-04-30"},"Изменение (ед.)","Изменение (%)"]
[null,"Физические лица",null,null,975514,984256,{"$f":"F12-E12","v":8742},{"$f":"F12/E12-1","v":8.9614295643116737E-3}]
[null,"Юридические лица",null,null,33497,33718,{"$f":"F13-E13","v":221},{"$f":"F13/E13-1","v":6.5976057557393109E-3}]
[null,"Нерезиденты",null,null,10160,11077,{"$f":"F14-E14","v":917},{"$f":"F14/E14-1","v":9.0255905511811063E-2}]
[null,"Нерезиденты - физические лица ",null,null,1931,1957,26,1.3464526152252798E-2]
[null,"Нерезиденты - юридические лица ",null,null,8229,9120,891,0.10827561064527891]
[null,"Клиенты, передавшие свои средства в ДУ",null,null,16898,17015,{"$f":"F17-E17","v":117},{"$f":"F17/E17-1","v":6.9238963190909608E-3}]
[null,"Всего",null,null,1036069,1046066,{"$f":"F18-E18","v":9997},{"$f":"F18/E18-1","v":9.6489712557754626E-3}]
[]
[]
[null,"Количество уникальных клиентов в Системе торгов:",null,null,null,null,null,"Таблица 2"]
[null,"Группы клиентов",null,null,{"$f":"E11","v":"2012-03-30"},{"$f":"F11","v":"2012-04-30"},"Изменение (ед.)","Изменение (%)"]
[null,"Физические лица",null,null,787742,794030,{"$f":"F23-E23","v":6288},{"$f":"F23/E23-1","v":7.9823089285577797E-3}]
[null,"Юридические лица",null,null,17159,17296,{"$f":"F24-E24","v":137},{"$f":"F24/E24-1","v":7.9841482603881797E-3}]
[null,"Нерезиденты",null,null,5311,5373,{"$f":"F25-E25","v":62},{"$f":"F25/E25-1","v":1.1673884390886791E-2}]
[null,"Нерезиденты - физические лица ",null,null,1880,1901,21,1.1170212765957421E-2]
[null,"Нерезиденты - юридические лица ",null,null,3431,3472,41,1.1949868842902944E-2]
[null,"Клиенты, передавшие свои средства в ДУ",null,null,5275,5284,{"$f":"F28-E28","v":9},{"$f":"F28/E28-1","v":1.7061611374407093E-3}]
[null,"Всего",null,null,815487,821983,{"$f":"F29-E29","v":6496},{"$f":"F29/E29-1","v":7.9657922198637099E-3}]
[]
[]
[null,"Количество активных клиентов в Системе торгов (совершивших в течение месяца хотя бы одну сделку):",null,null,null,null,null,"Таблица 3"]
[null,"Группы клиентов",null,null,{"$f":"EDATE(C6,-1)","v":"2012-03-01"},{"$f":"EDATE(E33,1)","v":"2012-04-01"},"Изменение (ед.)","Изменение (%)"]
[null,"Физические лица",null,null,92258,79474,{"$f":"F34-E34","v":-12784},{"$f":"F34/E34-1","v":-0.13856792906848192}]
[null,"Юридические лица",null,null,1701,1594,{"$f":"F35-E35","v":-107},{"$f":"F35/E35-1","v":-6.2904174015285141E-2}]
[null,"Нерезиденты",null,null,703,668,{"$f":"F36-E36","v":-35},{"$f":"F36/E36-1","v":-4.9786628733997196E-2}]
[null,"Нерезиденты - физические лица ",null,null,200,187,-13,-6.4999999999999947E-2]
[null,"Нерезиденты - юридические лица ",null,null,503,481,-22,-4.37375745526839E-2]
[null,"Клиенты, передавшие свои средства в ДУ",null,null,1299,1434,{"$f":"F39-E39","v":135},{"$f":"F39/E39-1","v":0.10392609699769051}]
[null,"Всего",null,null,95961,83170,{"$f":"F40-E40","v":-12791},{"$f":"F40/E40-1","v":-0.13329373391273536}]
[]
[]
[]
[null,"Изменение количества уникальных клиентов - ретроспективные данные"]
[]
[]
[]
[null,"Количество уникальных клиентов в Системе торгов (ежегодная статистика):",null,null,null,null,null,"Таблица 1"]
[null,"Группы клиентов",null,null,"2008-12-31","2009-12-31","2010-12-31","2011-12-31"]
[null,"Физические лица",null,null,559320,671475,714295,772175]
[null,"Юридические лица",null,null,14748,16364,17170,16850]
[null,"Нерезиденты",null,null,3097,3851,4295,5058]
[null,"Клиенты, передавшие свои средства в ДУ",null,null,4512,4717,5348,5242]
[null,"Всего",null,null,581677,696407,741108,799325]
[]
[]
[]
[]
[]
[]
[]
[]
[]
[]
[]
[]
[]
[]
[]
[]
[]
[]
[]
[]
[]
[]
[]
[]
[]
[]
[]
[null,"Количество уникальных клиентов в Системе торгов (за последние 6 месяцев):",null,null,null,null,null,"Таблица 2"]
[null,"Группы клиентов","2011-11-30","2011-12-31",{"$f":"EDATE(F83,-1)","v":"2012-01-29"},{"$f":"EDATE(G83,-1)","v":"2012-02-29"},{"$f":"EDATE(H83,-1)","v":"2012-03-30"},{"$f":"EDATE(E11,1)","v":"2012-04-30"}]
[null,"Физические лица",774773,772175,779514,782553,787742,794030]
[null,"Юридические лица",17114,16850,17011,17054,17159,17296]
[null,"Нерезиденты",3002,5058,5180,5224,5311,5373]
[null,"Клиенты, передавшие свои средства в ДУ",5463,5242,5257,5274,5275,5284]
[null,"Всего",802636,799325,806962,810105,815487,821983]
[]
[]
[]
[]
[]
[]
[]
[]
[]
[]
[]
[]
[]
[]
[]
[]
[]
[]
[]
[]
[]
[]
[]
[]
[]
[]
[]
[]
[]
[]
[]
[]
[]
[]
[]
[null,"Дополнительные показатели за","2012-04-30"]
[]
[]
[null,null,null,null,null,null,null,"Таблица 1"]
[null,"Участники торгов",null,null,null,null,"Абсолютные показатели"]
[null,"Количество Участников торгов, имеющих зарегистрированных клиентов",null,null,null,null,715]
[null,"Количество Участников торгов, имеющих уникальных клиентов",null,null,null,null,715]
[null,"Количество Участников торгов, имеющих активных клиентов",null,null,null,null,481]
[]
[]
[]
[null,"Списки ведущих операторов фондового рынка - клиенты Участников торгов за ",null,null,null,{"$f":"C6","v":"2012-04-01"}]
[]
[]
[null,"Ведущие операторы рынка – число зарегистрированных клиентов",null,null,null,null,null,"Таблица 1"]
[null,"Наименование Участника торгов",null,null,null,null,"Количество клиентов"]
[null,"ОАО \"Сбербанк России\"",null,null,null,null,"191 698"]
[null,"ВТБ 24 (ЗАО)",null,null,null,null,"175 683"]
[null,"ЗАО \"ФИНАМ\"",null,null,null,null,"112 265"]
[null,"ООО \"Компания БКС\"",null,null,null,null,"98 125"]
[null,"ОАО \"АЛЬФА-БАНК\"",null,null,null,null,"57 388"]
[null,"ООО \"АТОН\"",null,null,null,null,"40 845"]
[null,"ФК \"ОТКРЫТИЕ\"",null,null,null,null,"30 166"]
[null,"ГК \"АЛОР\"",null,null,null,null,"19 526"]
[null,"ООО \"Инвестиционная палата\"",null,null,null,null,"19 082"]
[null,"КИТ Финанс (ООО)",null,null,null,null,"18 921"]
[]
[]
[null,"Ведущие операторы рынка – число активных клиентов",null,null,null,null,null,"Таблица 2"]
[null,"Наименование Участника торгов",null,null,null,null,"Количество клиентов"]
[null,"ЗАО \"ФИНАМ\"",null,null,null,null,"16 205"]
[null,"ООО \"Компания БКС\"",null,null,null,null,"13 054"]
[null,"ОАО \"Сбербанк России\"",null,null,null,null,"11 016"]
[null,"ВТБ 24 (ЗАО)",null,null,null,null,"8 977"]
[null,"ОАО \"АЛЬФА-БАНК\"",null,null,null,null,"5 270"]
[null,"ООО \"АТОН\"",null,null,null,null,"5 074"]
[null,"ФК \"ОТКРЫТИЕ\"",null,null,null,null,"3 317"]
[null,"ГК \"АЛОР\"",null,null,null,null,"2 143"]
[null,"КИТ Финанс (ООО)",null,null,null,null,"1 986"]
[null,"ООО \"НЭТТРЭЙДЕР\"",null,null,null,null,"1 483"]
[]
[]
[null,"Ведущие операторы рынка – объем клиентских операций",null,null,null,null,null,"Таблица 3"]
[null,"Наименование Участника торгов",null,null,null,null,"Торговый оборот, руб."]
[null,"ИК «Ренессанс Капитал»",null,null,null,null,"1 406 679 135 171"]
[null,"ЗАО ИК «Тройка Диалог»",null,null,null,null,"1 354 151 517 529"]
[null,"ФК «ОТКРЫТИЕ»",null,null,null,null,"679 349 896 251"]
[null,"ЗАО «ФИНАМ»",null,null,null,null,"432 915 429 077"]
[null,"ОАО «Промсвязьбанк»",null,null,null,null,"423 603 755 576"]
[null,"ООО «Компания БКС»",null,null,null,null,"423 520 627 369"]
[null,"ООО «АТОН»",null,null,null,null,"372 126 076 328"]
[null,"ООО «РОНИН»",null,null,null,null,"252 638 270 865"]
[null,"ГК «АЛОР»",null,null,null,null,"252 008 886 261"]
[null,"ООО «ИК ВЕЛЕС Капитал»",null,null,null,null,"150 071 751 990"]

{"sheet":"Май2012","index":4,"n_rows":177,"n_cols":8,"rows_kept":177,"cut":false,"hidden":false,"merged":[[152,6,152,7],[162,1,162,5],[158,6,158,7],[153,1,153,5],[154,1,154,5],[155,1,155,5],[156,1,156,5],[157,1,157,5],[158,1,158,5],[153,6,153,7],[154,6,154,7],[155,6,155,7],[159,1,159,5],[156,6,156,7],[159,6,159,7],[160,6,160,7],[161,6,161,7],[25,1,25,3],[26,1,26,3],[36,1,36,3],[37,1,37,3],[160,1,160,5],[161,1,161,5],[144,1,144,5],[148,1,148,5],[33,1,33,3],[34,1,34,3],[35,1,35,3],[38,1,38,3],[48,1,48,3],[138,1,138,5],[51,1,51,3],[27,1,27,3],[32,1,32,3],[49,1,49,3],[50,1,50,3],[52,1,52,3],[53,1,53,3],[152,1,152,5],[138,6,138,7],[141,1,141,5],[142,1,142,5],[143,1,143,5],[145,6,145,7],[146,6,146,7],[147,6,147,7],[148,6,148,7],[145,1,145,5],[146,1,146,5],[147,1,147,5],[139,6,139,7],[141,6,141,7],[142,6,142,7],[143,6,143,7],[144,6,144,7],[140,6,140,7],[167,1,167,5],[168,1,168,5],[169,1,169,5],[170,1,170,5],[171,1,171,5],[162,6,162,7],[167,6,167,7],[168,6,168,7],[127,6,127,7],[128,1,128,5],[128,6,128,7],[129,1,129,5],[130,1,130,5],[129,6,129,7],[130,6,130,7],[127,1,127,5],[157,6,157,7],[169,6,169,7],[170,6,170,7],[171,6,171,7],[166,1,166,5],[166,6,166,7],[139,1,139,5],[140,1,140,5],[24,1,24,3],[1,1,1,7],[2,1,2,7],[10,1,10,3],[11,1,11,3],[12,1,12,3],[13,1,13,3],[16,1,16,3],[21,1,21,3],[22,1,22,3],[23,1,23,3],[14,1,14,3],[15,1,15,3],[175,6,175,7],[176,6,176,7],[173,1,173,5],[174,1,174,5],[175,1,175,5],[176,1,176,5],[173,6,173,7],[174,6,174,7],[172,6,172,7],[172,1,172,5]]}
[]
[null,"Клиенты Участников торгов Фондовой биржи ММВБ"]
[null,{"$f":"EDATE(Апрель2012!B3,1)","v":"2012-05-01"}]
[]
[]
[null,"Динамика количества клиентов за ",{"$f":"B3","v":"2012-05-01"}]
[]
[]
[]
[null,"Количество зарегистрированных клиентов в Системе торгов:",null,null,null,null,null,"Таблица 1"]
[null,"Группы клиентов",null,null,"2012-04-30",{"$f":"EDATE(E11,1)","v":"2012-05-30"},"Изменение (ед.)","Изменение (%)"]
[null,"Физические лица",null,null,984256,990493,{"$f":"F12-E12","v":6237},{"$f":"F12/E12-1","v":6.3367660446063123E-3}]
[null,"Юридические лица",null,null,33718,33553,{"$f":"F13-E13","v":-165},{"$f":"F13/E13-1","v":-4.8935286790438015E-3}]
[null,"Нерезиденты",null,null,11077,11238,{"$f":"F14-E14","v":161},{"$f":"F14/E14-1","v":1.4534621287352278E-2}]
[null,"Нерезиденты - физические лица ",null,null,1957,1985,28,1.4307613694430232E-2]
[null,"Нерезиденты - юридические лица ",null,null,9120,9253,133,1.4583333333333393E-2]
[null,"Клиенты, передавшие свои средства в ДУ",null,null,17015,17103,{"$f":"F17-E17","v":88},{"$f":"F17/E17-1","v":5.171907140758103E-3}]
[null,"Всего",null,null,1046066,1052387,{"$f":"F18-E18","v":6321},{"$f":"F18/E18-1","v":6.0426397569559587E-3}]
[]
[]
[null,"Количество уникальных клиентов в Системе торгов:",null,null,null,null,null,"Таблица 2"]
[null,"Группы клиентов",null,null,{"$f":"E11","v":"2012-04-30"},{"$f":"F11","v":"2012-05-30"},"Изменение (ед.)","Изменение (%)"]
[null,"Физические лица",null,null,794030,799942,{"$f":"F23-E23","v":5912},{"$f":"F23/E23-1","v":7.4455625102325396E-3}]
[null,"Юридические лица",null,null,17296,17333,{"$f":"F24-E24","v":37},{"$f":"F24/E24-1","v":2.1392229417205311E-3}]
[null,"Нерезиденты",null,null,5373,5430,{"$f":"F25-E25","v":57},{"$f":"F25/E25-1","v":1.0608598548297099E-2}]
[null,"Нерезиденты - физические лица ",null,null,1901,1924,23,1.2098895318253478E-2]
[null,"Нерезиденты - юридические лица ",null,null,3472,3506,34,9.7926267281105428E-3]
[null,"Клиенты, передавшие свои средства в ДУ",null,null,5284,5299,{"$f":"F28-E28","v":15},{"$f":"F28/E28-1","v":2.8387585162754636E-3}]
[null,"Всего",null,null,821983,828004,{"$f":"F29-E29","v":6021},{"$f":"F29/E29-1","v":7.3249690078749374E-3}]
[]
[]
[null,"Количество активных клиентов в Системе торгов (совершивших в течение месяца хотя бы одну сделку):",null,null,null,null,null,"Таблица 3"]
[null,"Группы клиентов",null,null,{"$f":"EDATE(C6,-1)","v":"2012-04-01"},{"$f":"EDATE(E33,1)","v":"2012-05-01"},"Изменение (ед.)","Изменение (%)"]
[null,"Физические лица",null,null,79474,81725,{"$f":"F34-E34","v":2251},{"$f":"F34/E34-1","v":2.8323728514985991E-2}]
[null,"Юридические лица",null,null,1594,1514,{"$f":"F35-E35","v":-80},{"$f":"F35/E35-1","v":-5.0188205771643624E-2}]
[null,"Нерезиденты",null,null,668,677,{"$f":"F36-E36","v":9},{"$f":"F36/E36-1","v":1.3473053892215647E-2}]
[null,"Нерезиденты - физические лица ",null,null,187,191,4,2.1390374331550888E-2]
[null,"Нерезиденты - юридические лица ",null,null,481,486,5,1.039501039501034E-2]
[null,"Клиенты, передавшие свои средства в ДУ",null,null,1434,1323,{"$f":"F39-E39","v":-111},{"$f":"F39/E39-1","v":-7.7405857740585726E-2}]
[null,"Всего",null,null,83170,85239,{"$f":"F40-E40","v":2069},{"$f":"F40/E40-1","v":2.4876758446555236E-2}]
[]
[]
[]
[null,"Изменение количества уникальных клиентов - ретроспективные данные"]
[]
[]
[]
[null,"Количество уникальных клиентов в Системе торгов (ежегодная статистика):",null,null,null,null,null,"Таблица 1"]
[null,"Группы клиентов",null,null,"2008-12-31","2009-12-31","2010-12-31","2011-12-31"]
[null,"Физические лица",null,null,559320,671475,714295,772175]
[null,"Юридические лица",null,null,14748,16364,17170,16850]
[null,"Нерезиденты",null,null,3097,3851,4295,5058]
[null,"Клиенты, передавшие свои средства в ДУ",null,null,4512,4717,5348,5242]
[null,"Всего",null,null,581677,696407,741108,799325]
[]
[]
[]
[]
[]
[]
[]
[]
[]
[]
[]
[]
[]
[]
[]
[]
[]
[]
[]
[]
[]
[]
[]
[]
[]
[]
[]
[null,"Количество уникальных клиентов в Системе торгов (за последние 6 месяцев):",null,null,null,null,null,"Таблица 2"]
[null,"Группы клиентов","2011-12-31",{"$f":"EDATE(E83,-1)","v":"2012-01-29"},{"$f":"EDATE(F83,-1)","v":"2012-02-29"},{"$f":"EDATE(G83,-1)","v":"2012-03-30"},{"$f":"EDATE(H83,-1)","v":"2012-04-30"},{"$f":"EDATE(E11,1)","v":"2012-05-30"}]
[null,"Физические лица",772175,779514,782553,787742,794030,799942]
[null,"Юридические лица",16850,17011,17054,17159,17296,17333]
[null,"Нерезиденты",5058,5180,5224,5311,5373,5430]
[null,"Клиенты, передавшие свои средства в ДУ",5242,5257,5274,5275,5284,5299]
[null,"Всего",799325,806962,810105,815487,821983,828004]
[]
[]
[]
[]
[]
[]
[]
[]
[]
[]
[]
[]
[]
[]
[]
[]
[]
[]
[]
[]
[]
[]
[]
[]
[]
[]
[]
[]
[]
[]
[]
[]
[]
[]
[]
[null,"Дополнительные показатели за","2012-05-31"]
[]
[]
[null,null,null,null,null,null,null,"Таблица 1"]
[null,"Участники торгов",null,null,null,null,"Абсолютные показатели"]
[null,"Количество Участников торгов, имеющих зарегистрированных клиентов",null,null,null,null,717]
[null,"Количество Участников торгов, имеющих уникальных клиентов",null,null,null,null,717]
[null,"Количество Участников торгов, имеющих активных клиентов",null,null,null,null,482]
[]
[]
[]
[null,"Списки ведущих операторов фондового рынка - клиенты Участников торгов за ",null,null,null,{"$f":"C6","v":"2012-05-01"}]
[]
[]
[null,"Ведущие операторы рынка – число зарегистрированных клиентов",null,null,null,null,null,"Таблица 1"]
[null,"Наименование Участника торгов",null,null,null,null,"Количество клиентов"]
[null,"ОАО «Сбербанк России»",null,null,null,null,"192 125"]
[null,"ВТБ 24 (ЗАО)",null,null,null,null,"176 904"]
[null,"ЗАО «ФИНАМ»",null,null,null,null,"113 178"]
[null,"ООО «Компания БКС»",null,null,null,null,"99 003"]
[null,"ОАО «АЛЬФА-БАНК»",null,null,null,null,"57 714"]
[null,"ООО «АТОН»",null,null,null,null,"41 054"]
[null,"ФК «ОТКРЫТИЕ»",null,null,null,null,"30 610"]
[null,"ГК «АЛОР»",null,null,null,null,"19 679"]
[null,"ООО «Инвестиционная палата»",null,null,null,null,"19 172"]
[null,"КИТ Финанс (ООО)",null,null,null,null,"19 041"]
[]
[]
[null,"Ведущие операторы рынка – число активных клиентов",null,null,null,null,null,"Таблица 2"]
[null,"Наименование Участника торгов",null,null,null,null,"Количество клиентов"]
[null,"ЗАО «ФИНАМ»",null,null,null,null,"16 541"]
[null,"ООО «Компания БКС»",null,null,null,null,"13 549"]
[null,"ОАО «Сбербанк России»",null,null,null,null,"11 062"]
[null,"ВТБ 24 (ЗАО)",null,null,null,null,"8 820"]
[null,"ОАО «АЛЬФА-БАНК»",null,null,null,null,"5 811"]
[null,"ООО «АТОН»",null,null,null,null,"5 144"]
[null,"ФК «ОТКРЫТИЕ»",null,null,null,null,"3 438"]
[null,"ГК «АЛОР»",null,null,null,null,"2 118"]
[null,"КИТ Финанс (ООО)",null,null,null,null,"2 104"]
[null,"ООО «НЭТТРЭЙДЕР»",null,null,null,null,"1 605"]
[]
[]
[null,"Ведущие операторы рынка – объем клиентских операций",null,null,null,null,null,"Таблица 3"]
[null,"Наименование Участника торгов",null,null,null,null,"Торговый оборот, руб."]
[null,"ЗАО ИК «Тройка Диалог»",null,null,null,null,"1 435 377 701 203"]
[null,"ИК «Ренессанс Капитал»",null,null,null,null,"1 236 629 685 186"]
[null,"ФК «ОТКРЫТИЕ»",null,null,null,null,"654 794 563 808"]
[null,"ЗАО «ФИНАМ»",null,null,null,null,"433 318 945 623"]
[null,"ОАО «Промсвязьбанк»",null,null,null,null,"431 898 066 594"]
[null,"ООО «Компания БКС»",null,null,null,null,"398 918 753 522"]
[null,"ООО «АТОН»",null,null,null,null,"307 451 120 686"]
[null,"ООО «РОНИН»",null,null,null,null,"274 010 040 657"]
[null,"ГК «АЛОР»",null,null,null,null,"252 776 446 110"]
[null,"ООО «ИК ВЕЛЕС Капитал»",null,null,null,null,"112 786 315 946"]

{"sheet":"Июнь2012","index":5,"n_rows":177,"n_cols":8,"rows_kept":177,"cut":false,"hidden":false,"merged":[[152,6,152,7],[162,1,162,5],[158,6,158,7],[153,1,153,5],[154,1,154,5],[155,1,155,5],[156,1,156,5],[157,1,157,5],[158,1,158,5],[153,6,153,7],[154,6,154,7],[155,6,155,7],[159,1,159,5],[156,6,156,7],[161,6,161,7],[160,6,160,7],[159,6,159,7],[25,1,25,3],[26,1,26,3],[36,1,36,3],[37,1,37,3],[160,1,160,5],[161,1,161,5],[144,1,144,5],[148,1,148,5],[33,1,33,3],[34,1,34,3],[35,1,35,3],[38,1,38,3],[48,1,48,3],[138,1,138,5],[51,1,51,3],[27,1,27,3],[32,1,32,3],[49,1,49,3],[50,1,50,3],[52,1,52,3],[53,1,53,3],[152,1,152,5],[138,6,138,7],[141,1,141,5],[142,1,142,5],[143,1,143,5],[145,6,145,7],[146,6,146,7],[147,6,147,7],[148,6,148,7],[145,1,145,5],[146,1,146,5],[147,1,147,5],[139,6,139,7],[141,6,141,7],[142,6,142,7],[143,6,143,7],[144,6,144,7],[140,6,140,7],[167,1,167,5],[168,1,168,5],[169,1,169,5],[170,1,170,5],[171,1,171,5],[162,6,162,7],[167,6,167,7],[168,6,168,7],[127,6,127,7],[128,1,128,5],[128,6,128,7],[129,1,129,5],[130,1,130,5],[129,6,129,7],[130,6,130,7],[127,1,127,5],[157,6,157,7],[169,6,169,7],[170,6,170,7],[171,6,171,7],[166,1,166,5],[166,6,166,7],[139,1,139,5],[140,1,140,5],[24,1,24,3],[1,1,1,7],[2,1,2,7],[10,1,10,3],[11,1,11,3],[12,1,12,3],[13,1,13,3],[16,1,16,3],[21,1,21,3],[22,1,22,3],[23,1,23,3],[14,1,14,3],[15,1,15,3],[175,6,175,7],[176,6,176,7],[173,1,173,5],[174,1,174,5],[175,1,175,5],[176,1,176,5],[173,6,173,7],[174,6,174,7],[172,6,172,7],[172,1,172,5]]}
[]
[null,"Клиенты Участников торгов Фондовой биржи ММВБ"]
[null,{"$f":"EDATE(Май2012!B3,1)","v":"2012-06-01"}]
[]
[]
[null,"Динамика количества клиентов за ",{"$f":"B3","v":"2012-06-01"}]
[]
[]
[]
[null,"Количество зарегистрированных клиентов в Системе торгов:",null,null,null,null,null,"Таблица 1"]
[null,"Группы клиентов",null,null,"2012-05-31",{"$f":"EDATE(E11,1)","v":"2012-06-30"},"Изменение (ед.)","Изменение (%)"]
[null,"Физические лица",null,null,990493,984272,{"$f":"F12-E12","v":-6221},{"$f":"F12/E12-1","v":-6.2807107167844878E-3}]
[null,"Юридические лица",null,null,33553,33950,{"$f":"F13-E13","v":397},{"$f":"F13/E13-1","v":1.1832026942449225E-2}]
[null,"Нерезиденты",null,null,11238,11264,{"$f":"F14-E14","v":26},{"$f":"F14/E14-1","v":2.3135789286350406E-3}]
[null,"Нерезиденты - физические лица ",null,null,1985,1994,9,4.5340050377833396E-3]
[null,"Нерезиденты - юридические лица ",null,null,9253,9270,17,1.8372419755754432E-3]
[null,"Клиенты, передавшие свои средства в ДУ",null,null,17103,17094,{"$f":"F17-E17","v":-9},{"$f":"F17/E17-1","v":-5.2622346956676669E-4}]
[null,"Всего",null,null,1052387,1046580,{"$f":"F18-E18","v":-5807},{"$f":"F18/E18-1","v":-5.5179320915215158E-3}]
[]
[]
[null,"Количество уникальных клиентов в Системе торгов:",null,null,null,null,null,"Таблица 2"]
[null,"Группы клиентов",null,null,{"$f":"E11","v":"2012-05-31"},{"$f":"F11","v":"2012-06-30"},"Изменение (ед.)","Изменение (%)"]
[null,"Физические лица",null,null,799942,794477,{"$f":"F23-E23","v":-5465},{"$f":"F23/E23-1","v":-6.8317453015344087E-3}]
[null,"Юридические лица",null,null,17333,17454,{"$f":"F24-E24","v":121},{"$f":"F24/E24-1","v":6.9809034789130031E-3}]
[null,"Нерезиденты",null,null,5430,5452,{"$f":"F25-E25","v":22},{"$f":"F25/E25-1","v":4.0515653775321514E-3}]
[null,"Нерезиденты - физические лица ",null,null,1924,1937,13,6.7567567567567988E-3]
[null,"Нерезиденты - юридические лица ",null,null,3506,3515,9,2.5670279520821904E-3]
[null,"Клиенты, передавшие свои средства в ДУ",null,null,5299,5267,{"$f":"F28-E28","v":-32},{"$f":"F28/E28-1","v":-6.0388752594828787E-3}]
[null,"Всего",null,null,828004,822650,{"$f":"F29-E29","v":-5354},{"$f":"F29/E29-1","v":-6.4661523374283103E-3}]
[]
[]
[null,"Количество активных клиентов в Системе торгов (совершивших в течение месяца хотя бы одну сделку):",null,null,null,null,null,"Таблица 3"]
[null,"Группы клиентов",null,null,{"$f":"EDATE(C6,-1)","v":"2012-05-01"},{"$f":"EDATE(E33,1)","v":"2012-06-01"},"Изменение (ед.)","Изменение (%)"]
[null,"Физические лица",null,null,81725,68858,{"$f":"F34-E34","v":-12867},{"$f":"F34/E34-1","v":-0.15744264301009481}]
[null,"Юридические лица",null,null,1514,1507,{"$f":"F35-E35","v":-7},{"$f":"F35/E35-1","v":-4.6235138705416068E-3}]
[null,"Нерезиденты",null,null,677,610,{"$f":"F36-E36","v":-67},{"$f":"F36/E36-1","v":-9.8966026587887779E-2}]
[null,"Нерезиденты - физические лица ",null,null,191,149,-42,-0.21989528795811519]
[null,"Нерезиденты - юридические лица ",null,null,486,461,-25,-5.1440329218107039E-2]
[null,"Клиенты, передавшие свои средства в ДУ",null,null,1323,1210,{"$f":"F39-E39","v":-113},{"$f":"F39/E39-1","v":-8.5411942554799669E-2}]
[null,"Всего",null,null,85239,72185,{"$f":"F40-E40","v":-13054},{"$f":"F40/E40-1","v":-0.15314586046293366}]
[]
[]
[]
[null,"Изменение количества уникальных клиентов - ретроспективные данные"]
[]
[]
[]
[null,"Количество уникальных клиентов в Системе торгов (ежегодная статистика):",null,null,null,null,null,"Таблица 1"]
[null,"Группы клиентов",null,null,"2008-12-31","2009-12-31","2010-12-31","2011-12-31"]
[null,"Физические лица",null,null,559320,671475,714295,772175]
[null,"Юридические лица",null,null,14748,16364,17170,16850]
[null,"Нерезиденты",null,null,3097,3851,4295,5058]
[null,"Клиенты, передавшие свои средства в ДУ",null,null,4512,4717,5348,5242]
[null,"Всего",null,null,581677,696407,741108,799325]
[]
[]
[]
[]
[]
[]
[]
[]
[]
[]
[]
[]
[]
[]
[]
[]
[]
[]
[]
[]
[]
[]
[]
[]
[]
[]
[]
[null,"Количество уникальных клиентов в Системе торгов (за последние 6 месяцев):",null,null,null,null,null,"Таблица 2"]
[null,"Группы клиентов",{"$f":"EDATE(D83,-1)","v":"2012-01-29"},{"$f":"EDATE(E83,-1)","v":"2012-02-29"},{"$f":"EDATE(F83,-1)","v":"2012-03-30"},{"$f":"EDATE(G83,-1)","v":"2012-04-30"},{"$f":"EDATE(H83,-1)","v":"2012-05-30"},{"$f":"EDATE(E11,1)","v":"2012-06-30"}]
[null,"Физические лица",779514,782553,787742,794030,799942,794477]
[null,"Юридические лица",17011,17054,17159,17296,17333,17454]
[null,"Нерезиденты",5180,5224,5311,5373,5430,5452]
[null,"Клиенты, передавшие свои средства в ДУ",5257,5274,5275,5284,5299,5267]
[null,"Всего",806962,810105,815487,821983,828004,822650]
[]
[]
[]
[]
[]
[]
[]
[]
[]
[]
[]
[]
[]
[]
[]
[]
[]
[]
[]
[]
[]
[]
[]
[]
[]
[]
[]
[]
[]
[]
[]
[]
[]
[]
[]
[null,"Дополнительные показатели за","2012-06-29"]
[]
[]
[null,null,null,null,null,null,null,"Таблица 1"]
[null,"Участники торгов",null,null,null,null,"Абсолютные показатели"]
[null,"Количество Участников торгов, имеющих зарегистрированных клиентов",null,null,null,null,718]
[null,"Количество Участников торгов, имеющих уникальных клиентов",null,null,null,null,718]
[null,"Количество Участников торгов, имеющих активных клиентов",null,null,null,null,473]
[]
[]
[]
[null,"Списки ведущих операторов фондового рынка - клиенты Участников торгов за ",null,null,null,{"$f":"C6","v":"2012-06-01"}]
[]
[]
[null,"Ведущие операторы рынка – число зарегистрированных клиентов",null,null,null,null,null,"Таблица 1"]
[null,"Наименование Участника торгов",null,null,null,null,"Количество клиентов"]
[null,"ОАО «Сбербанк России»",null,null,null,null,"189 597"]
[null,"ВТБ 24 (ЗАО)",null,null,null,null,"178 401"]
[null,"ЗАО «ФИНАМ»",null,null,null,null,"113 931"]
[null,"ООО «Компания БКС»",null,null,null,null,"100 002"]
[null,"ОАО «АЛЬФА-БАНК»",null,null,null,null,"57 983"]
[null,"ООО «АТОН»",null,null,null,null,"41 238"]
[null,"ФК «ОТКРЫТИЕ»",null,null,null,null,"31 094"]
[null,"ГК «АЛОР»",null,null,null,null,"19 829"]
[null,"КИТ Финанс (ООО)",null,null,null,null,"19 145"]
[null,"ООО «Инвестиционная палата»",null,null,null,null,"19 064"]
[]
[]
[null,"Ведущие операторы рынка – число активных клиентов",null,null,null,null,null,"Таблица 2"]
[null,"Наименование Участника торгов",null,null,null,null,"Количество клиентов"]
[null,"ЗАО «ФИНАМ»",null,null,null,null,"13 348"]
[null,"ООО «Компания БКС»",null,null,null,null,"11 269"]
[null,"ОАО «Сбербанк России»",null,null,null,null,"10 563"]
[null,"ВТБ 24 (ЗАО)",null,null,null,null,"7 082"]
[null,"ОАО «АЛЬФА-БАНК»",null,null,null,null,"4 782"]
[null,"ООО «АТОН»",null,null,null,null,"4 170"]
[null,"ФК «ОТКРЫТИЕ»",null,null,null,null,"2 987"]
[null,"ГК «АЛОР»",null,null,null,null,"1 834"]
[null,"КИТ Финанс (ООО)",null,null,null,null,"1 772"]
[null,"ООО «НЭТТРЭЙДЕР»",null,null,null,null,"1 491"]
[]
[]
[null,"Ведущие операторы рынка – объем клиентских операций",null,null,null,null,null,"Таблица 3"]
[null,"Наименование Участника торгов",null,null,null,null,"Торговый оборот, руб."]
[null,"ЗАО ИК «Тройка Диалог»",null,null,null,null,"1 384 187 398 967"]
[null,"ИК «Ренессанс Капитал»",null,null,null,null,"843 664 312 780"]
[null,"ФК «ОТКРЫТИЕ»",null,null,null,null,"588 879 922 329"]
[null,"ОАО «Промсвязьбанк»",null,null,null,null,"388 049 385 204"]
[null,"ЗАО «ФИНАМ»",null,null,null,null,"351 725 731 927"]
[null,"ООО «Компания БКС»",null,null,null,null,"346 457 027 989"]
[null,"ООО «РОНИН»",null,null,null,null,"231 225 176 665"]
[null,"ООО «АТОН»",null,null,null,null,"207 906 026 988"]
[null,"ГК «АЛОР»",null,null,null,null,"161 795 194 475"]
[null,"ОАО «УБРиР»",null,null,null,null,"115 006 030 592"]

{"sheet":"Июль2012","index":6,"n_rows":177,"n_cols":8,"rows_kept":177,"cut":false,"hidden":false,"merged":[[176,1,176,5],[176,6,176,7],[173,1,173,5],[173,6,173,7],[174,1,174,5],[174,6,174,7],[175,1,175,5],[175,6,175,7],[14,1,14,3],[15,1,15,3],[25,1,25,3],[26,1,26,3],[36,1,36,3],[37,1,37,3],[170,1,170,5],[170,6,170,7],[171,1,171,5],[171,6,171,7],[172,1,172,5],[172,6,172,7],[167,1,167,5],[167,6,167,7],[168,1,168,5],[168,6,168,7],[169,1,169,5],[169,6,169,7],[160,1,160,5],[161,1,161,5],[162,1,162,5],[162,6,162,7],[160,6,160,7],[161,6,161,7],[157,1,157,5],[157,6,157,7],[158,1,158,5],[158,6,158,7],[159,1,159,5],[159,6,159,7],[166,1,166,5],[166,6,166,7],[156,1,156,5],[156,6,156,7],[142,6,142,7],[143,6,143,7],[144,6,144,7],[144,1,144,5],[153,1,153,5],[153,6,153,7],[154,1,154,5],[154,6,154,7],[155,1,155,5],[155,6,155,7],[129,1,129,5],[130,1,130,5],[138,1,138,5],[138,6,138,7],[152,1,152,5],[152,6,152,7],[139,6,139,7],[140,6,140,7],[129,6,129,7],[130,6,130,7],[139,1,139,5],[140,1,140,5],[141,1,141,5],[142,1,142,5],[143,1,143,5],[145,6,145,7],[146,6,146,7],[147,6,147,7],[148,6,148,7],[145,1,145,5],[146,1,146,5],[147,1,147,5],[148,1,148,5],[141,6,141,7],[52,1,52,3],[53,1,53,3],[127,1,127,5],[127,6,127,7],[128,1,128,5],[128,6,128,7],[51,1,51,3],[27,1,27,3],[32,1,32,3],[33,1,33,3],[34,1,34,3],[35,1,35,3],[38,1,38,3],[48,1,48,3],[49,1,49,3],[50,1,50,3],[24,1,24,3],[1,1,1,7],[2,1,2,7],[10,1,10,3],[11,1,11,3],[12,1,12,3],[13,1,13,3],[16,1,16,3],[21,1,21,3],[22,1,22,3],[23,1,23,3]]}
[]
[null,"Клиенты Участников торгов Фондовой биржи ММВБ"]
[null,{"$f":"EDATE(Июнь2012!B3,1)","v":"2012-07-01"}]
[]
[]
[null,"Динамика количества клиентов за ",{"$f":"B3","v":"2012-07-01"}]
[]
[]
[]
[null,"Количество зарегистрированных клиентов в Системе торгов:",null,null,null,null,null,"Таблица 1"]
[null,"Группы клиентов",null,null,"2012-06-01","2012-07-01","Изменение (ед.)","Изменение (%)"]
[null,"Физические лица",null,null,984272,991720,{"$f":"F12-E12","v":7448},{"$f":"F12/E12-1","v":7.5670139961312444E-3}]
[null,"Юридические лица",null,null,33950,34191,{"$f":"F13-E13","v":241},{"$f":"F13/E13-1","v":7.0986745213550417E-3}]
[null,"Нерезиденты",null,null,11264,11413,{"$f":"F14-E14","v":149},{"$f":"F14/E14-1","v":1.3227982954545414E-2}]
[null,"Нерезиденты - физические лица ",null,null,1994,2020,26,1.3039117352056095E-2]
[null,"Нерезиденты - юридические лица ",null,null,9270,9393,123,1.3268608414239491E-2]
[null,"Клиенты, передавшие свои средства в ДУ",null,null,17094,17113,{"$f":"F17-E17","v":19},{"$f":"F17/E17-1","v":1.1115011115010454E-3}]
[null,"Всего",null,null,1046580,1054437,{"$f":"F18-E18","v":7857},{"$f":"F18/E18-1","v":7.5073095224444941E-3}]
[]
[]
[null,"Количество уникальных клиентов в Системе торгов:",null,null,null,null,null,"Таблица 2"]
[null,"Группы клиентов",null,null,"2012-06-01","2012-07-01","Изменение (ед.)","Изменение (%)"]
[null,"Физические лица",null,null,794477,799804,{"$f":"F23-E23","v":5327},{"$f":"F23/E23-1","v":6.7050399193431254E-3}]
[null,"Юридические лица",null,null,17454,17565,{"$f":"F24-E24","v":111},{"$f":"F24/E24-1","v":6.3595737366792804E-3}]
[null,"Нерезиденты",null,null,5452,5540,{"$f":"F25-E25","v":88},{"$f":"F25/E25-1","v":1.6140865737344079E-2}]
[null,"Нерезиденты - физические лица ",null,null,1937,1953,16,8.2601961796593404E-3]
[null,"Нерезиденты - юридические лица ",null,null,3515,3587,72,2.0483641536273023E-2]
[null,"Клиенты, передавшие свои средства в ДУ",null,null,5267,5245,{"$f":"F28-E28","v":-22},{"$f":"F28/E28-1","v":-4.1769508258970856E-3}]
[null,"Всего",null,null,822650,828154,{"$f":"F29-E29","v":5504},{"$f":"F29/E29-1","v":6.6905731477542307E-3}]
[]
[]
[null,"Количество активных клиентов в Системе торгов (совершивших в течение месяца хотя бы одну сделку):",null,null,null,null,null,"Таблица 3"]
[null,"Группы клиентов",null,null,{"$f":"EDATE(C6,-1)","v":"2012-06-01"},{"$f":"EDATE(E33,1)","v":"2012-07-01"},"Изменение (ед.)","Изменение (%)"]
[null,"Физические лица",null,null,68858,70205,1347,1.9599999999999999E-2]
[null,"Юридические лица",null,null,1507,1506,-1,-6.9999999999999999E-4]
[null,"Нерезиденты",null,null,610,648,38,6.2300000000000001E-2]
[null,"Нерезиденты - физические лица ",null,null,149,164,15,0.10067114093959728]
[null,"Нерезиденты - юридические лица ",null,null,461,484,23,4.9891540130151846E-2]
[null,"Клиенты, передавшие свои средства в ДУ",null,null,1210,1246,569,0.84050000000000002]
[null,"Всего",null,null,72185,73605,1953,2.7300000000000001E-2]
[]
[]
[]
[null,"Изменение количества уникальных клиентов - ретроспективные данные"]
[]
[]
[]
[null,"Количество уникальных клиентов в Системе торгов (ежегодная статистика):",null,null,null,null,null,"Таблица 1"]
[null,"Группы клиентов",null,null,"2008-12-31","2009-12-31","2010-12-31","2011-12-31"]
[null,"Физические лица",null,null,559320,671475,714295,772175]
[null,"Юридические лица",null,null,14748,16364,17170,16850]
[null,"Нерезиденты",null,null,3097,3851,4295,5058]
[null,"Клиенты, передавшие свои средства в ДУ",null,null,4512,4717,5348,5242]
[null,"Всего",null,null,581677,696407,741108,799325]
[]
[]
[]
[]
[]
[]
[]
[]
[]
[]
[]
[]
[]
[]
[]
[]
[]
[]
[]
[]
[]
[]
[]
[]
[]
[]
[]
[null,"Количество уникальных клиентов в Системе торгов (за последние 6 месяцев):",null,null,null,null,null,"Таблица 2"]
[null,"Группы клиентов","2012-02-29","2012-03-31","2012-04-30","2012-05-31","2012-06-30","2012-07-31"]
[null,"Физические лица",782553,787742,794030,799942,794477,799804]
[null,"Юридические лица",17054,17159,17296,17333,17454,17565]
[null,"Нерезиденты",5224,5311,5373,5430,5452,5540]
[null,"Клиенты, передавшие свои средства в ДУ",5274,5275,5284,5299,5267,5245]
[null,"Всего",810105,815487,821983,828004,822650,828154]
[]
[]
[]
[]
[]
[]
[]
[]
[]
[]
[]
[]
[]
[]
[]
[]
[]
[]
[]
[]
[]
[]
[]
[]
[]
[]
[]
[]
[]
[]
[]
[]
[]
[]
[]
[null,"Дополнительные показатели за","2012-07-31"]
[]
[]
[null,null,null,null,null,null,null,"Таблица 1"]
[null,"Участники торгов",null,null,null,null,"Абсолютные показатели"]
[null,"Количество Участников торгов, имеющих зарегистрированных клиентов",null,null,null,null,715]
[null,"Количество Участников торгов, имеющих уникальных клиентов",null,null,null,null,715]
[null,"Количество Участников торгов, имеющих активных клиентов",null,null,null,null,470]
[]
[]
[]
[null,"Списки ведущих операторов фондового рынка - клиенты Участников торгов за ",null,null,null,{"$f":"C6","v":"2012-07-01"}]
[]
[]
[null,"Ведущие операторы рынка – число зарегистрированных клиентов",null,null,null,null,null,"Таблица 1"]
[null,"Наименование Участника торгов",null,null,null,null,"Количество клиентов"]
[null,"ОАО «Сбербанк России»",null,null,null,null,"186 024"]
[null,"ВТБ 24 (ЗАО)",null,null,null,null,"179 621"]
[null,"ЗАО «ФИНАМ»",null,null,null,null,"114 605"]
[null,"ООО «Компания БКС»",null,null,null,null,"100 781"]
[null,"ОАО «АЛЬФА-БАНК»",null,null,null,null,"58 232"]
[null,"ООО «АТОН»",null,null,null,null,"41 387"]
[null,"ФК «ОТКРЫТИЕ»",null,null,null,null,"31 521"]
[null,"ГК «АЛОР»",null,null,null,null,"20 126"]
[null,"КИТ Финанс (ООО)",null,null,null,null,"19 250"]
[null,"ООО «Инвестиционная палата»",null,null,null,null,"19 110"]
[]
[]
[null,"Ведущие операторы рынка – число активных клиентов",null,null,null,null,null,"Таблица 2"]
[null,"Наименование Участника торгов",null,null,null,null,"Количество клиентов"]
[null,"ЗАО «ФИНАМ»",null,null,null,null,"13 644"]
[null,"ООО «Компания БКС»",null,null,null,null,"11 492"]
[null,"ОАО «Сбербанк России»",null,null,null,null,"10 421"]
[null,"ВТБ 24 (ЗАО)",null,null,null,null,"7 266"]
[null,"ОАО «АЛЬФА-БАНК»",null,null,null,null,"4 713"]
[null,"ООО «АТОН»",null,null,null,null,"4 373"]
[null,"ФК «ОТКРЫТИЕ»",null,null,null,null,"3 186"]
[null,"ГК «АЛОР»",null,null,null,null,"1 795"]
[null,"КИТ Финанс (ООО)",null,null,null,null,"1 748"]
[null,"ООО «НЭТТРЭЙДЕР»",null,null,null,null,"1 635"]
[]
[]
[null,"Ведущие операторы рынка – объем клиентских операций",null,null,null,null,null,"Таблица 3"]
[null,"Наименование Участника торгов",null,null,null,null,"Торговый оборот, руб."]
[null,"ЗАО ИК «Тройка Диалог»",null,null,null,null,"1 595 669 002 669"]
[null,"ИК «Ренессанс Капитал»",null,null,null,null,"974 825 146 672"]
[null,"ФК «ОТКРЫТИЕ»",null,null,null,null,"529 498 025 474"]
[null,"ОАО «Промсвязьбанк»",null,null,null,null,"435 469 464 211"]
[null,"ЗАО «ФИНАМ»",null,null,null,null,"394 958 849 384"]
[null,"ООО «Компания БКС»",null,null,null,null,"347 243 312 203"]
[null,"ООО «АТОН»",null,null,null,null,"228 374 868 184"]
[null,"ООО «РОНИН»",null,null,null,null,"213 707 751 422"]
[null,"ООО «ИК ВЕЛЕС Капитал»",null,null,null,null,"188 494 846 086"]
[null,"ГК «АЛОР»",null,null,null,null,"184 048 455 598"]

{"sheet":"Август2012","index":7,"n_rows":177,"n_cols":8,"rows_kept":177,"cut":false,"hidden":false,"merged":[[127,6,127,7],[128,1,128,5],[128,6,128,7],[51,1,51,3],[27,1,27,3],[25,1,25,3],[26,1,26,3],[36,1,36,3],[37,1,37,3],[50,1,50,3],[129,1,129,5],[130,1,130,5],[52,1,52,3],[53,1,53,3],[127,1,127,5],[172,6,172,7],[146,1,146,5],[147,1,147,5],[148,1,148,5],[141,6,141,7],[142,6,142,7],[143,6,143,7],[144,6,144,7],[144,1,144,5],[168,1,168,5],[169,1,169,5],[171,1,171,5],[129,6,129,7],[130,6,130,7],[170,1,170,5],[160,6,160,7],[161,6,161,7],[162,6,162,7],[160,1,160,5],[24,1,24,3],[175,1,175,5],[175,6,175,7],[176,1,176,5],[176,6,176,7],[172,1,172,5],[138,1,138,5],[138,6,138,7],[152,1,152,5],[152,6,152,7],[145,6,145,7],[146,6,146,7],[147,6,147,7],[148,6,148,7],[145,1,145,5],[173,6,173,7],[174,6,174,7],[173,1,173,5],[174,1,174,5],[167,6,167,7],[168,6,168,7],[169,6,169,7],[170,6,170,7],[167,1,167,5],[1,1,1,7],[2,1,2,7],[10,1,10,3],[11,1,11,3],[12,1,12,3],[13,1,13,3],[16,1,16,3],[21,1,21,3],[22,1,22,3],[14,1,14,3],[15,1,15,3],[23,1,23,3],[139,1,139,5],[140,1,140,5],[141,1,141,5],[142,1,142,5],[143,1,143,5],[157,6,157,7],[159,6,159,7],[159,1,159,5],[156,1,156,5],[157,1,157,5],[158,1,158,5],[155,1,155,5],[153,6,153,7],[154,6,154,7],[155,6,155,7],[156,6,156,7],[32,1,32,3],[33,1,33,3],[34,1,34,3],[35,1,35,3],[38,1,38,3],[48,1,48,3],[49,1,49,3],[171,6,171,7],[161,1,161,5],[162,1,162,5],[158,6,158,7],[166,1,166,5],[166,6,166,7],[139,6,139,7],[140,6,140,7],[153,1,153,5],[154,1,154,5]]}
[]
[null,"Клиенты Участников торгов Фондовой биржи ММВБ"]
[null,{"$f":"EDATE(Июль2012!B3,1)","v":"2012-08-01"}]
[]
[]
[null,"Динамика количества клиентов за ",{"$f":"B3","v":"2012-08-01"}]
[]
[]
[]
[null,"Количество зарегистрированных клиентов в Системе торгов:",null,null,null,null,null,"Таблица 1"]
[null,"Группы клиентов",null,null,"2012-07-31",{"$f":"EDATE(E11,1)","v":"2012-08-31"},"Изменение (ед.)","Изменение (%)"]
[null,"Физические лица",null,null,991720,981932,{"$f":"F12-E12","v":-9788},{"$f":"F12/E12-1","v":-9.8697212923002375E-3}]
[null,"Юридические лица",null,null,34191,34151,{"$f":"F13-E13","v":-40},{"$f":"F13/E13-1","v":-1.1698985113041127E-3}]
[null,"Нерезиденты",null,null,11413,11453,{"$f":"F14-E14","v":40},{"$f":"F14/E14-1","v":3.5047752562866741E-3}]
[null,"Нерезиденты - физические лица ",null,null,2020,2056,36,1.7821782178217838E-2]
[null,"Нерезиденты - юридические лица ",null,null,9393,9397,4,4.2584903651654571E-4]
[null,"Клиенты, передавшие свои средства в ДУ",null,null,17113,16968,{"$f":"F17-E17","v":-145},{"$f":"F17/E17-1","v":-8.473090632852176E-3}]
[null,"Всего",null,null,1054437,1044504,{"$f":"F18-E18","v":-9933},{"$f":"F18/E18-1","v":-9.4201929560514541E-3}]
[]
[]
[null,"Количество уникальных клиентов в Системе торгов:",null,null,null,null,null,"Таблица 2"]
[null,"Группы клиентов",null,null,{"$f":"E11","v":"2012-07-31"},{"$f":"F11","v":"2012-08-31"},"Изменение (ед.)","Изменение (%)"]
[null,"Физические лица",null,null,799804,791512,{"$f":"F23-E23","v":-8292},{"$f":"F23/E23-1","v":-1.0367540047311552E-2}]
[null,"Юридические лица",null,null,17565,17475,{"$f":"F24-E24","v":-90},{"$f":"F24/E24-1","v":-5.1238257899230977E-3}]
[null,"Нерезиденты",null,null,5540,5636,{"$f":"F25-E25","v":96},{"$f":"F25/E25-1","v":1.7328519855595692E-2}]
[null,"Нерезиденты - физические лица ",null,null,1953,1984,31,1.5873015873015817E-2]
[null,"Нерезиденты - юридические лица ",null,null,3587,3652,65,1.8120992472818509E-2]
[null,"Клиенты, передавшие свои средства в ДУ",null,null,5245,5250,{"$f":"F28-E28","v":5},{"$f":"F28/E28-1","v":9.5328884652046142E-4}]
[null,"Всего",null,null,828154,819873,{"$f":"F29-E29","v":-8281},{"$f":"F29/E29-1","v":-9.999347947362458E-3}]
[]
[]
[null,"Количество активных клиентов в Системе торгов (совершивших в течение месяца хотя бы одну сделку):",null,null,null,null,null,"Таблица 3"]
[null,"Группы клиентов",null,null,{"$f":"EDATE(C6,-1)","v":"2012-07-01"},{"$f":"EDATE(E33,1)","v":"2012-08-01"},"Изменение (ед.)","Изменение (%)"]
[null,"Физические лица",null,null,70205,68776,{"$f":"F34-E34","v":-1429},{"$f":"F34/E34-1","v":-2.035467559290649E-2}]
[null,"Юридические лица",null,null,1506,1493,{"$f":"F35-E35","v":-13},{"$f":"F35/E35-1","v":-8.6321381142098197E-3}]
[null,"Нерезиденты",null,null,648,664,{"$f":"F36-E36","v":16},{"$f":"F36/E36-1","v":2.4691358024691468E-2}]
[null,"Нерезиденты - физические лица ",null,null,164,164,0,0]
[null,"Нерезиденты - юридические лица ",null,null,484,500,16,3.3057851239669311E-2]
[null,"Клиенты, передавшие свои средства в ДУ",null,null,1246,1013,{"$f":"F39-E39","v":-233},{"$f":"F39/E39-1","v":-0.1869983948635634}]
[null,"Всего",null,null,73605,71946,{"$f":"F40-E40","v":-1659},{"$f":"F40/E40-1","v":-2.2539229671897254E-2}]
[]
[]
[]
[null,"Изменение количества уникальных клиентов - ретроспективные данные"]
[]
[]
[]
[null,"Количество уникальных клиентов в Системе торгов (ежегодная статистика):",null,null,null,null,null,"Таблица 1"]
[null,"Группы клиентов",null,null,"2008-12-31","2009-12-31","2010-12-31","2011-12-31"]
[null,"Физические лица",null,null,559320,671475,714295,772175]
[null,"Юридические лица",null,null,14748,16364,17170,16850]
[null,"Нерезиденты",null,null,3097,3851,4295,5058]
[null,"Клиенты, передавшие свои средства в ДУ",null,null,4512,4717,5348,5242]
[null,"Всего",null,null,581677,696407,741108,799325]
[]
[]
[]
[]
[]
[]
[]
[]
[]
[]
[]
[]
[]
[]
[]
[]
[]
[]
[]
[]
[]
[]
[]
[]
[]
[]
[]
[null,"Количество уникальных клиентов в Системе торгов (за последние 6 месяцев):",null,null,null,null,null,"Таблица 2"]
[null,"Группы клиентов",{"$f":"EDATE(D83,-1)","v":"2012-03-30"},{"$f":"EDATE(E83,-1)","v":"2012-04-30"},{"$f":"EDATE(F83,-1)","v":"2012-05-30"},{"$f":"EDATE(G83,-1)","v":"2012-06-30"},{"$f":"EDATE(H83,-1)","v":"2012-07-31"},{"$f":"EDATE(E11,1)","v":"2012-08-31"}]
[null,"Физические лица",787742,794030,799942,794477,799804,791512]
[null,"Юридические лица",17159,17296,17333,17454,17565,17475]
[null,"Нерезиденты",5311,5373,5430,5452,5540,5636]
[null,"Клиенты, передавшие свои средства в ДУ",5275,5284,5299,5267,5245,5250]
[null,"Всего",815487,821983,828004,822650,828154,819873]
[]
[]
[]
[]
[]
[]
[]
[]
[]
[]
[]
[]
[]
[]
[]
[]
[]
[]
[]
[]
[]
[]
[]
[]
[]
[]
[]
[]
[]
[]
[]
[]
[]
[]
[]
[null,"Дополнительные показатели на","2012-08-31"]
[]
[]
[null,null,null,null,null,null,null,"Таблица 1"]
[null,"Участники торгов",null,null,null,null,"Абсолютные показатели"]
[null,"Количество Участников торгов, имеющих зарегистрированных клиентов",null,null,null,null,719]
[null,"Количество Участников торгов, имеющих уникальных клиентов",null,null,null,null,719]
[null,"Количество Участников торгов, имеющих активных клиентов",null,null,null,null,473]
[]
[]
[]
[null,"Списки ведущих операторов фондового рынка - клиенты Участников торгов за ",null,null,null,{"$f":"C6","v":"2012-08-01"}]
[]
[]
[null,"Ведущие операторы рынка – число зарегистрированных клиентов",null,null,null,null,null,"Таблица 1"]
[null,"Наименование Участника торгов",null,null,null,null,"Количество клиентов"]
[null,"ВТБ 24 (ЗАО)",null,null,null,null,181191]
[null,"ОАО «Сбербанк России»",null,null,null,null,167955]
[null,"ЗАО «ФИНАМ»",null,null,null,null,115265]
[null,"ООО «Компания БКС»",null,null,null,null,101622]
[null,"ОАО «АЛЬФА-БАНК»",null,null,null,null,58472]
[null,"ООО «АТОН»",null,null,null,null,41548]
[null,"ФК «ОТКРЫТИЕ»",null,null,null,null,31914]
[null,"ГК «АЛОР»",null,null,null,null,21055]
[null,"ЗАО ИК «Тройка Диалог»",null,null,null,null,19648]
[null,"КИТ Финанс (ООО)",null,null,null,null,19332]
[]
[]
[null,"Ведущие операторы рынка – число активных клиентов",null,null,null,null,null,"Таблица 2"]
[null,"Наименование Участника торгов",null,null,null,null,"Количество клиентов"]
[null,"ЗАО «ФИНАМ»",null,null,null,null,12762]
[null,"ООО «Компания БКС»",null,null,null,null,11141]
[null,"ОАО «Сбербанк России»",null,null,null,null,10699]
[null,"ВТБ 24 (ЗАО)",null,null,null,null,6957]
[null,"ОАО «АЛЬФА-БАНК»",null,null,null,null,4598]
[null,"ООО «АТОН»",null,null,null,null,4335]
[null,"ФК «ОТКРЫТИЕ»",null,null,null,null,3617]
[null,"ЗАО ИК «Тройка Диалог»",null,null,null,null,1915]
[null,"ГК «АЛОР»",null,null,null,null,1767]
[null,"КИТ Финанс (ООО)",null,null,null,null,1702]
[]
[]
[null,"Ведущие операторы рынка – объем клиентских операций",null,null,null,null,null,"Таблица 3"]
[null,"Наименование Участника торгов",null,null,null,null,"Торговый оборот, руб."]
[null,"ЗАО ИК «Тройка Диалог»",null,null,null,null,1186938689884]
[null,"ИК «Ренессанс Капитал»",null,null,null,null,829267209139]
[null,"ООО «БК РЕГИОН»",null,null,null,null,750887308667]
[null,"ФК «ОТКРЫТИЕ»",null,null,null,null,532257685548]
[null,"ОАО «Промсвязьбанк»",null,null,null,null,459042215174]
[null,"ЗАО «ФИНАМ»",null,null,null,null,435342448346]
[null,"ООО «Компания БКС»",null,null,null,null,399401491123]
[null,"ООО «АТОН»",null,null,null,null,253346156537]
[null,"ООО «РОНИН»",null,null,null,null,195386629308]
[null,"ООО «ИК ВЕЛЕС Капитал»",null,null,null,null,192075029077]

{"sheet":"Сентябрь2012","index":8,"n_rows":177,"n_cols":8,"rows_kept":177,"cut":false,"hidden":false,"merged":[[168,6,168,7],[160,1,160,5],[160,6,160,7],[161,1,161,5],[161,6,161,7],[162,1,162,5],[162,6,162,7],[145,1,145,5],[145,6,145,7],[146,1,146,5],[146,6,146,7],[157,1,157,5],[157,6,157,7],[153,1,153,5],[153,6,153,7],[158,1,158,5],[158,6,158,7],[159,1,159,5],[159,6,159,7],[154,1,154,5],[154,6,154,7],[155,1,155,5],[155,6,155,7],[156,1,156,5],[14,1,14,3],[15,1,15,3],[25,1,25,3],[26,1,26,3],[36,1,36,3],[37,1,37,3],[127,6,127,7],[128,1,128,5],[148,1,148,5],[148,6,148,7],[144,1,144,5],[144,6,144,7],[48,1,48,3],[49,1,49,3],[50,1,50,3],[129,1,129,5],[147,6,147,7],[32,1,32,3],[33,1,33,3],[34,1,34,3],[35,1,35,3],[175,1,175,5],[175,6,175,7],[176,1,176,5],[176,6,176,7],[172,1,172,5],[172,6,172,7],[173,1,173,5],[173,6,173,7],[174,1,174,5],[174,6,174,7],[156,6,156,7],[167,1,167,5],[167,6,167,7],[168,1,168,5],[38,1,38,3],[171,1,171,5],[171,6,171,7],[166,1,166,5],[166,6,166,7],[138,1,138,5],[138,6,138,7],[152,1,152,5],[152,6,152,7],[139,1,139,5],[139,6,139,7],[140,1,140,5],[140,6,140,7],[141,1,141,5],[141,6,141,7],[142,1,142,5],[142,6,142,7],[169,1,169,5],[169,6,169,7],[170,1,170,5],[170,6,170,7],[143,1,143,5],[143,6,143,7],[147,1,147,5],[128,6,128,7],[129,6,129,7],[130,6,130,7],[24,1,24,3],[1,1,1,7],[2,1,2,7],[10,1,10,3],[11,1,11,3],[12,1,12,3],[13,1,13,3],[16,1,16,3],[21,1,21,3],[22,1,22,3],[23,1,23,3],[51,1,51,3],[27,1,27,3],[130,1,130,5],[52,1,52,3],[53,1,53,3],[127,1,127,5]]}
[]
[null,"Клиенты Участников торгов Фондовой биржи ММВБ"]
[null,{"$f":"EDATE(Август2012!B3,1)","v":"2012-09-01"}]
[]
[]
[null,"Динамика количества клиентов за ",{"$f":"B3","v":"2012-09-01"}]
[]
[]
[]
[null,"Количество зарегистрированных клиентов в Системе торгов:",null,null,null,null,null,"Таблица 1"]
[null,"Группы клиентов",null,null,"2012-08-31",{"$f":"EDATE(E11,1)","v":"2012-09-30"},"Изменение (ед.)","Изменение (%)"]
[null,"Физические лица",null,null,981932,988316,{"$f":"F12-E12","v":6384},{"$f":"F12/E12-1","v":6.5014685334625621E-3}]
[null,"Юридические лица",null,null,34151,34300,{"$f":"F13-E13","v":149},{"$f":"F13/E13-1","v":4.362976193962087E-3}]
[null,"Нерезиденты",null,null,11453,11523,{"$f":"F14-E14","v":70},{"$f":"F14/E14-1","v":6.1119357373613514E-3}]
[null,"Нерезиденты - физические лица ",null,null,2056,2074,18,8.7548638132295409E-3]
[null,"Нерезиденты - юридические лица ",null,null,9397,9449,52,5.5336809620092353E-3]
[null,"Клиенты, передавшие свои средства в ДУ",null,null,16968,17003,{"$f":"F17-E17","v":35},{"$f":"F17/E17-1","v":2.0627062706271015E-3}]
[null,"Всего",null,null,1044504,1051142,{"$f":"F18-E18","v":6638},{"$f":"F18/E18-1","v":6.3551695350136939E-3}]
[]
[]
[null,"Количество уникальных клиентов в Системе торгов:",null,null,null,null,null,"Таблица 2"]
[null,"Группы клиентов",null,null,{"$f":"E11","v":"2012-08-31"},{"$f":"F11","v":"2012-09-30"},"Изменение (ед.)","Изменение (%)"]
[null,"Физические лица",null,null,791512,796839,{"$f":"F23-E23","v":5327},{"$f":"F23/E23-1","v":6.7301569654030224E-3}]
[null,"Юридические лица",null,null,17475,17573,{"$f":"F24-E24","v":98},{"$f":"F24/E24-1","v":5.6080114449212903E-3}]
[null,"Нерезиденты",null,null,5636,5703,{"$f":"F25-E25","v":67},{"$f":"F25/E25-1","v":1.1887863733144099E-2}]
[null,"Нерезиденты - физические лица ",null,null,1984,1996,12,6.0483870967742437E-3]
[null,"Нерезиденты - юридические лица ",null,null,3652,3707,55,1.5060240963855387E-2]
[null,"Клиенты, передавшие свои средства в ДУ",null,null,5250,5246,{"$f":"F28-E28","v":-4},{"$f":"F28/E28-1","v":-7.6190476190474143E-4}]
[null,"Всего",null,null,819873,825361,{"$f":"F29-E29","v":5488},{"$f":"F29/E29-1","v":6.6937196370657759E-3}]
[]
[]
[null,"Количество активных клиентов в Системе торгов (совершивших в течение месяца хотя бы одну сделку):",null,null,null,null,null,"Таблица 3"]
[null,"Группы клиентов",null,null,{"$f":"EDATE(C6,-1)","v":"2012-08-01"},{"$f":"EDATE(E33,1)","v":"2012-09-01"},"Изменение (ед.)","Изменение (%)"]
[null,"Физические лица",null,null,68776,75666,{"$f":"F34-E34","v":6890},{"$f":"F34/E34-1","v":0.10018029545190177}]
[null,"Юридические лица",null,null,1493,1579,{"$f":"F35-E35","v":86},{"$f":"F35/E35-1","v":5.7602143335566014E-2}]
[null,"Нерезиденты",null,null,664,700,{"$f":"F36-E36","v":36},{"$f":"F36/E36-1","v":5.4216867469879526E-2}]
[null,"Нерезиденты - физические лица ",null,null,164,173,9,5.4878048780487854E-2]
[null,"Нерезиденты - юридические лица ",null,null,500,527,27,5.4000000000000048E-2]
[null,"Клиенты, передавшие свои средства в ДУ",null,null,1013,1031,{"$f":"F39-E39","v":18},{"$f":"F39/E39-1","v":1.7769002961500524E-2}]
[null,"Всего",null,null,71946,78976,{"$f":"F40-E40","v":7030},{"$f":"F40/E40-1","v":9.7712173018652981E-2}]
[]
[]
[]
[null,"Изменение количества уникальных клиентов - ретроспективные данные"]
[]
[]
[]
[null,"Количество уникальных клиентов в Системе торгов (ежегодная статистика):",null,null,null,null,null,"Таблица 1"]
[null,"Группы клиентов",null,null,"2008-12-31","2009-12-31","2010-12-31","2011-12-31"]
[null,"Физические лица",null,null,559320,671475,714295,772175]
[null,"Юридические лица",null,null,14748,16364,17170,16850]
[null,"Нерезиденты",null,null,3097,3851,4295,5058]
[null,"Клиенты, передавшие свои средства в ДУ",null,null,4512,4717,5348,5242]
[null,"Всего",null,null,581677,696407,741108,799325]
[]
[]
[]
[]
[]
[]
[]
[]
[]
[]
[]
[]
[]
[]
[]
[]
[]
[]
[]
[]
[]
[]
[]
[]
[]
[]
[]
[null,"Количество уникальных клиентов в Системе торгов (за последние 6 месяцев):",null,null,null,null,null,"Таблица 2"]
[null,"Группы клиентов",{"$f":"EDATE(D83,-1)","v":"2012-04-30"},{"$f":"EDATE(E83,-1)","v":"2012-05-30"},{"$f":"EDATE(F83,-1)","v":"2012-06-30"},{"$f":"EDATE(G83,-1)","v":"2012-07-30"},{"$f":"EDATE(H83,-1)","v":"2012-08-30"},{"$f":"EDATE(E11,1)","v":"2012-09-30"}]
[null,"Физические лица",794030,799942,794477,799804,791512,796839]
[null,"Юридические лица",17296,17333,17454,17565,17475,17573]
[null,"Нерезиденты",5373,5430,5452,5540,5636,5703]
[null,"Клиенты, передавшие свои средства в ДУ",5284,5299,5267,5245,5250,5246]
[null,"Всего",821983,828004,822650,828154,819873,825361]
[]
[]
[]
[]
[]
[]
[]
[]
[]
[]
[]
[]
[]
[]
[]
[]
[]
[]
[]
[]
[]
[]
[]
[]
[]
[]
[]
[]
[]
[]
[]
[]
[]
[]
[]
[null,"Дополнительные показатели за","2012-09-28"]
[]
[]
[null,null,null,null,null,null,null,"Таблица 1"]
[null,"Участники торгов",null,null,null,null,"Абсолютные показатели"]
[null,"Количество Участников торгов, имеющих зарегистрированных клиентов",null,null,null,null,708]
[null,"Количество Участников торгов, имеющих уникальных клиентов",null,null,null,null,708]
[null,"Количество Участников торгов, имеющих активных клиентов",null,null,null,null,477]
[]
[]
[]
[null,"Списки ведущих операторов фондового рынка - клиенты Участников торгов за ",null,null,null,{"$f":"C6","v":"2012-09-01"}]
[]
[]
[null,"Ведущие операторы рынка – число зарегистрированных клиентов",null,null,null,null,null,"Таблица 1"]
[null,"Наименование Участника торгов",null,null,null,null,"Количество клиентов"]
[null,"ВТБ 24 (ЗАО)",null,null,null,null,"183 020"]
[null,"ОАО «Сбербанк России»",null,null,null,null,"169 494"]
[null,"ЗАО «ФИНАМ»",null,null,null,null,"115 838"]
[null,"ООО «Компания БКС»",null,null,null,null,"102 502"]
[null,"ОАО «АЛЬФА-БАНК»",null,null,null,null,"58 777"]
[null,"ООО «АТОН»",null,null,null,null,"41 696"]
[null,"ФК «ОТКРЫТИЕ»",null,null,null,null,"32 324"]
[null,"ГК «АЛОР»",null,null,null,null,"23 508"]
[null,"ЗАО «Сбербанк КИБ»",null,null,null,null,"19 589"]
[null,"КИТ Финанс (ООО)",null,null,null,null,"19 412"]
[]
[]
[null,"Ведущие операторы рынка – число активных клиентов",null,null,null,null,null,"Таблица 2"]
[null,"Наименование Участника торгов",null,null,null,null,"Количество клиентов"]
[null,"ЗАО «ФИНАМ»",null,null,null,null,"13 793"]
[null,"ОАО «Сбербанк России»",null,null,null,null,"12 867"]
[null,"ООО «Компания БКС»",null,null,null,null,"12 283"]
[null,"ВТБ 24 (ЗАО)",null,null,null,null,"7 717"]
[null,"ОАО «АЛЬФА-БАНК»",null,null,null,null,"4 915"]
[null,"ООО «АТОН»",null,null,null,null,"4 657"]
[null,"ФК «ОТКРЫТИЕ»",null,null,null,null,"3 399"]
[null,"ЗАО «Сбербанк КИБ»",null,null,null,null,"2 006"]
[null,"ГК «АЛОР»",null,null,null,null,"1 964"]
[null,"ООО «НЭТТРЭЙДЕР»",null,null,null,null,"1 838"]
[]
[]
[null,"Ведущие операторы рынка – объем клиентских операций",null,null,null,null,null,"Таблица 3"]
[null,"Наименование Участника торгов",null,null,null,null,"Торговый оборот, руб."]
[null,"ЗАО «Сбербанк КИБ»",null,null,null,null,"1 012 034 902 257"]
[null,"ИК «Ренессанс Капитал»",null,null,null,null,"837 318 512 375"]
[null,"ФК «ОТКРЫТИЕ»",null,null,null,null,"631 158 334 284"]
[null,"ООО «БК РЕГИОН»",null,null,null,null,"560 683 328 478"]
[null,"ООО «Компания БКС»",null,null,null,null,"488 301 751 589"]
[null,"ЗАО «ФИНАМ»",null,null,null,null,"404 409 028 764"]
[null,"ОАО «Промсвязьбанк»",null,null,null,null,"402 795 428 012"]
[null,"ООО «АТОН»",null,null,null,null,"273 465 320 412"]
[null,"ООО «ИК ВЕЛЕС Капитал»",null,null,null,null,"217 084 704 424"]
[null,"ГК «АЛОР»",null,null,null,null,"178 628 423 418"]

{"sheet":"Октябрь2012","index":9,"n_rows":177,"n_cols":8,"rows_kept":177,"cut":false,"hidden":false,"merged":[[145,1,145,5],[145,6,145,7],[159,1,159,5],[159,6,159,7],[160,1,160,5],[160,6,160,7],[157,1,157,5],[157,6,157,7],[158,1,158,5],[158,6,158,7],[153,1,153,5],[153,6,153,7],[154,1,154,5],[154,6,154,7],[155,1,155,5],[155,6,155,7],[156,1,156,5],[156,6,156,7],[142,1,142,5],[142,6,142,7],[143,1,143,5],[143,6,143,7],[144,1,144,5],[144,6,144,7],[14,1,14,3],[15,1,15,3],[25,1,25,3],[26,1,26,3],[36,1,36,3],[37,1,37,3],[127,6,127,7],[128,1,128,5],[48,1,48,3],[49,1,49,3],[50,1,50,3],[129,1,129,5],[130,1,130,5],[52,1,52,3],[53,1,53,3],[127,1,127,5],[32,1,32,3],[33,1,33,3],[162,1,162,5],[162,6,162,7],[161,1,161,5],[161,6,161,7],[175,1,175,5],[175,6,175,7],[171,1,171,5],[171,6,171,7],[166,1,166,5],[166,6,166,7],[168,6,168,7],[167,6,167,7],[169,1,169,5],[169,6,169,7],[170,1,170,5],[170,6,170,7],[167,1,167,5],[168,1,168,5],[176,1,176,5],[176,6,176,7],[172,1,172,5],[172,6,172,7],[173,1,173,5],[173,6,173,7],[174,1,174,5],[174,6,174,7],[138,1,138,5],[138,6,138,7],[152,1,152,5],[152,6,152,7],[146,1,146,5],[146,6,146,7],[147,1,147,5],[147,6,147,7],[148,1,148,5],[148,6,148,7],[139,1,139,5],[139,6,139,7],[140,1,140,5],[140,6,140,7],[141,1,141,5],[141,6,141,7],[34,1,34,3],[35,1,35,3],[38,1,38,3],[128,6,128,7],[129,6,129,7],[130,6,130,7],[24,1,24,3],[1,1,1,7],[2,1,2,7],[10,1,10,3],[11,1,11,3],[12,1,12,3],[13,1,13,3],[16,1,16,3],[21,1,21,3],[22,1,22,3],[23,1,23,3],[51,1,51,3],[27,1,27,3]]}
[]
[null,"Клиенты Участников торгов Фондовой биржи ММВБ"]
[null,{"$f":"EDATE(Сентябрь2012!B3,1)","v":"2012-10-01"}]
[]
[]
[null,"Динамика количества клиентов за ",{"$f":"B3","v":"2012-10-01"}]
[]
[]
[]
[null,"Количество зарегистрированных клиентов в Системе торгов:",null,null,null,null,null,"Таблица 1"]
[null,"Группы клиентов",null,null,"2012-09-30",{"$f":"EDATE(E11,1)","v":"2012-10-30"},"Изменение (ед.)","Изменение (%)"]
[null,"Физические лица",null,null,988316,997138,{"$f":"F12-E12","v":8822},{"$f":"F12/E12-1","v":8.9262948287793797E-3}]
[null,"Юридические лица",null,null,34300,34577,{"$f":"F13-E13","v":277},{"$f":"F13/E13-1","v":8.0758017492710277E-3}]
[null,"Нерезиденты",null,null,11523,11536,{"$f":"F14-E14","v":13},{"$f":"F14/E14-1","v":1.1281784257570759E-3}]
[null,"Нерезиденты - физические лица ",null,null,2074,2110,36,1.7357762777242103E-2]
[null,"Нерезиденты - юридические лица ",null,null,9449,9426,-23,-2.4341200126997142E-3]
[null,"Клиенты, передавшие свои средства в ДУ",null,null,17003,16057,{"$f":"F17-E17","v":-946},{"$f":"F17/E17-1","v":-5.5637240486972939E-2}]
[null,"Всего",null,null,1051142,1059308,{"$f":"F18-E18","v":8166},{"$f":"F18/E18-1","v":7.7686934781409089E-3}]
[]
[]
[null,"Количество уникальных клиентов в Системе торгов:",null,null,null,null,null,"Таблица 2"]
[null,"Группы клиентов",null,null,{"$f":"E11","v":"2012-09-30"},{"$f":"F11","v":"2012-10-30"},"Изменение (ед.)","Изменение (%)"]
[null,"Физические лица",null,null,796839,804740,{"$f":"F23-E23","v":7901},{"$f":"F23/E23-1","v":9.9154283362135054E-3}]
[null,"Юридические лица",null,null,17573,17648,{"$f":"F24-E24","v":75},{"$f":"F24/E24-1","v":4.2679109998293718E-3}]
[null,"Нерезиденты",null,null,5703,5781,{"$f":"F25-E25","v":78},{"$f":"F25/E25-1","v":1.367701209889538E-2}]
[null,"Нерезиденты - физические лица ",null,null,1996,2024,28,1.4028056112224352E-2]
[null,"Нерезиденты - юридические лица ",null,null,3707,3757,50,1.3487995683841403E-2]
[null,"Клиенты, передавшие свои средства в ДУ",null,null,5246,5247,{"$f":"F28-E28","v":1},{"$f":"F28/E28-1","v":1.9062142584824748E-4}]
[null,"Всего",null,null,825361,833416,{"$f":"F29-E29","v":8055},{"$f":"F29/E29-1","v":9.759365901708561E-3}]
[]
[]
[null,"Количество активных клиентов в Системе торгов (совершивших в течение месяца хотя бы одну сделку):",null,null,null,null,null,"Таблица 3"]
[null,"Группы клиентов",null,null,{"$f":"EDATE(C6,-1)","v":"2012-09-01"},{"$f":"EDATE(E33,1)","v":"2012-10-01"},"Изменение (ед.)","Изменение (%)"]
[null,"Физические лица",null,null,75666,69932,{"$f":"F34-E34","v":-5734},{"$f":"F34/E34-1","v":-7.5780403351571435E-2}]
[null,"Юридические лица",null,null,1579,1554,{"$f":"F35-E35","v":-25},{"$f":"F35/E35-1","v":-1.583280557314759E-2}]
[null,"Нерезиденты",null,null,700,652,{"$f":"F36-E36","v":-48},{"$f":"F36/E36-1","v":-6.8571428571428616E-2}]
[null,"Нерезиденты - физические лица ",null,null,173,146,-27,-0.15606936416184969]
[null,"Нерезиденты - юридические лица ",null,null,527,506,-21,-3.9848197343453462E-2]
[null,"Клиенты, передавшие свои средства в ДУ",null,null,1031,1190,{"$f":"F39-E39","v":159},{"$f":"F39/E39-1","v":0.15421920465567407}]
[null,"Всего",null,null,78976,73328,{"$f":"F40-E40","v":-5648},{"$f":"F40/E40-1","v":-7.1515397082657972E-2}]
[]
[]
[]
[null,"Изменение количества уникальных клиентов - ретроспективные данные"]
[]
[]
[]
[null,"Количество уникальных клиентов в Системе торгов (ежегодная статистика):",null,null,null,null,null,"Таблица 1"]
[null,"Группы клиентов",null,null,"2008-12-31","2009-12-31","2010-12-31","2011-12-31"]
[null,"Физические лица",null,null,559320,671475,714295,772175]
[null,"Юридические лица",null,null,14748,16364,17170,16850]
[null,"Нерезиденты",null,null,3097,3851,4295,5058]
[null,"Клиенты, передавшие свои средства в ДУ",null,null,4512,4717,5348,5242]
[null,"Всего",null,null,581677,696407,741108,799325]
[]
[]
[]
[]
[]
[]
[]
[]
[]
[]
[]
[]
[]
[]
[]
[]
[]
[]
[]
[]
[]
[]
[]
[]
[]
[]
[]
[null,"Количество уникальных клиентов в Системе торгов (за последние 6 месяцев):",null,null,null,null,null,"Таблица 2"]
[null,"Группы клиентов",{"$f":"EDATE(D83,-1)","v":"2012-05-30"},{"$f":"EDATE(E83,-1)","v":"2012-06-30"},{"$f":"EDATE(F83,-1)","v":"2012-07-30"},{"$f":"EDATE(G83,-1)","v":"2012-08-30"},{"$f":"EDATE(H83,-1)","v":"2012-09-30"},{"$f":"EDATE(E11,1)","v":"2012-10-30"}]
[null,"Физические лица",799942,794477,799804,791512,796839,804740]
[null,"Юридические лица",17333,17454,17565,17475,17573,17648]
[null,"Нерезиденты",5430,5452,5540,5636,5703,5781]
[null,"Клиенты, передавшие свои средства в ДУ",5299,5267,5245,5250,5246,5247]
[null,"Всего",828004,822650,828154,819873,825361,833416]
[]
[]
[]
[]
[]
[]
[]
[]
[]
[]
[]
[]
[]
[]
[]
[]
[]
[]
[]
[]
[]
[]
[]
[]
[]
[]
[]
[]
[]
[]
[]
[]
[]
[]
[]
[null,"Дополнительные показатели за","2012-10-31"]
[]
[]
[null,null,null,null,null,null,null,"Таблица 1"]
[null,"Участники торгов",null,null,null,null,"Абсолютные показатели"]
[null,"Количество Участников торгов, имеющих зарегистрированных клиентов",null,null,null,null,708]
[null,"Количество Участников торгов, имеющих уникальных клиентов",null,null,null,null,708]
[null,"Количество Участников торгов, имеющих активных клиентов",null,null,null,null,478]
[]
[]
[]
[null,"Списки ведущих операторов фондового рынка - клиенты Участников торгов за ",null,null,null,{"$f":"C6","v":"2012-10-01"}]
[]
[]
[null,"Ведущие операторы рынка – число зарегистрированных клиентов",null,null,null,null,null,"Таблица 1"]
[null,"Наименование Участника торгов",null,null,null,null,"Количество клиентов"]
[null,"ВТБ 24 (ЗАО)",null,null,null,null,"184 576"]
[null,"ОАО «Сбербанк России»",null,null,null,null,"170 695"]
[null,"ЗАО «ФИНАМ»",null,null,null,null,"117 026"]
[null,"ФГ БКС",null,null,null,null,"103 247"]
[null,"ОАО «АЛЬФА-БАНК»",null,null,null,null,"59 074"]
[null,"ООО «АТОН»",null,null,null,null,"41 888"]
[null,"ФК «ОТКРЫТИЕ»",null,null,null,null,"32 827"]
[null,"ГК «АЛОР»",null,null,null,null,"26 198"]
[null,"КИТ Финанс (ООО)",null,null,null,null,"19 475"]
[null,"ООО «Инвестиционная палата»",null,null,null,null,"19 224"]
[]
[]
[null,"Ведущие операторы рынка – число активных клиентов",null,null,null,null,null,"Таблица 2"]
[null,"Наименование Участника торгов",null,null,null,null,"Количество клиентов"]
[null,"ЗАО «ФИНАМ»",null,null,null,null,"12 809"]
[null,"ОАО «Сбербанк России»",null,null,null,null,"12 235"]
[null,"ФГ БКС",null,null,null,null,"11 009"]
[null,"ВТБ 24 (ЗАО)",null,null,null,null,"7 078"]
[null,"ОАО «АЛЬФА-БАНК»",null,null,null,null,"4 598"]
[null,"ООО «АТОН»",null,null,null,null,"4 320"]
[null,"ФК «ОТКРЫТИЕ»",null,null,null,null,"3 178"]
[null,"ГК «АЛОР»",null,null,null,null,"1 941"]
[null,"ООО «НЭТТРЭЙДЕР»",null,null,null,null,"1 713"]
[null,"КИТ Финанс (ООО)",null,null,null,null,"1 636"]
[]
[]
[null,"Ведущие операторы рынка – объем клиентских операций",null,null,null,null,null,"Таблица 3"]
[null,"Наименование Участника торгов",null,null,null,null,"Торговый оборот, руб."]
[null,"ЗАО «Сбербанк КИБ»",null,null,null,null,"1 153 876 893 195"]
[null,"ИК «Ренессанс Капитал»",null,null,null,null,"814 779 022 643"]
[null,"ФК «ОТКРЫТИЕ»",null,null,null,null,"702 353 735 042"]
[null,"ФГ БКС",null,null,null,null,"485 184 413 878"]
[null,"ОАО «Промсвязьбанк»",null,null,null,null,"476 569 803 182"]
[null,"ЗАО «ФИНАМ»",null,null,null,null,"419 649 676 499"]
[null,"ООО «БК РЕГИОН»",null,null,null,null,"417 514 356 800"]
[null,"ООО «АТОН»",null,null,null,null,"287 382 549 655"]
[null,"ООО «РОНИН»",null,null,null,null,"256 176 908 235"]
[null,"ООО «ИК ВЕЛЕС Капитал»",null,null,null,null,"250 222 720 201"]

{"sheet":"Ноябрь2012","index":10,"n_rows":177,"n_cols":8,"rows_kept":177,"cut":false,"hidden":false,"merged":[[168,1,168,5],[160,1,160,5],[160,6,160,7],[161,1,161,5],[161,6,161,7],[162,1,162,5],[162,6,162,7],[145,1,145,5],[145,6,145,7],[146,1,146,5],[146,6,146,7],[157,1,157,5],[157,6,157,7],[153,1,153,5],[153,6,153,7],[158,1,158,5],[158,6,158,7],[159,1,159,5],[159,6,159,7],[154,1,154,5],[154,6,154,7],[155,1,155,5],[155,6,155,7],[156,1,156,5],[14,1,14,3],[15,1,15,3],[25,1,25,3],[26,1,26,3],[36,1,36,3],[37,1,37,3],[127,6,127,7],[128,1,128,5],[148,1,148,5],[148,6,148,7],[144,1,144,5],[144,6,144,7],[48,1,48,3],[49,1,49,3],[50,1,50,3],[129,1,129,5],[147,6,147,7],[32,1,32,3],[33,1,33,3],[34,1,34,3],[35,1,35,3],[175,1,175,5],[175,6,175,7],[176,1,176,5],[176,6,176,7],[172,1,172,5],[172,6,172,7],[173,1,173,5],[173,6,173,7],[174,1,174,5],[174,6,174,7],[156,6,156,7],[168,6,168,7],[167,6,167,7],[167,1,167,5],[38,1,38,3],[171,1,171,5],[171,6,171,7],[166,1,166,5],[166,6,166,7],[138,1,138,5],[138,6,138,7],[152,1,152,5],[152,6,152,7],[139,1,139,5],[139,6,139,7],[140,1,140,5],[140,6,140,7],[141,1,141,5],[141,6,141,7],[142,1,142,5],[142,6,142,7],[169,1,169,5],[169,6,169,7],[170,1,170,5],[170,6,170,7],[143,1,143,5],[143,6,143,7],[147,1,147,5],[128,6,128,7],[129,6,129,7],[130,6,130,7],[24,1,24,3],[1,1,1,7],[2,1,2,7],[10,1,10,3],[11,1,11,3],[12,1,12,3],[13,1,13,3],[16,1,16,3],[21,1,21,3],[22,1,22,3],[23,1,23,3],[51,1,51,3],[27,1,27,3],[130,1,130,5],[52,1,52,3],[53,1,53,3],[127,1,127,5]]}
[]
[null,"Клиенты Участников торгов Фондовой биржи ММВБ"]
[null,{"$f":"EDATE(Октябрь2012!B3,1)","v":"2012-11-01"}]
[]
[]
[null,"Динамика количества клиентов за ",{"$f":"B3","v":"2012-11-01"}]
[]
[]
[]
[null,"Количество зарегистрированных клиентов в Системе торгов:",null,null,null,null,null,"Таблица 1"]
[null,"Группы клиентов",null,null,"2012-10-31",{"$f":"EDATE(E11,1)","v":"2012-11-30"},"Изменение (ед.)","Изменение (%)"]
[null,"Физические лица",null,null,997138,1011071,{"$f":"F12-E12","v":13933},{"$f":"F12/E12-1","v":1.3972990699381738E-2}]
[null,"Юридические лица",null,null,34577,34805,{"$f":"F13-E13","v":228},{"$f":"F13/E13-1","v":6.5939786563322667E-3}]
[null,"Нерезиденты",null,null,11536,12071,{"$f":"F14-E14","v":535},{"$f":"F14/E14-1","v":4.6376560332870964E-2}]
[null,"Нерезиденты - физические лица ",null,null,2110,2138,28,1.3270142180094702E-2]
[null,"Нерезиденты - юридические лица ",null,null,9426,9933,507,5.378739656269893E-2]
[null,"Клиенты, передавшие свои средства в ДУ",null,null,16057,17182,{"$f":"F17-E17","v":1125},{"$f":"F17/E17-1","v":7.0062900915488502E-2}]
[null,"Всего",null,null,1059308,1075129,{"$f":"F18-E18","v":15821},{"$f":"F18/E18-1","v":1.4935221861819281E-2}]
[]
[]
[null,"Количество уникальных клиентов в Системе торгов:",null,null,null,null,null,"Таблица 2"]
[null,"Группы клиентов",null,null,{"$f":"E11","v":"2012-10-31"},{"$f":"F11","v":"2012-11-30"},"Изменение (ед.)","Изменение (%)"]
[null,"Физические лица",null,null,804740,815485,{"$f":"F23-E23","v":10745},{"$f":"F23/E23-1","v":1.3352138578919925E-2}]
[null,"Юридические лица",null,null,17648,17752,{"$f":"F24-E24","v":104},{"$f":"F24/E24-1","v":5.8930190389845372E-3}]
[null,"Нерезиденты",null,null,5781,5845,{"$f":"F25-E25","v":64},{"$f":"F25/E25-1","v":1.1070749005362313E-2}]
[null,"Нерезиденты - физические лица ",null,null,2024,2051,27,1.333992094861669E-2]
[null,"Нерезиденты - юридические лица ",null,null,3757,2051,-1706,-0.45408570668086234]
[null,"Клиенты, передавшие свои средства в ДУ",null,null,5247,5266,{"$f":"F28-E28","v":19},{"$f":"F28/E28-1","v":3.6211168286639506E-3}]
[null,"Всего",null,null,833416,844348,{"$f":"F29-E29","v":10932},{"$f":"F29/E29-1","v":1.311709878380074E-2}]
[]
[]
[null,"Количество активных клиентов в Системе торгов (совершивших в течение месяца хотя бы одну сделку):",null,null,null,null,null,"Таблица 3"]
[null,"Группы клиентов",null,null,{"$f":"EDATE(C6,-1)","v":"2012-10-01"},{"$f":"EDATE(E33,1)","v":"2012-11-01"},"Изменение (ед.)","Изменение (%)"]
[null,"Физические лица",null,null,69932,68887,{"$f":"F34-E34","v":-1045},{"$f":"F34/E34-1","v":-1.4943087570782998E-2}]
[null,"Юридические лица",null,null,1554,1463,{"$f":"F35-E35","v":-91},{"$f":"F35/E35-1","v":-5.8558558558558516E-2}]
[null,"Нерезиденты",null,null,652,643,{"$f":"F36-E36","v":-9},{"$f":"F36/E36-1","v":-1.3803680981595123E-2}]
[null,"Нерезиденты - физические лица ",null,null,146,151,5,3.4246575342465668E-2]
[null,"Нерезиденты - юридические лица ",null,null,506,492,-14,-2.7667984189723271E-2]
[null,"Клиенты, передавшие свои средства в ДУ",null,null,1190,1084,{"$f":"F39-E39","v":-106},{"$f":"F39/E39-1","v":-8.9075630252100857E-2}]
[null,"Всего",null,null,73328,72077,{"$f":"F40-E40","v":-1251},{"$f":"F40/E40-1","v":-1.7060331660484374E-2}]
[]
[]
[]
[null,"Изменение количества уникальных клиентов - ретроспективные данные"]
[]
[]
[]
[null,"Количество уникальных клиентов в Системе торгов (ежегодная статистика):",null,null,null,null,null,"Таблица 1"]
[null,"Группы клиентов",null,null,"2008-12-31","2009-12-31","2010-12-31","2011-12-31"]
[null,"Физические лица",null,null,559320,671475,714295,772175]
[null,"Юридические лица",null,null,14748,16364,17170,16850]
[null,"Нерезиденты",null,null,3097,3851,4295,5058]
[null,"Клиенты, передавшие свои средства в ДУ",null,null,4512,4717,5348,5242]
[null,"Всего",null,null,581677,696407,741108,799325]
[]
[]
[]
[]
[]
[]
[]
[]
[]
[]
[]
[]
[]
[]
[]
[]
[]
[]
[]
[]
[]
[]
[]
[]
[]
[]
[]
[null,"Количество уникальных клиентов в Системе торгов (за последние 6 месяцев):",null,null,null,null,null,"Таблица 2"]
[null,"Группы клиентов",{"$f":"EDATE(D83,-1)","v":"2012-06-30"},{"$f":"EDATE(E83,-1)","v":"2012-07-30"},{"$f":"EDATE(F83,-1)","v":"2012-08-30"},{"$f":"EDATE(G83,-1)","v":"2012-09-30"},{"$f":"EDATE(H83,-1)","v":"2012-10-30"},{"$f":"EDATE(E11,1)","v":"2012-11-30"}]
[null,"Физические лица",794477,799804,791512,796839,804740,815485]
[null,"Юридические лица",17454,17565,17475,17573,17648,17752]
[null,"Нерезиденты",5452,5540,5636,5703,5781,5845]
[null,"Клиенты, передавшие свои средства в ДУ",5267,5245,5250,5246,5247,5266]
[null,"Всего",822650,828154,819873,825361,833416,844348]
[]
[]
[]
[]
[]
[]
[]
[]
[]
[]
[]
[]
[]
[]
[]
[]
[]
[]
[]
[]
[]
[]
[]
[]
[]
[]
[]
[]
[]
[]
[]
[]
[]
[]
[]
[null,"Дополнительные показатели за","2012-11-30"]
[]
[]
[null,null,null,null,null,null,null,"Таблица 1"]
[null,"Участники торгов",null,null,null,null,"Абсолютные показатели"]
[null,"Количество Участников торгов, имеющих зарегистрированных клиентов",null,null,null,null,710]
[null,"Количество Участников торгов, имеющих уникальных клиентов",null,null,null,null,710]
[null,"Количество Участников торгов, имеющих активных клиентов",null,null,null,null,475]
[]
[]
[]
[null,"Списки ведущих операторов фондового рынка - клиенты Участников торгов за ",null,null,null,{"$f":"C6","v":"2012-11-01"}]
[]
[]
[null,"Ведущие операторы рынка – число зарегистрированных клиентов",null,null,null,null,null,"Таблица 1"]
[null,"Наименование Участника торгов",null,null,null,null,"Количество клиентов"]
[null,"ВТБ 24 (ЗАО)",null,null,null,null,"186 095"]
[null,"ОАО «Сбербанк России»",null,null,null,null,"172 148"]
[null,"ЗАО «ФИНАМ»",null,null,null,null,"117 696"]
[null,"ФГ БКС",null,null,null,null,"104 228"]
[null,"ОАО «АЛЬФА-БАНК»",null,null,null,null,"59 347"]
[null,"ООО «АТОН»",null,null,null,null,"42 016"]
[null,"ФК «ОТКРЫТИЕ»",null,null,null,null,"33 354"]
[null,"ГК «АЛОР»",null,null,null,null,"27 512"]
[null,"КИТ Финанс (ООО)",null,null,null,null,"19 565"]
[null,"ООО «Инвестиционная палата»",null,null,null,null,"19 258"]
[]
[]
[null,"Ведущие операторы рынка – число активных клиентов",null,null,null,null,null,"Таблица 2"]
[null,"Наименование Участника торгов",null,null,null,null,"Количество клиентов"]
[null,"ОАО «Сбербанк России»",null,null,null,null,"12 962"]
[null,"ЗАО «ФИНАМ»",null,null,null,null,"12 196"]
[null,"ФГ БКС",null,null,null,null,"10 553"]
[null,"ВТБ 24 (ЗАО)",null,null,null,null,"7 115"]
[null,"ОАО «АЛЬФА-БАНК»",null,null,null,null,"4 496"]
[null,"ООО «АТОН»",null,null,null,null,"4 131"]
[null,"ФК «ОТКРЫТИЕ»",null,null,null,null,"3 180"]
[null,"ГК «АЛОР»",null,null,null,null,"1 841"]
[null,"ООО «НЭТТРЭЙДЕР»",null,null,null,null,"1 594"]
[null,"КИТ Финанс (ООО)",null,null,null,null,"1 586"]
[]
[]
[null,"Ведущие операторы рынка – объем клиентских операций",null,null,null,null,null,"Таблица 3"]
[null,"Наименование Участника торгов",null,null,null,null,"Торговый оборот, руб."]
[null,"ЗАО «Сбербанк КИБ»",null,null,null,null,"1 231 292 524 840"]
[null,"ФК «ОТКРЫТИЕ»",null,null,null,null,"844 685 273 270"]
[null,"ИК «Ренессанс Капитал»",null,null,null,null,"722 317 396 949"]
[null,"ФГ БКС",null,null,null,null,"476 272 433 347"]
[null,"ЗАО «ФИНАМ»",null,null,null,null,"403 311 089 451"]
[null,"ОАО «Промсвязьбанк»",null,null,null,null,"372 171 483 912"]
[null,"ООО «АТОН»",null,null,null,null,"243 148 443 720"]
[null,"ООО «РОНИН»",null,null,null,null,"226 910 897 729"]
[null,"ООО «ИК ВЕЛЕС Капитал»",null,null,null,null,"215 812 091 820"]
[null,"ООО «БК РЕГИОН»",null,null,null,null,"190 236 669 706"]

{"sheet":"Декабрь2012","index":11,"n_rows":177,"n_cols":8,"rows_kept":177,"cut":false,"hidden":false,"merged":[[1,1,1,7],[2,1,2,7],[10,1,10,3],[11,1,11,3],[12,1,12,3],[13,1,13,3],[24,1,24,3],[25,1,25,3],[26,1,26,3],[27,1,27,3],[32,1,32,3],[33,1,33,3],[14,1,14,3],[15,1,15,3],[16,1,16,3],[21,1,21,3],[22,1,22,3],[23,1,23,3],[49,1,49,3],[50,1,50,3],[51,1,51,3],[52,1,52,3],[53,1,53,3],[127,1,127,5],[34,1,34,3],[35,1,35,3],[36,1,36,3],[37,1,37,3],[38,1,38,3],[48,1,48,3],[138,1,138,5],[138,6,138,7],[139,1,139,5],[139,6,139,7],[140,1,140,5],[140,6,140,7],[127,6,127,7],[128,1,128,5],[128,6,128,7],[129,1,129,5],[129,6,129,7],[130,1,130,5],[130,6,130,7],[144,1,144,5],[144,6,144,7],[145,1,145,5],[145,6,145,7],[146,1,146,5],[146,6,146,7],[141,1,141,5],[141,6,141,7],[142,1,142,5],[142,6,142,7],[143,1,143,5],[143,6,143,7],[153,1,153,5],[153,6,153,7],[154,1,154,5],[154,6,154,7],[155,1,155,5],[155,6,155,7],[147,1,147,5],[147,6,147,7],[148,1,148,5],[148,6,148,7],[152,1,152,5],[152,6,152,7],[159,1,159,5],[159,6,159,7],[160,1,160,5],[160,6,160,7],[161,1,161,5],[161,6,161,7],[156,1,156,5],[156,6,156,7],[157,1,157,5],[157,6,157,7],[158,1,158,5],[158,6,158,7],[168,1,168,5],[168,6,168,7],[169,1,169,5],[169,6,169,7],[170,1,170,5],[170,6,170,7],[162,1,162,5],[162,6,162,7],[166,1,166,5],[166,6,166,7],[167,1,167,5],[167,6,167,7],[174,1,174,5],[174,6,174,7],[175,1,175,5],[175,6,175,7],[176,1,176,5],[176,6,176,7],[171,1,171,5],[171,6,171,7],[172,1,172,5],[172,6,172,7],[173,1,173,5],[173,6,173,7]]}
[]
[null,"Клиенты Участников торгов Фондовой биржи ММВБ"]
[null,{"$f":"EDATE(Ноябрь2012!B3,1)","v":"2012-12-01"}]
[]
[]
[null,"Динамика количества клиентов за ",{"$f":"B3","v":"2012-12-01"}]
[]
[]
[]
[null,"Количество зарегистрированных клиентов в Системе торгов:",null,null,null,null,null,"Таблица 1"]
[null,"Группы клиентов",null,null,"2012-11-30",{"$f":"EDATE(E11,1)","v":"2012-12-30"},"Изменение (ед.)","Изменение (%)"]
[null,"Физические лица",null,null,1011071,992397,{"$f":"F12-E12","v":-18674},{"$f":"F12/E12-1","v":-1.8469523900893181E-2}]
[null,"Юридические лица",null,null,34805,34954,{"$f":"F13-E13","v":149},{"$f":"F13/E13-1","v":4.2809941100416804E-3}]
[null,"Нерезиденты",null,null,12071,12200,129,1.0686769944495023E-2]
[null,"Нерезиденты - физические лица ",null,null,2138,2163,25,1.1693171188026152E-2]
[null,"Нерезиденты - юридические лица ",null,null,9933,10037,104,1.0470150005033707E-2]
[null,"Клиенты, передавшие свои средства в ДУ",null,null,17182,15799,-1383,-8.0491211733209167E-2]
[null,"Всего",null,null,1075129,1055350,-19779,-1.8396862143984616E-2]
[]
[]
[null,"Количество уникальных клиентов в Системе торгов:",null,null,null,null,null,"Таблица 2"]
[null,"Группы клиентов",null,null,{"$f":"E11","v":"2012-11-30"},{"$f":"F11","v":"2012-12-30"},"Изменение (ед.)","Изменение (%)"]
[null,"Физические лица",null,null,815485,805549,{"$f":"F23-E23","v":-9936},{"$f":"F23/E23-1","v":-1.2184160346296991E-2}]
[null,"Юридические лица",null,null,17752,17821,{"$f":"F24-E24","v":69},{"$f":"F24/E24-1","v":3.8868859846776793E-3}]
[null,"Нерезиденты",null,null,5845,5876,{"$f":"F25-E25","v":31},{"$f":"F25/E25-1","v":5.3036783575706181E-3}]
[null,"Нерезиденты - физические лица ",null,null,2051,2073,27,1.333992094861669E-2]
[null,"Нерезиденты - юридические лица ",null,null,2051,3803,-1706,-0.45408570668086234]
[null,"Клиенты, передавшие свои средства в ДУ",null,null,5266,5261,{"$f":"F28-E28","v":-5},{"$f":"F28/E28-1","v":-9.4948727687049761E-4}]
[null,"Всего",null,null,844348,834507,{"$f":"F29-E29","v":-9841},{"$f":"F29/E29-1","v":-1.1655146929938853E-2}]
[]
[]
[null,"Количество активных клиентов в Системе торгов (совершивших в течение месяца хотя бы одну сделку):",null,null,null,null,null,"Таблица 3"]
[null,"Группы клиентов",null,null,{"$f":"EDATE(C6,-1)","v":"2012-11-01"},{"$f":"EDATE(E33,1)","v":"2012-12-01"},"Изменение (ед.)","Изменение (%)"]
[null,"Физические лица",null,null,68887,70302,{"$f":"F34-E34","v":1415},{"$f":"F34/E34-1","v":2.0540885798481678E-2}]
[null,"Юридические лица",null,null,1463,1613,{"$f":"F35-E35","v":150},{"$f":"F35/E35-1","v":0.10252904989747091}]
[null,"Нерезиденты",null,null,643,666,{"$f":"F36-E36","v":23},{"$f":"F36/E36-1","v":3.5769828926905056E-2}]
[null,"Нерезиденты - физические лица ",null,null,151,160,5,3.4246575342465668E-2]
[null,"Нерезиденты - юридические лица ",null,null,492,506,-14,-2.7667984189723271E-2]
[null,"Клиенты, передавшие свои средства в ДУ",null,null,1084,944,{"$f":"F39-E39","v":-140},{"$f":"F39/E39-1","v":-0.12915129151291516}]
[null,"Всего",null,null,72077,73525,{"$f":"F40-E40","v":1448},{"$f":"F40/E40-1","v":2.0089626371796898E-2}]
[]
[]
[]
[null,"Изменение количества уникальных клиентов - ретроспективные данные"]
[]
[]
[]
[null,"Количество уникальных клиентов в Системе торгов (ежегодная статистика):",null,null,null,null,null,"Таблица 1"]
[null,"Группы клиентов",null,null,"2009-12-31","2010-12-31","2011-12-31","2012-12-31"]
[null,"Физические лица",null,null,671475,714295,772175,805549]
[null,"Юридические лица",null,null,16364,17170,16850,17821]
[null,"Нерезиденты",null,null,3851,4295,5058,5876]
[null,"Клиенты, передавшие свои средства в ДУ",null,null,4717,5348,5242,5261]
[null,"Всего",null,null,696407,741108,799325,834507]
[]
[]
[]
[]
[]
[]
[]
[]
[]
[]
[]
[]
[]
[]
[]
[]
[]
[]
[]
[]
[]
[]
[]
[]
[]
[]
[]
[null,"Количество уникальных клиентов в Системе торгов (за последние 6 месяцев):",null,null,null,null,null,"Таблица 2"]
[null,"Группы клиентов",{"$f":"EDATE(D83,-1)","v":"2012-07-30"},{"$f":"EDATE(E83,-1)","v":"2012-08-30"},{"$f":"EDATE(F83,-1)","v":"2012-09-30"},{"$f":"EDATE(G83,-1)","v":"2012-10-30"},{"$f":"EDATE(H83,-1)","v":"2012-11-30"},{"$f":"EDATE(E11,1)","v":"2012-12-30"}]
[null,"Физические лица",799804,791512,796839,804740,815485,805549]
[null,"Юридические лица",17565,17475,17573,17648,17752,17821]
[null,"Нерезиденты",5540,5636,5703,5781,5845,5876]
[null,"Клиенты, передавшие свои средства в ДУ",5245,5250,5246,5247,5266,5261]
[null,"Всего",828154,819873,825361,833416,844348,834507]
[]
[]
[]
[]
[]
[]
[]
[]
[]
[]
[]
[]
[]
[]
[]
[]
[]
[]
[]
[]
[]
[]
[]
[]
[]
[]
[]
[]
[]
[]
[]
[]
[]
[]
[]
[null,"Дополнительные показатели за","2012-12-31"]
[]
[]
[null,null,null,null,null,null,null,"Таблица 1"]
[null,"Участники торгов",null,null,null,null,"Абсолютные показатели"]
[null,"Количество Участников торгов, имеющих зарегистрированных клиентов",null,null,null,null,813]
[null,"Количество Участников торгов, имеющих уникальных клиентов",null,null,null,null,813]
[null,"Количество Участников торгов, имеющих активных клиентов",null,null,null,null,480]
[]
[]
[]
[null,"Списки ведущих операторов фондового рынка - клиенты Участников торгов за ",null,null,null,{"$f":"C6","v":"2012-12-01"}]
[]
[]
[null,"Ведущие операторы рынка – число зарегистрированных клиентов",null,null,null,null,null,"Таблица 1"]
[null,"Наименование Участника торгов",null,null,null,null,"Количество клиентов"]
[null,"ВТБ 24 (ЗАО)",null,null,null,null,187959]
[null,"ОАО «Сбербанк России»",null,null,null,null,172520]
[null,"ЗАО «ФИНАМ»",null,null,null,null,118202]
[null,"ФГ БКС",null,null,null,null,104683]
[null,"ОАО «АЛЬФА-БАНК»",null,null,null,null,59543]
[null,"ООО «АТОН»",null,null,null,null,42147]
[null,"ФК «ОТКРЫТИЕ»",null,null,null,null,33738]
[null,"ГК «АЛОР»",null,null,null,null,28427]
[null,"КИТ Финанс (ООО)",null,null,null,null,19623]
[null,"ООО «Инвестиционная палата»",null,null,null,null,19310]
[]
[]
[null,"Ведущие операторы рынка – число активных клиентов",null,null,null,null,null,"Таблица 2"]
[null,"Наименование Участника торгов",null,null,null,null,"Количество клиентов"]
[null,"ОАО «Сбербанк России»",null,null,null,null,13968]
[null,"ЗАО «ФИНАМ»",null,null,null,null,11978]
[null,"ФГ БКС",null,null,null,null,10901]
[null,"ВТБ 24 (ЗАО)",null,null,null,null,6838]
[null,"ОАО «АЛЬФА-БАНК»",null,null,null,null,4331]
[null,"ООО «АТОН»",null,null,null,null,4160]
[null,"ФК «ОТКРЫТИЕ»",null,null,null,null,3287]
[null,"ГК «АЛОР»",null,null,null,null,1966]
[null,"ООО «НЭТТРЭЙДЕР»",null,null,null,null,1795]
[null,"КИТ Финанс (ООО)",null,null,null,null,1579]
[]
[]
[null,"Ведущие операторы рынка – объем клиентских операций",null,null,null,null,null,"Таблица 3"]
[null,"Наименование Участника торгов",null,null,null,null,"Торговый оборот, руб."]
[null,"ЗАО «Сбербанк КИБ»",null,null,null,null,1049103675339]
[null,"ФК «ОТКРЫТИЕ»",null,null,null,null,753785750013]
[null,"ИК «Ренессанс Капитал»",null,null,null,null,700395025614]
[null,"ФГ БКС",null,null,null,null,431675562539]
[null,"ЗАО «ФИНАМ»",null,null,null,null,368516381057]
[null,"ОАО «Промсвязьбанк»",null,null,null,null,350111225875]
[null,"ООО «АТОН»",null,null,null,null,276661219719]
[null,"ООО «БК РЕГИОН»",null,null,null,null,219687972557]
[null,"ООО «ИК ВЕЛЕС Капитал»",null,null,null,null,218842734592]
[null,"ООО «РОНИН»",null,null,null,null,216413970235]

{"sheet":"Лист1","index":12,"n_rows":0,"n_cols":0,"rows_kept":0,"cut":false,"hidden":false,"merged":[]}