{"text_format":"1","workbook":"xlsx","n_sheets":12,"sheets":["Январь2014","Февраль2014","Март2014","Апрель2014","Май2014","Июнь2014","Июль2014","Август2014","Сентябрь2014","Октябрь2014","Ноябрь2014","Декабрь2014"],"not_rendered":{"charts":24,"images":0,"macros":1,"external_links":1,"defined_names":0,"comments":0,"pivot_tables":0},"unopened":[],"bounds":{"document_bytes":16777216,"sheet_cells":100000,"rows_first":2000,"rows_last":500,"rows_between":2000,"halvings":0,"cell_chars":16384,"cell_head_chars":4096},"cells_cut":0,"cells_raw":0,"read":"whole","date_system":"1900"}

{"sheet":"Январь2014","index":0,"n_rows":178,"n_cols":9,"rows_kept":178,"cut":false,"hidden":false,"merged":[[177,1,177,5],[177,6,177,7],[174,1,174,5],[174,6,174,7],[175,1,175,5],[175,6,175,7],[176,1,176,5],[176,6,176,7],[171,1,171,5],[171,6,171,7],[172,1,172,5],[172,6,172,7],[173,1,173,5],[173,6,173,7],[168,1,168,5],[168,6,168,7],[169,1,169,5],[169,6,169,7],[170,1,170,5],[170,6,170,7],[161,1,161,5],[161,6,161,7],[162,1,162,5],[162,6,162,7],[167,1,167,5],[167,6,167,7],[158,1,158,5],[159,1,159,5],[160,1,160,5],[155,1,155,5],[156,1,156,5],[157,1,157,5],[155,6,155,7],[156,6,156,7],[157,6,157,7],[158,6,158,7],[159,6,159,7],[160,6,160,7],[128,1,128,5],[128,6,128,7],[137,1,137,5],[137,6,137,7],[53,1,53,3],[127,1,127,5],[127,6,127,7],[152,1,152,5],[152,6,152,7],[49,1,49,3],[50,1,50,3],[51,1,51,3],[52,1,52,3],[33,1,33,3],[34,1,34,3],[35,1,35,3],[36,1,36,3],[37,1,37,3],[38,1,38,3],[1,1,1,7],[2,1,2,7],[2,8,2,13],[10,1,10,3],[11,1,11,3],[12,1,12,3],[153,1,153,5],[154,1,154,5],[153,6,153,7],[154,6,154,7],[23,1,23,3],[24,1,24,3],[25,1,25,3],[26,1,26,3],[27,1,27,3],[32,1,32,3],[13,1,13,3],[14,1,14,3],[15,1,15,3],[16,1,16,3],[21,1,21,3],[22,1,22,3],[47,7,47,8],[48,1,48,3],[138,1,138,5],[145,1,145,5],[146,1,146,5],[147,1,147,5],[138,6,138,7],[139,6,139,7],[140,6,140,7],[141,6,141,7],[142,6,142,7],[143,6,143,7],[144,6,144,7],[145,6,145,7],[146,6,146,7],[147,6,147,7],[142,1,142,5],[143,1,143,5],[144,1,144,5],[139,1,139,5],[140,1,140,5],[141,1,141,5]]}
[]
[null,"Клиенты Участников торгов Фондовой биржи ММВБ"]
[null,"2014-01-31"]
[]
[]
[null,"Динамика количества клиентов за ",{"$f":"B3","v":"2014-01-31"}]
[]
[]
[]
[null,"Количество зарегистрированных клиентов в Системе торгов (по состоянию на последний день месяца):",null,null,null,null,null,"Таблица 1"]
[null,"Группы клиентов",null,null,"2013-12-31","2014-01-31","Изменение (ед.)","Изменение (%)"]
[null,"Физические лица",null,null,1043653,1058132,{"$f":"F12-E12","v":14479},{"$f":"F12/E12-1","v":1.3873385119383519E-2}]
[null,"Юридические лица",null,null,35574,36181,{"$f":"F13-E13","v":607},{"$f":"F13/E13-1","v":1.706302355653011E-2}]
[null,"Нерезиденты",null,null,13307,13858,551,4.140677838731488E-2]
[null,"Нерезиденты - физические лица ",null,null,2564,2651,87,3.3931357254290084E-2]
[null,"Нерезиденты - юридические лица ",null,null,10743,11207,464,4.3190915014428066E-2]
[null,"Клиенты, передавшие свои средства в ДУ",null,null,12458,12716,258,2.0709584202921905E-2]
[null,"Всего",null,null,1104992,1120887,15895,1.4384719527381185E-2]
[]
[]
[null,"Количество уникальных клиентов в Системе торгов (по состоянию на последний день месяца):",null,null,null,null,null,"Таблица 2"]
[null,"Группы клиентов",null,null,{"$f":"E11","v":"2013-12-31"},{"$f":"F11","v":"2014-01-31"},"Изменение (ед.)","Изменение (%)"]
[null,"Физические лица",null,null,881844,883068,{"$f":"F23-E23","v":1224},{"$f":"F23/E23-1","v":1.3880005987454425E-3}]
[null,"Юридические лица",null,null,19539,19540,{"$f":"F24-E24","v":1},{"$f":"F24/E24-1","v":5.1179691898273205E-5}]
[null,"Нерезиденты",null,null,6957,7004,47,6.7557855397442079E-3]
[null,"Нерезиденты - физические лица ",null,null,2553,2573,20,7.8339208773992031E-3]
[null,"Нерезиденты - юридические лица ",null,null,4404,4431,27,6.1307901907357021E-3]
[null,"Клиенты, передавшие свои средства в ДУ",null,null,5182,5189,7,1.3508297954458737E-3]
[null,"Всего",null,null,{"$f":"E23+E24+E25+E28","v":913522},914801,{"$f":"F29-E29","v":1279},1.400075750775498E-3]
[]
[]
[null,"Количество активных клиентов в Системе торгов (совершивших в течение месяца хотя бы одну сделку):",null,null,null,null,null,"Таблица 3"]
[null,"Группы клиентов",null,null,{"$f":"EDATE(C6,-1)","v":"2013-12-31"},{"$f":"EDATE(E33,1)","v":"2014-01-31"},"Изменение (ед.)","Изменение (%)"]
[null,"Физические лица",null,null,57875,54578,{"$f":"F34-E34","v":-3297},{"$f":"F34/E34-1","v":-5.6967602591792676E-2}]
[null,"Юридические лица",null,null,1511,1156,-355,-0.2349437458636664]
[null,"Нерезиденты",null,null,638,555,-83,-0.13009404388714729]
[null,"Нерезиденты - физические лица ",null,null,156,146,-10,-6.4102564102564097E-2]
[null,"Нерезиденты - юридические лица ",null,null,482,409,-73,-0.15145228215767637]
[null,"Клиенты, передавшие свои средства в ДУ",null,null,826,828,2,2.421307506053294E-3]
[null,"Всего",null,null,60850,57117,-3733,-6.134757600657359E-2]
[]
[]
[]
[null,"Изменение количества уникальных клиентов - ретроспективные данные"]
[]
[]
[]
[null,"Количество уникальных клиентов в Системе торгов (по состоянию на последний день месяца) (ежегодная статистика):",null,null,null,null,null,"Таблица 1"]
[null,"Группы клиентов",null,null,"2009-12-31","2010-12-31","2011-12-31","2012-12-31","2013-12-31"]
[null,"Физические лица",null,null,671475,714295,772175,805549,881844]
[null,"Юридические лица",null,null,16364,17170,16850,17821,19539]
[null,"Нерезиденты",null,null,3851,4295,5058,5876,6957]
[null,"Клиенты, передавшие свои средства в ДУ",null,null,4717,5348,5242,5261,5182]
[null,"Всего",null,null,696407,741108,799325,834507,913522]
[]
[]
[]
[]
[]
[]
[]
[]
[]
[]
[]
[]
[]
[]
[]
[]
[]
[]
[]
[]
[]
[]
[]
[]
[]
[]
[]
[null,"Количество уникальных клиентов в Системе торгов (по состоянию на последний день месяца) (за последние 6 месяцев):",null,null,null,null,null,"Таблица 2"]
[null,"Группы клиентов",{"$f":"EDATE(D83,-1)","v":"2013-08-30"},{"$f":"EDATE(E83,-1)","v":"2013-09-30"},{"$f":"EDATE(F83,-1)","v":"2013-10-30"},{"$f":"EDATE(G83,-1)","v":"2013-11-30"},{"$f":"EDATE(H83,-1)","v":"2013-12-31"},{"$f":"EDATE(E11,1)","v":"2014-01-31"}]
[null,"Физические лица",882528,872709,876196,878908,881844,883068]
[null,"Юридические лица",19235,19279,19352,19435,19539,19540]
[null,"Нерезиденты",6722,6763,6810,6874,6957,7004]
[null,"Клиенты, передавшие свои средства в ДУ",5237,5254,5157,5205,5182,5189]
[null,"Всего",913722,904005,907515,910422,913522,914801]
[]
[]
[]
[]
[]
[]
[]
[]
[]
[]
[]
[]
[]
[]
[]
[]
[]
[]
[]
[]
[]
[]
[]
[]
[]
[]
[]
[]
[]
[]
[]
[]
[]
[]
[]
[null,"Дополнительные показатели за","2014-01-31"]
[]
[]
[null,null,null,null,null,null,null,"Таблица 1"]
[null,"Участники торгов",null,null,null,null,"Абсолютные показатели"]
[null,"Количество Участников торгов, имеющих активных клиентов",null,null,null,null,448]
[]
[]
[]
[null,"Списки ведущих операторов фондового рынка - клиенты Участников торгов за ",null,null,null,{"$f":"C6","v":"2014-01-31"}]
[]
[]
[null,"Ведущие операторы рынка – число зарегистрированных клиентов",null,null,null,null,null,"Таблица 1"]
[null,"(по общему количеству уникальных клиентов всех типов, зарегистрированных в системе торгов биржи, в том числе  в течение месяца) "]
[null,"Наименование Участника торгов",null,null,null,null,"Количество клиентов"]
[null,"ВТБ 24 (ЗАО)",null,null,null,null,201949]
[null,"Сбербанк",null,null,null,null,181674]
[null,"ЗАО \"ФИНАМ\"",null,null,null,null,116221]
[null,"ФГ БКС",null,null,null,null,111269]
[null,"ОАО \"АЛЬФА-БАНК\"",null,null,null,null,60601]
[null,"ООО \"АТОН\"",null,null,null,null,44007]
[null,"ФК \"ОТКРЫТИЕ\" ",null,null,null,null,42214]
[null,"ГК \"АЛОР\"",null,null,null,null,29482]
[null,"КИТ Финанс (ООО)",null,null,null,null,20360]
[null,"ООО \"Инвестиционная палата\"",null,null,null,null,19462]
[]
[]
[null,"Ведущие операторы рынка – число активных клиентов",null,null,null,null,null,"Таблица 2"]
[null,"(по количеству уникальных клиентов, совершивших хотя бы одну сделку за месяц)"]
[null,"Наименование Участника торгов",null,null,null,null,"Количество клиентов"]
[null,"Сбербанк",null,null,null,null,9975]
[null,"ЗАО \"ФИНАМ\"",null,null,null,null,9413]
[null,"ФГ БКС",null,null,null,null,8599]
[null,"ВТБ 24 (ЗАО)",null,null,null,null,6007]
[null,"ОАО \"АЛЬФА-БАНК\"",null,null,null,null,3529]
[null,"ФК \"ОТКРЫТИЕ\" ",null,null,null,null,3459]
[null,"ООО \"АТОН\"",null,null,null,null,2795]
[null,"ГПБ (ОАО)",null,null,null,null,1578]
[null,"ГК \"АЛОР\"",null,null,null,null,1530]
[null,"КИТ Финанс (ООО)",null,null,null,null,1241]
[]
[]
[null,"Ведущие операторы рынка – объем клиентских операций",null,null,null,null,null,"Таблица 3"]
[null,"(по стоимостному объему сделок, заключенных в интересах клиентов за месяц) "]
[null,"Наименование Участника торгов",null,null,null,null,"Торговый оборот, руб."]
[null,"ФК \"ОТКРЫТИЕ\" ",null,null,null,null,1009857151555]
[null,"Сбербанк",null,null,null,null,899099744242]
[null,"ФГ БКС",null,null,null,null,706046621726]
[null,"ЗАО \"ФИНАМ\"",null,null,null,null,377178203227]
[null,"ИК \"Ренессанс Капитал\"",null,null,null,null,296364006200]
[null,"ОАО \"Промсвязьбанк\"",null,null,null,null,260594248398]
[null,"ООО \"РОНИН\"",null,null,null,null,148501349036]
[null,"ООО \"ИК ВЕЛЕС Капитал\"",null,null,null,null,145736842445]
[null,"ООО \"БК РЕГИОН\"",null,null,null,null,145148706614]
[null,"КИТ Финанс (ООО)",null,null,null,null,141041967060]

{"sheet":"Февраль2014","index":1,"n_rows":178,"n_cols":9,"rows_kept":178,"cut":false,"hidden":false,"merged":[[1,1,1,7],[2,1,2,7],[2,8,2,13],[10,1,10,3],[11,1,11,3],[12,1,12,3],[23,1,23,3],[24,1,24,3],[25,1,25,3],[26,1,26,3],[27,1,27,3],[32,1,32,3],[13,1,13,3],[14,1,14,3],[15,1,15,3],[16,1,16,3],[21,1,21,3],[22,1,22,3],[47,7,47,8],[48,1,48,3],[49,1,49,3],[50,1,50,3],[51,1,51,3],[52,1,52,3],[33,1,33,3],[34,1,34,3],[35,1,35,3],[36,1,36,3],[37,1,37,3],[38,1,38,3],[128,1,128,5],[128,6,128,7],[137,1,137,5],[137,6,137,7],[138,1,138,5],[138,6,138,7],[53,1,53,3],[127,1,127,5],[127,6,127,7],[142,1,142,5],[142,6,142,7],[143,1,143,5],[143,6,143,7],[144,1,144,5],[144,6,144,7],[139,1,139,5],[139,6,139,7],[140,1,140,5],[140,6,140,7],[141,1,141,5],[141,6,141,7],[152,1,152,5],[152,6,152,7],[153,1,153,5],[153,6,153,7],[154,1,154,5],[154,6,154,7],[145,1,145,5],[145,6,145,7],[146,1,146,5],[146,6,146,7],[147,1,147,5],[147,6,147,7],[158,1,158,5],[158,6,158,7],[159,1,159,5],[159,6,159,7],[160,1,160,5],[160,6,160,7],[155,1,155,5],[155,6,155,7],[156,1,156,5],[156,6,156,7],[157,1,157,5],[157,6,157,7],[168,1,168,5],[168,6,168,7],[169,1,169,5],[169,6,169,7],[170,1,170,5],[170,6,170,7],[161,1,161,5],[161,6,161,7],[162,1,162,5],[162,6,162,7],[167,1,167,5],[167,6,167,7],[177,1,177,5],[177,6,177,7],[174,1,174,5],[174,6,174,7],[175,1,175,5],[175,6,175,7],[176,1,176,5],[176,6,176,7],[171,1,171,5],[171,6,171,7],[172,1,172,5],[172,6,172,7],[173,1,173,5],[173,6,173,7]]}
[]
[null,"Клиенты Участников торгов Фондовой биржи ММВБ"]
[null,"2014-02-28"]
[]
[]
[null,"Динамика количества клиентов за ",{"$f":"B3","v":"2014-02-28"}]
[]
[]
[]
[null,"Количество зарегистрированных клиентов в Системе торгов (по состоянию на последний день месяца):",null,null,null,null,null,"Таблица 1"]
[null,"Группы клиентов",null,null,"2014-01-31",{"$f":"EDATE(E11,1)","v":"2014-02-28"},"Изменение (ед.)","Изменение (%)"]
[null,"Физические лица",null,null,{"$f":"Январь2014!F12","v":1058132},1059586,{"$f":"F12-E12","v":1454},{"$f":"F12/E12-1","v":1.3741196750500784E-3}]
[null,"Юридические лица",null,null,{"$f":"Январь2014!F13","v":36181},36016,{"$f":"F13-E13","v":-165},{"$f":"F13/E13-1","v":-4.5604046322655911E-3}]
[null,"Нерезиденты",null,null,{"$f":"Январь2014!F14","v":13858},12879,-979,-7.0645114735170988E-2]
[null,"Нерезиденты - физические лица ",null,null,{"$f":"Январь2014!F15","v":2651},2693,42,1.5843078083741968E-2]
[null,"Нерезиденты - юридические лица ",null,null,{"$f":"Январь2014!F16","v":11207},10186,-1021,-9.1103774426697592E-2]
[null,"Клиенты, передавшие свои средства в ДУ",null,null,{"$f":"Январь2014!F17","v":12716},12831,115,9.0437244416483598E-3]
[null,"Всего",null,null,{"$f":"Январь2014!F18","v":1120887},1121312,425,3.7916400136683848E-4]
[]
[]
[null,"Количество уникальных клиентов в Системе торгов (по состоянию на последний день месяца):",null,null,null,null,null,"Таблица 2"]
[null,"Группы клиентов",null,null,{"$f":"E11","v":"2014-01-31"},{"$f":"F11","v":"2014-02-28"},"Изменение (ед.)","Изменение (%)"]
[null,"Физические лица",null,null,{"$f":"Январь2014!F23","v":883068},886594,{"$f":"F23-E23","v":3526},{"$f":"F23/E23-1","v":3.9928974892080582E-3}]
[null,"Юридические лица",null,null,{"$f":"Январь2014!F24","v":19540},19633,{"$f":"F24-E24","v":93},{"$f":"F24/E24-1","v":4.759467758444158E-3}]
[null,"Нерезиденты",null,null,{"$f":"Январь2014!F25","v":7004},7064,60,8.5665334094802148E-3]
[null,"Нерезиденты - физические лица ",null,null,{"$f":"Январь2014!F26","v":2573},2621,48,1.8655266226195177E-2]
[null,"Нерезиденты - юридические лица ",null,null,{"$f":"Январь2014!F27","v":4431},4443,12,2.7081922816520887E-3]
[null,"Клиенты, передавшие свои средства в ДУ",null,null,{"$f":"Январь2014!F28","v":5189},5217,28,5.3960300635960134E-3]
[null,"Всего",null,null,{"$f":"Январь2014!F29","v":914801},918508,3707,4.0522474286757149E-3]
[]
[]
[null,"Количество активных клиентов в Системе торгов (совершивших в течение месяца хотя бы одну сделку):",null,null,null,null,null,"Таблица 3"]
[null,"Группы клиентов",null,null,{"$f":"EDATE(C6,-1)","v":"2014-01-28"},{"$f":"EDATE(E33,1)","v":"2014-02-28"},"Изменение (ед.)","Изменение (%)"]
[null,"Физические лица",null,null,{"$f":"Январь2014!F34","v":54578},57539,{"$f":"F34-E34","v":2961},{"$f":"F34/E34-1","v":5.4252629264538887E-2}]
[null,"Юридические лица",null,null,{"$f":"Январь2014!F35","v":1156},1323,167,0.14446366782006925]
[null,"Нерезиденты",null,null,{"$f":"Январь2014!F36","v":555},602,47,8.4684684684684708E-2]
[null,"Нерезиденты - физические лица ",null,null,{"$f":"Январь2014!F37","v":146},156,10,6.8493150684931559E-2]
[null,"Нерезиденты - юридические лица ",null,null,{"$f":"Январь2014!F38","v":409},446,37,9.0464547677261642E-2]
[null,"Клиенты, передавшие свои средства в ДУ",null,null,{"$f":"Январь2014!F39","v":828},764,-64,-7.7294685990338174E-2]
[null,"Всего",null,null,{"$f":"Январь2014!F40","v":57117},60228,3111,5.4467146383738729E-2]
[]
[]
[]
[null,"Изменение количества уникальных клиентов - ретроспективные данные"]
[]
[]
[]
[null,"Количество уникальных клиентов в Системе торгов (по состоянию на последний день месяца) (ежегодная статистика):",null,null,null,null,null,"Таблица 1"]
[null,"Группы клиентов",null,null,"2009-12-31","2010-12-31","2011-12-31","2012-12-31","2013-12-31"]
[null,"Физические лица",null,null,671475,714295,772175,805549,881844]
[null,"Юридические лица",null,null,16364,17170,16850,17821,19539]
[null,"Нерезиденты",null,null,3851,4295,5058,5876,6957]
[null,"Клиенты, передавшие свои средства в ДУ",null,null,4717,5348,5242,5261,5182]
[null,"Всего",null,null,696407,741108,799325,834507,913522]
[]
[]
[]
[]
[]
[]
[]
[]
[]
[]
[]
[]
[]
[]
[]
[]
[]
[]
[]
[]
[]
[]
[]
[]
[]
[]
[]
[null,"Количество уникальных клиентов в Системе торгов (по состоянию на последний день месяца) (за последние 6 месяцев):",null,null,null,null,null,"Таблица 2"]
[null,"Группы клиентов",{"$f":"EDATE(D83,-1)","v":"2013-09-28"},{"$f":"EDATE(E83,-1)","v":"2013-10-28"},{"$f":"EDATE(F83,-1)","v":"2013-11-28"},{"$f":"EDATE(G83,-1)","v":"2013-12-28"},{"$f":"EDATE(H83,-1)","v":"2014-01-28"},{"$f":"EDATE(E11,1)","v":"2014-02-28"}]
[null,"Физические лица",872709,876196,878908,881844,883068,886594]
[null,"Юридические лица",19279,19352,19435,19539,19540,19633]
[null,"Нерезиденты",6763,6810,6874,6957,7004,7064]
[null,"Клиенты, передавшие свои средства в ДУ",5254,5157,5205,5182,5189,5217]
[null,"Всего",904005,907515,910422,913522,914801,918508]
[]
[]
[]
[]
[]
[]
[]
[]
[]
[]
[]
[]
[]
[]
[]
[]
[]
[]
[]
[]
[]
[]
[]
[]
[]
[]
[]
[]
[]
[]
[]
[]
[]
[]
[]
[null,"Дополнительные показатели за","2014-02-28"]
[]
[]
[null,null,null,null,null,null,null,"Таблица 1"]
[null,"Участники торгов",null,null,null,null,"Абсолютные показатели"]
[null,"Количество Участников торгов, имеющих активных клиентов",null,null,null,null,447]
[]
[]
[]
[null,"Списки ведущих операторов фондового рынка - клиенты Участников торгов за ",null,null,null,{"$f":"C6","v":"2014-02-28"}]
[]
[]
[null,"Ведущие операторы рынка – число зарегистрированных клиентов",null,null,null,null,null,"Таблица 1"]
[null,"(по общему количеству уникальных клиентов всех типов, зарегистрированных в системе торгов биржи, в том числе  в течение месяца) "]
[null,"Наименование Участника торгов",null,null,null,null,"Количество клиентов"]
[null,"ВТБ 24 (ЗАО)",null,null,null,null,202792]
[null,"Сбербанк",null,null,null,null,182430]
[null,"ЗАО \"ФИНАМ\"",null,null,null,null,116732]
[null,"ФГ БКС",null,null,null,null,111812]
[null,"ОАО \"АЛЬФА-БАНК\"",null,null,null,null,60661]
[null,"ООО \"АТОН\"",null,null,null,null,44161]
[null,"ФК \"ОТКРЫТИЕ\" ",null,null,null,null,41021]
[null,"ГК \"АЛОР\"",null,null,null,null,29554]
[null,"КИТ Финанс (ООО)",null,null,null,null,20464]
[null,"ООО \"Инвестиционная палата\"",null,null,null,null,19462]
[]
[]
[null,"Ведущие операторы рынка – число активных клиентов",null,null,null,null,null,"Таблица 2"]
[null,"(по количеству уникальных клиентов, совершивших хотя бы одну сделку за месяц)"]
[null,"Наименование Участника торгов",null,null,null,null,"Количество клиентов"]
[null,"Сбербанк",null,null,null,null,10296]
[null,"ЗАО \"ФИНАМ\"",null,null,null,null,9706]
[null,"ФГ БКС",null,null,null,null,9193]
[null,"ВТБ 24 (ЗАО)",null,null,null,null,6422]
[null,"ОАО \"АЛЬФА-БАНК\"",null,null,null,null,3777]
[null,"ФК \"ОТКРЫТИЕ\" ",null,null,null,null,3608]
[null,"ООО \"АТОН\"",null,null,null,null,2890]
[null,"ГПБ (ОАО)",null,null,null,null,1708]
[null,"ГК \"АЛОР\"",null,null,null,null,1574]
[null,"ООО \"НЭТТРЭЙДЕР\"",null,null,null,null,1305]
[]
[]
[null,"Ведущие операторы рынка – объем клиентских операций",null,null,null,null,null,"Таблица 3"]
[null,"(по стоимостному объему сделок, заключенных в интересах клиентов за месяц) "]
[null,"Наименование Участника торгов",null,null,null,null,"Торговый оборот, руб."]
[null,"ФК \"ОТКРЫТИЕ\" ",null,null,null,null,1067269146384]
[null,"Сбербанк",null,null,null,null,965232935522]
[null,"ФГ БКС",null,null,null,null,899417858441]
[null,"ЗАО \"ФИНАМ\"",null,null,null,null,345528173060]
[null,"ИК \"Ренессанс Капитал\"",null,null,null,null,294341396752]
[null,"ОАО \"Промсвязьбанк\"",null,null,null,null,288553254566]
[null,"ООО \"ИК ВЕЛЕС Капитал\"",null,null,null,null,169675732529]
[null,"ООО \"БК РЕГИОН\"",null,null,null,null,165488333763]
[null,"ООО \"РОНИН\"",null,null,null,null,143698884230]
[null,"ГК \"АЛОР\"",null,null,null,null,124731017896]

{"sheet":"Март2014","index":2,"n_rows":178,"n_cols":9,"rows_kept":178,"cut":false,"hidden":false,"merged":[[171,1,171,5],[171,6,171,7],[172,1,172,5],[172,6,172,7],[173,1,173,5],[173,6,173,7],[177,1,177,5],[177,6,177,7],[153,1,153,5],[154,1,154,5],[160,1,160,5],[153,6,153,7],[154,6,154,7],[155,6,155,7],[156,6,156,7],[157,6,157,7],[174,1,174,5],[174,6,174,7],[175,1,175,5],[175,6,175,7],[176,1,176,5],[176,6,176,7],[169,1,169,5],[169,6,169,7],[170,1,170,5],[170,6,170,7],[161,1,161,5],[161,6,161,7],[162,1,162,5],[162,6,162,7],[167,6,167,7],[168,1,168,5],[168,6,168,7],[158,6,158,7],[159,6,159,7],[160,6,160,7],[152,1,152,5],[152,6,152,7],[158,1,158,5],[159,1,159,5],[155,1,155,5],[156,1,156,5],[157,1,157,5],[142,1,142,5],[142,6,142,7],[143,1,143,5],[143,6,143,7],[144,1,144,5],[144,6,144,7],[145,1,145,5],[145,6,145,7],[146,1,146,5],[146,6,146,7],[147,1,147,5],[147,6,147,7],[128,1,128,5],[128,6,128,7],[137,1,137,5],[137,6,137,7],[138,1,138,5],[138,6,138,7],[139,1,139,5],[139,6,139,7],[140,1,140,5],[140,6,140,7],[141,1,141,5],[141,6,141,7],[53,1,53,3],[127,1,127,5],[127,6,127,7],[47,7,47,8],[48,1,48,3],[49,1,49,3],[50,1,50,3],[51,1,51,3],[52,1,52,3],[38,1,38,3],[23,1,23,3],[24,1,24,3],[25,1,25,3],[26,1,26,3],[27,1,27,3],[32,1,32,3],[33,1,33,3],[34,1,34,3],[35,1,35,3],[36,1,36,3],[37,1,37,3],[22,1,22,3],[1,1,1,7],[2,1,2,7],[2,8,2,13],[10,1,10,3],[11,1,11,3],[12,1,12,3],[13,1,13,3],[14,1,14,3],[15,1,15,3],[16,1,16,3],[21,1,21,3]]}
[]
[null,"Клиенты Участников торгов Фондовой биржи ММВБ"]
[null,"2014-03-31"]
[]
[]
[null,"Динамика количества клиентов за ",{"$f":"B3","v":"2014-03-31"}]
[]
[]
[]
[null,"Количество зарегистрированных клиентов в Системе торгов (по состоянию на последний день месяца):",null,null,null,null,null,"Таблица 1"]
[null,"Группы клиентов",null,null,"2014-02-28",{"$f":"EDATE(E11,1)","v":"2014-03-28"},"Изменение (ед.)","Изменение (%)"]
[null,"Физические лица",null,null,{"$f":"Февраль2014!F12","v":1059586},1067622,{"$f":"F12-E12","v":8036},{"$f":"F12/E12-1","v":7.5840941650795468E-3}]
[null,"Юридические лица",null,null,{"$f":"Февраль2014!F13","v":36016},36005,{"$f":"F13-E13","v":-11},{"$f":"F13/E13-1","v":-3.0541981341625224E-4}]
[null,"Нерезиденты",null,null,{"$f":"Февраль2014!F14","v":12879},12078,-801,-6.2194269741439601E-2]
[null,"Нерезиденты - физические лица ",null,null,{"$f":"Февраль2014!F15","v":2693},2708,15,5.5699962866690989E-3]
[null,"Нерезиденты - юридические лица ",null,null,{"$f":"Февраль2014!F16","v":10186},9370,-816,-8.0109954839976405E-2]
[null,"Клиенты, передавшие свои средства в ДУ",null,null,{"$f":"Февраль2014!F17","v":12831},12896,65,5.0658561296859084E-3]
[null,"Всего",null,null,{"$f":"Февраль2014!F18","v":1121312},1128601,{"$f":"F18-E18","v":7289},6.5004209354755371E-3]
[]
[]
[null,"Количество уникальных клиентов в Системе торгов (по состоянию на последний день месяца):",null,null,null,null,null,"Таблица 2"]
[null,"Группы клиентов",null,null,{"$f":"E11","v":"2014-02-28"},{"$f":"F11","v":"2014-03-28"},"Изменение (ед.)","Изменение (%)"]
[null,"Физические лица",null,null,{"$f":"Февраль2014!F23","v":886594},892693,{"$f":"F23-E23","v":6099},{"$f":"F23/E23-1","v":6.8791352073214185E-3}]
[null,"Юридические лица",null,null,{"$f":"Февраль2014!F24","v":19633},19706,{"$f":"F24-E24","v":73},{"$f":"F24/E24-1","v":3.7182295115367747E-3}]
[null,"Нерезиденты",null,null,{"$f":"Февраль2014!F25","v":7064},6815,-249,-3.5249150622876591E-2]
[null,"Нерезиденты - физические лица ",null,null,{"$f":"Февраль2014!F26","v":2621},2639,18,6.867607783288765E-3]
[null,"Нерезиденты - юридические лица ",null,null,{"$f":"Февраль2014!F27","v":4443},4176,-267,-6.0094530722484829E-2]
[null,"Клиенты, передавшие свои средства в ДУ",null,null,{"$f":"Февраль2014!F28","v":5217},5226,9,1.7251293847038163E-3]
[null,"Всего",null,null,{"$f":"Февраль2014!F29","v":918508},924440,5932,6.458299764400488E-3]
[]
[]
[null,"Количество активных клиентов в Системе торгов (совершивших в течение месяца хотя бы одну сделку):",null,null,null,null,null,"Таблица 3"]
[null,"Группы клиентов",null,null,{"$f":"EDATE(C6,-1)","v":"2014-02-28"},{"$f":"EDATE(E33,1)","v":"2014-03-28"},"Изменение (ед.)","Изменение (%)"]
[null,"Физические лица",null,null,{"$f":"Февраль2014!F34","v":57539},75119,{"$f":"F34-E34","v":17580},{"$f":"F34/E34-1","v":0.30553190010253917}]
[null,"Юридические лица",null,null,{"$f":"Февраль2014!F35","v":1323},1446,123,9.2970521541950069E-2]
[null,"Нерезиденты",null,null,{"$f":"Февраль2014!F36","v":602},677,75,0.12458471760797352]
[null,"Нерезиденты - физические лица ",null,null,{"$f":"Февраль2014!F37","v":156},221,65,0.41666666666666674]
[null,"Нерезиденты - юридические лица ",null,null,{"$f":"Февраль2014!F38","v":446},456,10,2.2421524663677195E-2]
[null,"Клиенты, передавшие свои средства в ДУ",null,null,{"$f":"Февраль2014!F39","v":764},785,21,2.7486910994764413E-2]
[null,"Всего",null,null,{"$f":"Февраль2014!F40","v":60228},78027,17799,0.29552699740984267]
[]
[]
[]
[null,"Изменение количества уникальных клиентов - ретроспективные данные"]
[]
[]
[]
[null,"Количество уникальных клиентов в Системе торгов (по состоянию на последний день месяца) (ежегодная статистика):",null,null,null,null,null,"Таблица 1"]
[null,"Группы клиентов",null,null,"2009-12-31","2010-12-31","2011-12-31","2012-12-31","2013-12-31"]
[null,"Физические лица",null,null,671475,714295,772175,805549,881844]
[null,"Юридические лица",null,null,16364,17170,16850,17821,19539]
[null,"Нерезиденты",null,null,3851,4295,5058,5876,6957]
[null,"Клиенты, передавшие свои средства в ДУ",null,null,4717,5348,5242,5261,5182]
[null,"Всего",null,null,696407,741108,799325,834507,913522]
[]
[]
[]
[]
[]
[]
[]
[]
[]
[]
[]
[]
[]
[]
[]
[]
[]
[]
[]
[]
[]
[]
[]
[]
[]
[]
[]
[null,"Количество уникальных клиентов в Системе торгов (по состоянию на последний день месяца) (за последние 6 месяцев):",null,null,null,null,null,"Таблица 2"]
[null,"Группы клиентов",{"$f":"EDATE(D83,-1)","v":"2013-10-28"},{"$f":"EDATE(E83,-1)","v":"2013-11-28"},{"$f":"EDATE(F83,-1)","v":"2013-12-28"},{"$f":"EDATE(G83,-1)","v":"2014-01-28"},{"$f":"EDATE(H83,-1)","v":"2014-02-28"},{"$f":"EDATE(E11,1)","v":"2014-03-28"}]
[null,"Физические лица",876196,878908,881844,883068,886594,892693]
[null,"Юридические лица",19352,19435,19539,19540,19633,19706]
[null,"Нерезиденты",6810,6874,6957,7004,7064,6815]
[null,"Клиенты, передавшие свои средства в ДУ",5157,5205,5182,5189,5217,5226]
[null,"Всего",907515,910422,913522,914801,918508,924440]
[]
[]
[]
[]
[]
[]
[]
[]
[]
[]
[]
[]
[]
[]
[]
[]
[]
[]
[]
[]
[]
[]
[]
[]
[]
[]
[]
[]
[]
[]
[]
[]
[]
[]
[]
[null,"Дополнительные показатели за","Март 2014 "]
[]
[]
[null,null,null,null,null,null,null,"Таблица 1"]
[null,"Участники торгов",null,null,null,null,"Абсолютные показатели"]
[null,"Количество Участников торгов, имеющих активных клиентов",null,null,null,null,451]
[]
[]
[]
[null,"Списки ведущих операторов фондового рынка - клиенты Участников торгов за ",null,null,null,{"$f":"C6","v":"2014-03-31"}]
[]
[]
[null,"Ведущие операторы рынка – число зарегистрированных клиентов",null,null,null,null,null,"Таблица 1"]
[null,"(по общему количеству уникальных клиентов всех типов, зарегистрированных в системе торгов биржи, в том числе  в течение месяца) "]
[null,"Наименование Участника торгов",null,null,null,null,"Количество клиентов"]
[null,"ВТБ 24 (ЗАО)",null,null,null,null,204499]
[null,"Сбербанк",null,null,null,null,184533]
[null,"ЗАО \"ФИНАМ\"",null,null,null,null,117755]
[null,"ФГ БКС",null,null,null,null,112852]
[null,"ОАО \"АЛЬФА-БАНК\"",null,null,null,null,60923]
[null,"ООО \"АТОН\"",null,null,null,null,44393]
[null,"ФК \"ОТКРЫТИЕ\" ",null,null,null,null,42223]
[null,"ГК \"АЛОР\"",null,null,null,null,29651]
[null,"КИТ Финанс (ООО)",null,null,null,null,20591]
[null,"ООО \"Инвестиционная палата\"",null,null,null,null,19462]
[]
[]
[null,"Ведущие операторы рынка – число активных клиентов",null,null,null,null,null,"Таблица 2"]
[null,"(по количеству уникальных клиентов, совершивших хотя бы одну сделку за месяц)"]
[null,"Наименование Участника торгов",null,null,null,null,"Количество клиентов"]
[null,"Сбербанк",null,null,null,null,13963]
[null,"ЗАО \"ФИНАМ\"",null,null,null,null,12487]
[null,"ФГ БКС",null,null,null,null,11555]
[null,"ВТБ 24 (ЗАО)",null,null,null,null,8753]
[null,"ОАО \"АЛЬФА-БАНК\"",null,null,null,null,5302]
[null,"ФК \"ОТКРЫТИЕ\" ",null,null,null,null,4741]
[null,"ООО \"АТОН\"",null,null,null,null,3763]
[null,"ГПБ (ОАО)",null,null,null,null,2069]
[null,"ГК \"АЛОР\"",null,null,null,null,2031]
[null,"ООО \"НЭТТРЭЙДЕР\"",null,null,null,null,1728]
[]
[]
[null,"Ведущие операторы рынка – объем клиентских операций",null,null,null,null,null,"Таблица 3"]
[null,"(по стоимостному объему сделок, заключенных в интересах клиентов за месяц) "]
[null,"Наименование Участника торгов",null,null,null,null,"Торговый оборот, руб."]
[null,"ФК \"ОТКРЫТИЕ\" ",null,null,null,null,1188338579989]
[null,"ФГ БКС",null,null,null,null,1128403242380]
[null,"Сбербанк",null,null,null,null,1030966558200]
[null,"ЗАО \"ФИНАМ\"",null,null,null,null,416114026090]
[null,"ИК \"Ренессанс Капитал\"",null,null,null,null,336136799403]
[null,"ОАО \"Промсвязьбанк\"",null,null,null,null,227720308881]
[null,"ООО \"АТОН\"",null,null,null,null,156093730483]
[null,"ООО \"ИК ВЕЛЕС Капитал\"",null,null,null,null,147386508543]
[null,"ЗАО \"БАНК КРЕДИТ СВИСС (МОСКВА)\"",null,null,null,null,136876440028]
[null,"ВТБ 24 (ЗАО)",null,null,null,null,129759646717]

{"sheet":"Апрель2014","index":3,"n_rows":178,"n_cols":9,"rows_kept":178,"cut":false,"hidden":false,"merged":[[175,6,175,7],[176,6,176,7],[177,6,177,7],[172,6,172,7],[173,6,173,7],[174,6,174,7],[169,6,169,7],[170,6,170,7],[171,6,171,7],[161,1,161,5],[161,6,161,7],[162,1,162,5],[162,6,162,7],[167,6,167,7],[168,6,168,7],[155,1,155,5],[155,6,155,7],[156,1,156,5],[156,6,156,7],[157,1,157,5],[157,6,157,7],[158,1,158,5],[158,6,158,7],[159,1,159,5],[159,6,159,7],[160,1,160,5],[160,6,160,7],[145,1,145,5],[145,6,145,7],[146,1,146,5],[146,6,146,7],[147,1,147,5],[147,6,147,7],[152,1,152,5],[152,6,152,7],[153,1,153,5],[153,6,153,7],[154,1,154,5],[154,6,154,7],[144,1,144,5],[144,6,144,7],[139,1,139,5],[139,6,139,7],[140,1,140,5],[140,6,140,7],[141,1,141,5],[141,6,141,7],[143,1,143,5],[143,6,143,7],[128,1,128,5],[128,6,128,7],[137,1,137,5],[137,6,137,7],[138,1,138,5],[138,6,138,7],[53,1,53,3],[127,1,127,5],[127,6,127,7],[142,1,142,5],[142,6,142,7],[52,1,52,3],[33,1,33,3],[34,1,34,3],[35,1,35,3],[36,1,36,3],[37,1,37,3],[38,1,38,3],[47,7,47,8],[48,1,48,3],[49,1,49,3],[50,1,50,3],[51,1,51,3],[27,1,27,3],[32,1,32,3],[13,1,13,3],[14,1,14,3],[15,1,15,3],[16,1,16,3],[21,1,21,3],[22,1,22,3],[12,1,12,3],[23,1,23,3],[24,1,24,3],[25,1,25,3],[26,1,26,3],[1,1,1,7],[2,1,2,7],[2,8,2,13],[10,1,10,3],[11,1,11,3]]}
[]
[null,"Клиенты Участников торгов Фондовой биржи ММВБ"]
[null,"2014-04-30"]
[]
[]
[null,"Динамика количества клиентов за ",{"$f":"B3","v":"2014-04-30"}]
[]
[]
[]
[null,"Количество зарегистрированных клиентов в Системе торгов (по состоянию на последний день месяца):",null,null,null,null,null,"Таблица 1"]
[null,"Группы клиентов",null,null,"2014-03-31",{"$f":"EDATE(E11,1)","v":"2014-04-30"},"Изменение (ед.)","Изменение (%)"]
[null,"Физические лица",null,null,{"$f":"Март2014!F12","v":1067622},1070790,{"$f":"F12-E12","v":3168},{"$f":"F12/E12-1","v":2.9673423739862148E-3}]
[null,"Юридические лица",null,null,{"$f":"Март2014!F13","v":36005},36048,{"$f":"F13-E13","v":43},{"$f":"F13/E13-1","v":1.194278572420604E-3}]
[null,"Нерезиденты",null,null,{"$f":"Март2014!F14","v":12078},12203,125,1.0349395595297128E-2]
[null,"Нерезиденты - физические лица ",null,null,{"$f":"Март2014!F15","v":2708},2745,37,1.3663220088626193E-2]
[null,"Нерезиденты - юридические лица ",null,null,{"$f":"Март2014!F16","v":9370},9458,88,9.3916755602987401E-3]
[null,"Клиенты, передавшие свои средства в ДУ",null,null,{"$f":"Март2014!F17","v":12896},12887,-9,-6.9789081885851534E-4]
[null,"Всего",null,null,{"$f":"Март2014!F18","v":1128601},1131928,{"$f":"F18-E18","v":3327},2.9478974411683012E-3]
[]
[]
[null,"Количество уникальных клиентов в Системе торгов (по состоянию на последний день месяца):",null,null,null,null,null,"Таблица 2"]
[null,"Группы клиентов",null,null,{"$f":"E11","v":"2014-03-31"},{"$f":"F11","v":"2014-04-30"},"Изменение (ед.)","Изменение (%)"]
[null,"Физические лица",null,null,{"$f":"Март2014!F23","v":892693},896413,{"$f":"F23-E23","v":3720},{"$f":"F23/E23-1","v":4.1671660918143338E-3}]
[null,"Юридические лица",null,null,{"$f":"Март2014!F24","v":19706},19733,{"$f":"F24-E24","v":27},{"$f":"F24/E24-1","v":1.3701410737845254E-3}]
[null,"Нерезиденты",null,null,{"$f":"Март2014!F25","v":6815},6885,70,1.0271460014673606E-2]
[null,"Нерезиденты - физические лица ",null,null,{"$f":"Март2014!F26","v":2639},2677,38,1.4399393709738639E-2]
[null,"Нерезиденты - юридические лица ",null,null,{"$f":"Март2014!F27","v":4176},4208,32,7.6628352490422103E-3]
[null,"Клиенты, передавшие свои средства в ДУ",null,null,{"$f":"Март2014!F28","v":5226},5192,-34,-6.5059318790662291E-3]
[null,"Всего",null,null,{"$f":"Март2014!F29","v":924440},928223,3783,4.0922071740729926E-3]
[]
[]
[null,"Количество активных клиентов в Системе торгов (совершивших в течение месяца хотя бы одну сделку):",null,null,null,null,null,"Таблица 3"]
[null,"Группы клиентов",null,null,{"$f":"EDATE(C6,-1)","v":"2014-03-30"},{"$f":"EDATE(E33,1)","v":"2014-04-30"},"Изменение (ед.)","Изменение (%)"]
[null,"Физические лица",null,null,{"$f":"Март2014!F34","v":75119},60315,{"$f":"F34-E34","v":-14804},{"$f":"F34/E34-1","v":-0.19707397595814635}]
[null,"Юридические лица",null,null,{"$f":"Март2014!F35","v":1446},1272,-174,-0.1203319502074689]
[null,"Нерезиденты",null,null,{"$f":"Март2014!F36","v":677},581,-96,-0.14180206794682426]
[null,"Нерезиденты - физические лица ",null,null,{"$f":"Март2014!F37","v":221},177,-44,-0.19909502262443435]
[null,"Нерезиденты - юридические лица ",null,null,{"$f":"Март2014!F38","v":456},404,-52,-0.11403508771929827]
[null,"Клиенты, передавшие свои средства в ДУ",null,null,{"$f":"Март2014!F39","v":785},740,-45,-5.7324840764331197E-2]
[null,"Всего",null,null,{"$f":"Март2014!F40","v":78027},62908,-15119,-0.19376626039704203]
[]
[]
[]
[null,"Изменение количества уникальных клиентов - ретроспективные данные"]
[]
[]
[]
[null,"Количество уникальных клиентов в Системе торгов (по состоянию на последний день месяца) (ежегодная статистика):",null,null,null,null,null,"Таблица 1"]
[null,"Группы клиентов",null,null,"2009-12-31","2010-12-31","2011-12-31","2012-12-31","2013-12-31"]
[null,"Физические лица",null,null,671475,714295,772175,805549,881844]
[null,"Юридические лица",null,null,16364,17170,16850,17821,19539]
[null,"Нерезиденты",null,null,3851,4295,5058,5876,6957]
[null,"Клиенты, передавшие свои средства в ДУ",null,null,4717,5348,5242,5261,5182]
[null,"Всего",null,null,696407,741108,799325,834507,913522]
[]
[]
[]
[]
[]
[]
[]
[]
[]
[]
[]
[]
[]
[]
[]
[]
[]
[]
[]
[]
[]
[]
[]
[]
[]
[]
[]
[null,"Количество уникальных клиентов в Системе торгов (по состоянию на последний день месяца) (за последние 6 месяцев):",null,null,null,null,null,"Таблица 2"]
[null,"Группы клиентов",{"$f":"EDATE(D83,-1)","v":"2013-11-28"},{"$f":"EDATE(E83,-1)","v":"2013-12-28"},{"$f":"EDATE(F83,-1)","v":"2014-01-28"},{"$f":"EDATE(G83,-1)","v":"2014-02-28"},{"$f":"EDATE(H83,-1)","v":"2014-03-30"},{"$f":"EDATE(E11,1)","v":"2014-04-30"}]
[null,"Физические лица",878908,881844,883068,886594,892693,896413]
[null,"Юридические лица",19435,19539,19540,19633,19706,19733]
[null,"Нерезиденты",6874,6957,7004,7064,6815,6885]
[null,"Клиенты, передавшие свои средства в ДУ",5205,5182,5189,5217,5226,5192]
[null,"Всего",910422,913522,914801,918508,924440,928223]
[]
[]
[]
[]
[]
[]
[]
[]
[]
[]
[]
[]
[]
[]
[]
[]
[]
[]
[]
[]
[]
[]
[]
[]
[]
[]
[]
[]
[]
[]
[]
[]
[]
[]
[]
[null,"Дополнительные показатели за","Апрель 2014 "]
[]
[]
[null,null,null,null,null,null,null,"Таблица 1"]
[null,"Участники торгов",null,null,null,null,"Абсолютные показатели"]
[null,"Количество Участников торгов, имеющих активных клиентов",null,null,null,null,449]
[]
[]
[]
[null,"Списки ведущих операторов фондового рынка - клиенты Участников торгов за ",null,null,null,{"$f":"C6","v":"2014-04-30"}]
[]
[]
[null,"Ведущие операторы рынка – число зарегистрированных клиентов",null,null,null,null,null,"Таблица 1"]
[null,"(по общему количеству уникальных клиентов всех типов, зарегистрированных в системе торгов биржи, в том числе  в течение месяца) "]
[null,"Наименование Участника торгов",null,null,null,null,"Количество клиентов"]
[null,"ВТБ 24 (ЗАО)",null,null,null,null,205346]
[null,"Сбербанк",null,null,null,null,183927]
[null,"ЗАО \"ФИНАМ\"",null,null,null,null,118314]
[null,"ФГ БКС",null,null,null,null,113406]
[null,"ОАО \"АЛЬФА-БАНК\"",null,null,null,null,60967]
[null,"ООО \"АТОН\"",null,null,null,null,44561]
[null,"ФК \"ОТКРЫТИЕ\" ",null,null,null,null,43040]
[null,"ГК \"АЛОР\"",null,null,null,null,29741]
[null,"КИТ Финанс (ООО)",null,null,null,null,20713]
[null,"ООО \"Инвестиционная палата\"",null,null,null,null,19624]
[]
[]
[null,"Ведущие операторы рынка – число активных клиентов",null,null,null,null,null,"Таблица 2"]
[null,"(по количеству уникальных клиентов, совершивших хотя бы одну сделку за месяц)"]
[null,"Наименование Участника торгов",null,null,null,null,"Количество клиентов"]
[null,"Сбербанк",null,null,null,null,11002]
[null,"ЗАО \"ФИНАМ\"",null,null,null,null,9589]
[null,"ФГ БКС",null,null,null,null,9566]
[null,"ВТБ 24 (ЗАО)",null,null,null,null,7043]
[null,"ОАО \"АЛЬФА-БАНК\"",null,null,null,null,4175]
[null,"ФК \"ОТКРЫТИЕ\" ",null,null,null,null,4022]
[null,"ООО \"АТОН\"",null,null,null,null,2951]
[null,"ГК \"АЛОР\"",null,null,null,null,1997]
[null,"ГПБ (ОАО)",null,null,null,null,1814]
[null,"КИТ Финанс (ООО)",null,null,null,null,1297]
[]
[]
[null,"Ведущие операторы рынка – объем клиентских операций",null,null,null,null,null,"Таблица 3"]
[null,"(по стоимостному объему сделок, заключенных в интересах клиентов за месяц) "]
[null,"Наименование Участника торгов",null,null,null,null,"Торговый оборот, руб."]
[null,"ФК \"ОТКРЫТИЕ\" ",null,null,null,null,1080198210932]
[null,"ФГ БКС",null,null,null,null,759135666017]
[null,"Сбербанк",null,null,null,null,749728056526]
[null,"ЗАО \"ФИНАМ\"",null,null,null,null,425738188731]
[null,"ИК \"Ренессанс Капитал\"",null,null,null,null,374815260421]
[null,"ОАО \"Промсвязьбанк\"",null,null,null,null,238904786404]
[null,"ООО \"БК РЕГИОН\"",null,null,null,null,225178335041]
[null,"ООО \"ИК ВЕЛЕС Капитал\"",null,null,null,null,153215848866]
[null,"ГК \"АЛОР\"",null,null,null,null,122191086744]
[null,"ООО \"АТОН\"",null,null,null,null,120918262444]

{"sheet":"Май2014","index":4,"n_rows":178,"n_cols":9,"rows_kept":178,"cut":false,"hidden":false,"merged":[[169,6,169,7],[170,6,170,7],[171,6,171,7],[172,6,172,7],[173,6,173,7],[169,1,169,5],[170,1,170,5],[171,1,171,5],[172,1,172,5],[173,1,173,5],[174,1,174,5],[175,1,175,5],[176,1,176,5],[177,1,177,5],[175,6,175,7],[176,6,176,7],[177,6,177,7],[174,6,174,7],[168,6,168,7],[158,1,158,5],[158,6,158,7],[159,1,159,5],[159,6,159,7],[160,1,160,5],[160,6,160,7],[168,1,168,5],[161,1,161,5],[161,6,161,7],[162,1,162,5],[162,6,162,7],[167,6,167,7],[152,1,152,5],[152,6,152,7],[153,1,153,5],[153,6,153,7],[154,1,154,5],[154,6,154,7],[155,1,155,5],[155,6,155,7],[156,1,156,5],[156,6,156,7],[157,1,157,5],[157,6,157,7],[142,1,142,5],[142,6,142,7],[143,1,143,5],[143,6,143,7],[144,1,144,5],[144,6,144,7],[145,1,145,5],[145,6,145,7],[146,1,146,5],[146,6,146,7],[147,1,147,5],[147,6,147,7],[128,1,128,5],[128,6,128,7],[137,1,137,5],[137,6,137,7],[138,1,138,5],[138,6,138,7],[139,1,139,5],[139,6,139,7],[140,1,140,5],[140,6,140,7],[141,1,141,5],[141,6,141,7],[53,1,53,3],[127,1,127,5],[127,6,127,7],[47,7,47,8],[48,1,48,3],[49,1,49,3],[50,1,50,3],[51,1,51,3],[52,1,52,3],[38,1,38,3],[23,1,23,3],[24,1,24,3],[25,1,25,3],[26,1,26,3],[27,1,27,3],[32,1,32,3],[33,1,33,3],[34,1,34,3],[35,1,35,3],[36,1,36,3],[37,1,37,3],[22,1,22,3],[1,1,1,7],[2,1,2,7],[2,8,2,13],[10,1,10,3],[11,1,11,3],[12,1,12,3],[13,1,13,3],[14,1,14,3],[15,1,15,3],[16,1,16,3],[21,1,21,3]]}
[]
[null,"Клиенты Участников торгов Фондовой биржи ММВБ"]
[null,"2014-05-30"]
[]
[]
[null,"Динамика количества клиентов за ",{"$f":"B3","v":"2014-05-30"}]
[]
[]
[]
[null,"Количество зарегистрированных клиентов в Системе торгов (по состоянию на последний день месяца):",null,null,null,null,null,"Таблица 1"]
[null,"Группы клиентов",null,null,"2014-04-30",{"$f":"EDATE(E11,1)","v":"2014-05-30"},"Изменение (ед.)","Изменение (%)"]
[null,"Физические лица",null,null,{"$f":"Апрель2014!F12","v":1070790},1072436,{"$f":"F12-E12","v":1646},{"$f":"F12/E12-1","v":1.5371828276320443E-3}]
[null,"Юридические лица",null,null,{"$f":"Апрель2014!F13","v":36048},36077,{"$f":"F13-E13","v":29},{"$f":"F13/E13-1","v":8.0448291167334318E-4}]
[null,"Нерезиденты",null,null,{"$f":"Апрель2014!F14","v":12203},12366,163,1.3357371138244645E-2]
[null,"Нерезиденты - физические лица ",null,null,{"$f":"Апрель2014!F15","v":2745},2784,39,1.4207650273224015E-2]
[null,"Нерезиденты - юридические лица ",null,null,{"$f":"Апрель2014!F16","v":9458},9582,124,1.3110594205963277E-2]
[null,"Клиенты, передавшие свои средства в ДУ",null,null,{"$f":"Апрель2014!F17","v":12887},12871,-16,-1.2415612632885598E-3]
[null,"Всего",null,null,{"$f":"Апрель2014!F18","v":1131928},1133750,{"$f":"F18-E18","v":1822},1.6096430161636199E-3]
[]
[]
[null,"Количество уникальных клиентов в Системе торгов (по состоянию на последний день месяца):",null,null,null,null,null,"Таблица 2"]
[null,"Группы клиентов",null,null,{"$f":"E11","v":"2014-04-30"},{"$f":"F11","v":"2014-05-30"},"Изменение (ед.)","Изменение (%)"]
[null,"Физические лица",null,null,{"$f":"Апрель2014!F23","v":896413},897706,{"$f":"F23-E23","v":1293},{"$f":"F23/E23-1","v":1.4424154937511258E-3}]
[null,"Юридические лица",null,null,{"$f":"Апрель2014!F24","v":19733},19759,{"$f":"F24-E24","v":26},{"$f":"F24/E24-1","v":1.3175898241524209E-3}]
[null,"Нерезиденты",null,null,{"$f":"Апрель2014!F25","v":6885},6946,61,8.8598402323891712E-3]
[null,"Нерезиденты - физические лица ",null,null,{"$f":"Апрель2014!F26","v":2677},2713,36,1.3447889428464643E-2]
[null,"Нерезиденты - юридические лица ",null,null,{"$f":"Апрель2014!F27","v":4208},4233,25,5.9410646387831889E-3]
[null,"Клиенты, передавшие свои средства в ДУ",null,null,{"$f":"Апрель2014!F28","v":5192},5159,-33,-6.3559322033898136E-3]
[null,"Всего",null,null,{"$f":"Апрель2014!F29","v":928223},929570,1347,1.4511599044626511E-3]
[]
[]
[null,"Количество активных клиентов в Системе торгов (совершивших в течение месяца хотя бы одну сделку):",null,null,null,null,null,"Таблица 3"]
[null,"Группы клиентов",null,null,{"$f":"EDATE(C6,-1)","v":"2014-04-30"},{"$f":"EDATE(E33,1)","v":"2014-05-30"},"Изменение (ед.)","Изменение (%)"]
[null,"Физические лица",null,null,{"$f":"Апрель2014!F34","v":60315},57039,{"$f":"F34-E34","v":-3276},{"$f":"F34/E34-1","v":-5.4314847052971849E-2}]
[null,"Юридические лица",null,null,{"$f":"Апрель2014!F35","v":1272},1201,-71,-5.5817610062893097E-2]
[null,"Нерезиденты",null,null,{"$f":"Апрель2014!F36","v":581},569,-12,-2.0654044750430312E-2]
[null,"Нерезиденты - физические лица ",null,null,{"$f":"Апрель2014!F37","v":177},163,-14,-7.9096045197740161E-2]
[null,"Нерезиденты - юридические лица ",null,null,{"$f":"Апрель2014!F38","v":404},406,2,4.9504950495049549E-3]
[null,"Клиенты, передавшие свои средства в ДУ",null,null,{"$f":"Апрель2014!F39","v":740},699,-41,-5.5405405405405395E-2]
[null,"Всего",null,null,{"$f":"Апрель2014!F40","v":62908},59508,-3400,-5.4047180008901852E-2]
[]
[]
[]
[null,"Изменение количества уникальных клиентов - ретроспективные данные"]
[]
[]
[]
[null,"Количество уникальных клиентов в Системе торгов (по состоянию на последний день месяца) (ежегодная статистика):",null,null,null,null,null,"Таблица 1"]
[null,"Группы клиентов",null,null,"2009-12-31","2010-12-31","2011-12-31","2012-12-31","2013-12-31"]
[null,"Физические лица",null,null,671475,714295,772175,805549,881844]
[null,"Юридические лица",null,null,16364,17170,16850,17821,19539]
[null,"Нерезиденты",null,null,3851,4295,5058,5876,6957]
[null,"Клиенты, передавшие свои средства в ДУ",null,null,4717,5348,5242,5261,5182]
[null,"Всего",null,null,696407,741108,799325,834507,913522]
[]
[]
[]
[]
[]
[]
[]
[]
[]
[]
[]
[]
[]
[]
[]
[]
[]
[]
[]
[]
[]
[]
[]
[]
[]
[]
[]
[null,"Количество уникальных клиентов в Системе торгов (по состоянию на последний день месяца) (за последние 6 месяцев):",null,null,null,null,null,"Таблица 2"]
[null,"Группы клиентов",{"$f":"EDATE(D83,-1)","v":"2013-12-28"},{"$f":"EDATE(E83,-1)","v":"2014-01-28"},{"$f":"EDATE(F83,-1)","v":"2014-02-28"},{"$f":"EDATE(G83,-1)","v":"2014-03-30"},{"$f":"EDATE(H83,-1)","v":"2014-04-30"},{"$f":"EDATE(E11,1)","v":"2014-05-30"}]
[null,"Физические лица",881844,883068,886594,892693,896413,897706]
[null,"Юридические лица",19539,19540,19633,19706,19733,19759]
[null,"Нерезиденты",6957,7004,7064,6815,6885,6946]
[null,"Клиенты, передавшие свои средства в ДУ",5182,5189,5217,5226,5192,5159]
[null,"Всего",913522,914801,918508,924440,928223,929570]
[]
[]
[]
[]
[]
[]
[]
[]
[]
[]
[]
[]
[]
[]
[]
[]
[]
[]
[]
[]
[]
[]
[]
[]
[]
[]
[]
[]
[]
[]
[]
[]
[]
[]
[]
[null,"Дополнительные показатели за","Май 2014 "]
[]
[]
[null,null,null,null,null,null,null,"Таблица 1"]
[null,"Участники торгов",null,null,null,null,"Абсолютные показатели"]
[null,"Количество Участников торгов, имеющих активных клиентов",null,null,null,null,441]
[]
[]
[]
[null,"Списки ведущих операторов фондового рынка - клиенты Участников торгов за ",null,null,null,{"$f":"C6","v":"2014-05-30"}]
[]
[]
[null,"Ведущие операторы рынка – число зарегистрированных клиентов",null,null,null,null,null,"Таблица 1"]
[null,"(по общему количеству уникальных клиентов всех типов, зарегистрированных в системе торгов биржи, в том числе  в течение месяца) "]
[null,"Наименование Участника торгов",null,null,null,null,"Количество клиентов"]
[null,"ВТБ 24 (ЗАО)",null,null,null,null,206094]
[null,"Сбербанк",null,null,null,null,183376]
[null,"ЗАО \"ФИНАМ\"",null,null,null,null,118725]
[null,"ФГ БКС",null,null,null,null,113818]
[null,"ОАО \"АЛЬФА-БАНК\"",null,null,null,null,60959]
[null,"ООО \"АТОН\"",null,null,null,null,44686]
[null,"ФГ \"ОТКРЫТИЕ\" ",null,null,null,null,43604]
[null,"ГК \"АЛОР\"",null,null,null,null,29828]
[null,"КИТ Финанс (ООО)",null,null,null,null,20785]
[null,"ООО \"Инвестиционная палата\"",null,null,null,null,19631]
[]
[]
[null,"Ведущие операторы рынка – число активных клиентов",null,null,null,null,null,"Таблица 2"]
[null,"(по количеству уникальных клиентов, совершивших хотя бы одну сделку за месяц)"]
[null,"Наименование Участника торгов",null,null,null,null,"Количество клиентов"]
[null,"Сбербанк",null,null,null,null,10517]
[null,"ЗАО \"ФИНАМ\"",null,null,null,null,9264]
[null,"ФГ БКС",null,null,null,null,9153]
[null,"ВТБ 24 (ЗАО)",null,null,null,null,6632]
[null,"ФГ \"ОТКРЫТИЕ\" ",null,null,null,null,3902]
[null,"ОАО \"АЛЬФА-БАНК\"",null,null,null,null,3772]
[null,"ООО \"АТОН\"",null,null,null,null,2690]
[null,"ГПБ (ОАО)",null,null,null,null,1800]
[null,"ГК \"АЛОР\"",null,null,null,null,1355]
[null,"КИТ Финанс (ООО)",null,null,null,null,1241]
[]
[]
[null,"Ведущие операторы рынка – объем клиентских операций",null,null,null,null,null,"Таблица 3"]
[null,"(по стоимостному объему сделок, заключенных в интересах клиентов за месяц) "]
[null,"Наименование Участника торгов",null,null,null,null,"Торговый оборот, руб."]
[null,"ФГ \"ОТКРЫТИЕ\" ",null,null,null,null,914025489392.18201]
[null,"Сбербанк",null,null,null,null,736163960489.22803]
[null,"ФГ БКС",null,null,null,null,657136662390.39905]
[null,"ИК \"Ренессанс Капитал\"",null,null,null,null,400197315844.73999]
[null,"ЗАО \"ФИНАМ\"",null,null,null,null,305834057481.22998]
[null,"ОАО \"Промсвязьбанк\"",null,null,null,null,201845843896.5]
[null,"ООО \"БК РЕГИОН\"",null,null,null,null,172519725696.20001]
[null,"ООО \"ИК ВЕЛЕС Капитал\"",null,null,null,null,126078815946.07001]
[null,"ГПБ (ОАО)",null,null,null,null,122748785346.28999]
[null,"ГК \"АЛОР\"",null,null,null,null,122216198796.868]

{"sheet":"Июнь2014","index":5,"n_rows":178,"n_cols":9,"rows_kept":178,"cut":false,"hidden":false,"merged":[[177,1,177,5],[177,6,177,7],[172,1,172,5],[172,6,172,7],[173,1,173,5],[173,6,173,7],[174,1,174,5],[174,6,174,7],[168,1,168,5],[168,6,168,7],[175,1,175,5],[175,6,175,7],[176,1,176,5],[176,6,176,7],[161,1,161,5],[161,6,161,7],[162,1,162,5],[162,6,162,7],[167,6,167,7],[169,1,169,5],[169,6,169,7],[170,1,170,5],[170,6,170,7],[171,1,171,5],[171,6,171,7],[160,1,160,5],[160,6,160,7],[155,1,155,5],[155,6,155,7],[156,1,156,5],[156,6,156,7],[157,1,157,5],[157,6,157,7],[154,1,154,5],[154,6,154,7],[158,1,158,5],[158,6,158,7],[159,1,159,5],[159,6,159,7],[141,1,141,5],[141,6,141,7],[152,1,152,5],[152,6,152,7],[153,1,153,5],[153,6,153,7],[22,1,22,3],[128,6,128,7],[137,1,137,5],[137,6,137,7],[53,1,53,3],[127,1,127,5],[127,6,127,7],[38,1,38,3],[128,1,128,5],[2,8,2,13],[10,1,10,3],[11,1,11,3],[12,1,12,3],[23,1,23,3],[24,1,24,3],[25,1,25,3],[26,1,26,3],[27,1,27,3],[13,1,13,3],[14,1,14,3],[15,1,15,3],[16,1,16,3],[21,1,21,3],[147,1,147,5],[147,6,147,7],[1,1,1,7],[2,1,2,7],[32,1,32,3],[47,7,47,8],[48,1,48,3],[49,1,49,3],[50,1,50,3],[51,1,51,3],[52,1,52,3],[33,1,33,3],[34,1,34,3],[35,1,35,3],[36,1,36,3],[37,1,37,3],[138,1,138,5],[138,6,138,7],[145,1,145,5],[145,6,145,7],[146,1,146,5],[146,6,146,7],[142,1,142,5],[142,6,142,7],[143,1,143,5],[143,6,143,7],[144,1,144,5],[144,6,144,7],[139,1,139,5],[139,6,139,7],[140,1,140,5],[140,6,140,7]]}
[]
[null,"Клиенты Участников торгов Фондовой биржи ММВБ"]
[null,"2014-06-30"]
[]
[]
[null,"Динамика количества клиентов за ",{"$f":"B3","v":"2014-06-30"}]
[]
[]
[]
[null,"Количество зарегистрированных клиентов в Системе торгов (по состоянию на последний день месяца):",null,null,null,null,null,"Таблица 1"]
[null,"Группы клиентов",null,null,"2014-05-30",{"$f":"EDATE(E11,1)","v":"2014-06-30"},"Изменение (ед.)","Изменение (%)"]
[null,"Физические лица",null,null,{"$f":"Май2014!F12","v":1072436},1077132,{"$f":"F12-E12","v":4696},{"$f":"F12/E12-1","v":4.378816078535186E-3}]
[null,"Юридические лица",null,null,{"$f":"Май2014!F13","v":36077},36150,{"$f":"F13-E13","v":73},{"$f":"F13/E13-1","v":2.0234498433904236E-3}]
[null,"Нерезиденты",null,null,{"$f":"Май2014!F14","v":12366},13333,967,7.819828562186637E-2]
[null,"Нерезиденты - физические лица ",null,null,{"$f":"Май2014!F15","v":2784},2830,46,1.6522988505747183E-2]
[null,"Нерезиденты - юридические лица ",null,null,{"$f":"Май2014!F16","v":9582},10503,921,9.6117720726361933E-2]
[null,"Клиенты, передавшие свои средства в ДУ",null,null,{"$f":"Май2014!F17","v":12871},12925,54,4.1954782068216456E-3]
[null,"Всего",null,null,{"$f":"Май2014!F18","v":1133750},1139540,{"$f":"F18-E18","v":5790},5.106945975744237E-3]
[]
[]
[null,"Количество уникальных клиентов в Системе торгов (по состоянию на последний день месяца):",null,null,null,null,null,"Таблица 2"]
[null,"Группы клиентов",null,null,{"$f":"E11","v":"2014-05-30"},{"$f":"F11","v":"2014-06-30"},"Изменение (ед.)","Изменение (%)"]
[null,"Физические лица",null,null,{"$f":"Май2014!F23","v":897706},900250,{"$f":"F23-E23","v":2544},{"$f":"F23/E23-1","v":2.8338899372399862E-3}]
[null,"Юридические лица",null,null,{"$f":"Май2014!F24","v":19759},19811,{"$f":"F24-E24","v":52},{"$f":"F24/E24-1","v":2.6317121311807412E-3}]
[null,"Нерезиденты",null,null,{"$f":"Май2014!F25","v":6946},7125,179,2.5770227469047002E-2]
[null,"Нерезиденты - физические лица ",null,null,{"$f":"Май2014!F26","v":2713},2753,40,1.4743826022852957E-2]
[null,"Нерезиденты - юридические лица ",null,null,{"$f":"Май2014!F27","v":4233},4372,139,3.283723127805338E-2]
[null,"Клиенты, передавшие свои средства в ДУ",null,null,{"$f":"Май2014!F28","v":5159},5175,16,3.1013762357046115E-3]
[null,"Всего",null,null,{"$f":"Май2014!F29","v":929570},932361,2791,3.0024635046310699E-3]
[]
[]
[null,"Количество активных клиентов в Системе торгов (совершивших в течение месяца хотя бы одну сделку):",null,null,null,null,null,"Таблица 3"]
[null,"Группы клиентов",null,null,{"$f":"EDATE(C6,-1)","v":"2014-05-30"},{"$f":"EDATE(E33,1)","v":"2014-06-30"},"Изменение (ед.)","Изменение (%)"]
[null,"Физические лица",null,null,{"$f":"Май2014!F34","v":57039},54480,{"$f":"F34-E34","v":-2559},{"$f":"F34/E34-1","v":-4.4864040393415072E-2}]
[null,"Юридические лица",null,null,{"$f":"Май2014!F35","v":1201},1276,75,6.2447960033305661E-2]
[null,"Нерезиденты",null,null,{"$f":"Май2014!F36","v":569},581,12,2.1089630931458769E-2]
[null,"Нерезиденты - физические лица ",null,null,{"$f":"Май2014!F37","v":163},174,11,6.7484662576687171E-2]
[null,"Нерезиденты - юридические лица ",null,null,{"$f":"Май2014!F38","v":406},407,1,2.4630541871921707E-3]
[null,"Клиенты, передавшие свои средства в ДУ",null,null,{"$f":"Май2014!F39","v":699},723,24,3.4334763948497882E-2]
[null,"Всего",null,null,{"$f":"Май2014!F40","v":59508},57060,-2448,-4.1137326073805158E-2]
[]
[]
[]
[null,"Изменение количества уникальных клиентов - ретроспективные данные"]
[]
[]
[]
[null,"Количество уникальных клиентов в Системе торгов (по состоянию на последний день месяца) (ежегодная статистика):",null,null,null,null,null,"Таблица 1"]
[null,"Группы клиентов",null,null,"2009-12-31","2010-12-31","2011-12-31","2012-12-31","2013-12-31"]
[null,"Физические лица",null,null,671475,714295,772175,805549,881844]
[null,"Юридические лица",null,null,16364,17170,16850,17821,19539]
[null,"Нерезиденты",null,null,3851,4295,5058,5876,6957]
[null,"Клиенты, передавшие свои средства в ДУ",null,null,4717,5348,5242,5261,5182]
[null,"Всего",null,null,696407,741108,799325,834507,913522]
[]
[]
[]
[]
[]
[]
[]
[]
[]
[]
[]
[]
[]
[]
[]
[]
[]
[]
[]
[]
[]
[]
[]
[]
[]
[]
[]
[null,"Количество уникальных клиентов в Системе торгов (по состоянию на последний день месяца) (за последние 6 месяцев):",null,null,null,null,null,"Таблица 2"]
[null,"Группы клиентов",{"$f":"EDATE(D83,-1)","v":"2014-01-28"},{"$f":"EDATE(E83,-1)","v":"2014-02-28"},{"$f":"EDATE(F83,-1)","v":"2014-03-30"},{"$f":"EDATE(G83,-1)","v":"2014-04-30"},{"$f":"EDATE(H83,-1)","v":"2014-05-30"},{"$f":"EDATE(E11,1)","v":"2014-06-30"}]
[null,"Физические лица",883068,886594,892693,896413,897706,900250]
[null,"Юридические лица",19540,19633,19706,19733,19759,19811]
[null,"Нерезиденты",7004,7064,6815,6885,6946,7125]
[null,"Клиенты, передавшие свои средства в ДУ",5189,5217,5226,5192,5159,5175]
[null,"Всего",914801,918508,924440,928223,929570,932361]
[]
[]
[]
[]
[]
[]
[]
[]
[]
[]
[]
[]
[]
[]
[]
[]
[]
[]
[]
[]
[]
[]
[]
[]
[]
[]
[]
[]
[]
[]
[]
[]
[]
[]
[]
[null,"Дополнительные показатели за","Июнь 2014 "]
[]
[]
[null,null,null,null,null,null,null,"Таблица 1"]
[null,"Участники торгов",null,null,null,null,"Абсолютные показатели"]
[null,"Количество Участников торгов, имеющих активных клиентов",null,null,null,null,440]
[]
[]
[]
[null,"Списки ведущих операторов фондового рынка - клиенты Участников торгов за ",null,null,null,{"$f":"C6","v":"2014-06-30"}]
[]
[]
[null,"Ведущие операторы рынка – число зарегистрированных клиентов",null,null,null,null,null,"Таблица 1"]
[null,"(по общему количеству уникальных клиентов всех типов, зарегистрированных в системе торгов биржи, в том числе  в течение месяца) "]
[null,"Наименование Участника торгов",null,null,null,null,"Количество клиентов"]
[null,"ВТБ 24 (ЗАО)",null,null,null,null,207160]
[null,"Сбербанк",null,null,null,null,181819]
[null,"ЗАО \"ФИНАМ\"",null,null,null,null,119083]
[null,"ФГ БКС",null,null,null,null,115387]
[null,"ОАО \"АЛЬФА-БАНК\"",null,null,null,null,60985]
[null,"ООО \"АТОН\"",null,null,null,null,44792]
[null,"ФГ \"ОТКРЫТИЕ\" ",null,null,null,null,44199]
[null,"ГК \"АЛОР\"",null,null,null,null,30263]
[null,"КИТ Финанс (ООО)",null,null,null,null,20867]
[null,"ООО \"Инвестиционная палата\"",null,null,null,null,19645]
[]
[]
[null,"Ведущие операторы рынка – число активных клиентов",null,null,null,null,null,"Таблица 2"]
[null,"(по количеству уникальных клиентов, совершивших хотя бы одну сделку за месяц)"]
[null,"Наименование Участника торгов",null,null,null,null,"Количество клиентов"]
[null,"Сбербанк",null,null,null,null,10175]
[null,"ЗАО \"ФИНАМ\"",null,null,null,null,8748]
[null,"ФГ БКС",null,null,null,null,8392]
[null,"ВТБ 24 (ЗАО)",null,null,null,null,6341]
[null,"ФГ \"ОТКРЫТИЕ\" ",null,null,null,null,3966]
[null,"ОАО \"АЛЬФА-БАНК\"",null,null,null,null,3569]
[null,"ООО \"АТОН\"",null,null,null,null,2624]
[null,"ГПБ (ОАО)",null,null,null,null,1757]
[null,"ООО \"НЭТТРЭЙДЕР\"",null,null,null,null,1441]
[null,"ГК \"АЛОР\"",null,null,null,null,1301]
[]
[]
[null,"Ведущие операторы рынка – объем клиентских операций",null,null,null,null,null,"Таблица 3"]
[null,"(по стоимостному объему сделок, заключенных в интересах клиентов за месяц) "]
[null,"Наименование Участника торгов",null,null,null,null,"Торговый оборот, руб."]
[null,"ФГ \"ОТКРЫТИЕ\" ",null,null,null,null,781169210878.73999]
[null,"ФГ БКС",null,null,null,null,561038525916.54004]
[null,"Сбербанк",null,null,null,null,522810814617.45001]
[null,"ИК \"Ренессанс Капитал\"",null,null,null,null,318613106293.46997]
[null,"ЗАО \"ФИНАМ\"",null,null,null,null,274850317658.78]
[null,"ООО \"БК РЕГИОН\"",null,null,null,null,226532721193.26001]
[null,"ООО \"ИК ВЕЛЕС Капитал\"",null,null,null,null,194957576742.48999]
[null,"ОАО Банк \"Петрокоммерц\"",null,null,null,null,160245209091.32001]
[null,"ОАО \"Промсвязьбанк\"",null,null,null,null,142432255081.12]
[null,"ГК \"АЛОР\"",null,null,null,null,135411294885.03]

{"sheet":"Июль2014","index":6,"n_rows":178,"n_cols":9,"rows_kept":178,"cut":false,"hidden":false,"merged":[[12,1,12,3],[23,1,23,3],[24,1,24,3],[25,1,25,3],[1,1,1,7],[2,1,2,7],[2,8,2,13],[10,1,10,3],[11,1,11,3],[38,1,38,3],[26,1,26,3],[27,1,27,3],[32,1,32,3],[13,1,13,3],[14,1,14,3],[15,1,15,3],[16,1,16,3],[21,1,21,3],[22,1,22,3],[33,1,33,3],[34,1,34,3],[35,1,35,3],[36,1,36,3],[37,1,37,3],[53,1,53,3],[127,1,127,5],[127,6,127,7],[47,7,47,8],[48,1,48,3],[49,1,49,3],[50,1,50,3],[51,1,51,3],[52,1,52,3],[128,1,128,5],[128,6,128,7],[137,1,137,5],[137,6,137,7],[138,1,138,5],[138,6,138,7],[139,1,139,5],[139,6,139,7],[140,1,140,5],[140,6,140,7],[141,1,141,5],[141,6,141,7],[142,1,142,5],[142,6,142,7],[143,1,143,5],[143,6,143,7],[144,1,144,5],[144,6,144,7],[145,1,145,5],[145,6,145,7],[146,1,146,5],[146,6,146,7],[147,1,147,5],[147,6,147,7],[152,1,152,5],[152,6,152,7],[153,1,153,5],[153,6,153,7],[154,1,154,5],[154,6,154,7],[155,1,155,5],[155,6,155,7],[156,1,156,5],[156,6,156,7],[157,1,157,5],[157,6,157,7],[168,1,168,5],[168,6,168,7],[158,1,158,5],[158,6,158,7],[159,1,159,5],[159,6,159,7],[160,1,160,5],[160,6,160,7],[161,1,161,5],[161,6,161,7],[162,1,162,5],[162,6,162,7],[167,6,167,7],[169,1,169,5],[169,6,169,7],[170,1,170,5],[170,6,170,7],[171,1,171,5],[171,6,171,7],[172,1,172,5],[172,6,172,7],[173,1,173,5],[173,6,173,7],[174,1,174,5],[174,6,174,7],[175,1,175,5],[175,6,175,7],[176,1,176,5],[176,6,176,7],[177,1,177,5],[177,6,177,7]]}
[]
[null,"Клиенты Участников торгов Фондовой биржи ММВБ"]
[null,"2014-07-31"]
[]
[]
[null,"Динамика количества клиентов за ",{"$f":"B3","v":"2014-07-31"}]
[]
[]
[]
[null,"Количество зарегистрированных клиентов в Системе торгов (по состоянию на последний день месяца):",null,null,null,null,null,"Таблица 1"]
[null,"Группы клиентов",null,null,"2014-06-30",{"$f":"EDATE(E11,1)","v":"2014-07-30"},"Изменение (ед.)","Изменение (%)"]
[null,"Физические лица",null,null,{"$f":"Июнь2014!F12","v":1077132},1078961,{"$f":"F12-E12","v":1829},{"$f":"F12/E12-1","v":1.6980277254783349E-3}]
[null,"Юридические лица",null,null,{"$f":"Июнь2014!F13","v":36150},36135,{"$f":"F13-E13","v":-15},{"$f":"F13/E13-1","v":-4.1493775933609811E-4}]
[null,"Нерезиденты",null,null,{"$f":"Июнь2014!F14","v":13333},12581,-752,-5.6401410035250898E-2]
[null,"Нерезиденты - физические лица ",null,null,{"$f":"Июнь2014!F15","v":2830},2873,43,1.5194346289752581E-2]
[null,"Нерезиденты - юридические лица ",null,null,{"$f":"Июнь2014!F16","v":10503},9708,-795,-7.5692659240217064E-2]
[null,"Клиенты, передавшие свои средства в ДУ",null,null,{"$f":"Июнь2014!F17","v":12925},13018,93,7.1953578336556578E-3]
[null,"Всего",null,null,{"$f":"Июнь2014!F18","v":1139540},1140695,{"$f":"F18-E18","v":1155},1.0135668778630258E-3]
[]
[]
[null,"Количество уникальных клиентов в Системе торгов (по состоянию на последний день месяца):",null,null,null,null,null,"Таблица 2"]
[null,"Группы клиентов",null,null,{"$f":"E11","v":"2014-06-30"},{"$f":"F11","v":"2014-07-30"},"Изменение (ед.)","Изменение (%)"]
[null,"Физические лица",null,null,{"$f":"Июнь2014!F23","v":900250},901853,{"$f":"F23-E23","v":1603},{"$f":"F23/E23-1","v":1.7806164954179415E-3}]
[null,"Юридические лица",null,null,{"$f":"Июнь2014!F24","v":19811},19846,{"$f":"F24-E24","v":35},{"$f":"F24/E24-1","v":1.7666952703043748E-3}]
[null,"Нерезиденты",null,null,{"$f":"Июнь2014!F25","v":7125},7169,44,6.1754385964911673E-3]
[null,"Нерезиденты - физические лица ",null,null,{"$f":"Июнь2014!F26","v":2753},2800,47,1.707228478023981E-2]
[null,"Нерезиденты - юридические лица ",null,null,{"$f":"Июнь2014!F27","v":4372},4369,-3,-6.8618481244286933E-4]
[null,"Клиенты, передавшие свои средства в ДУ",null,null,{"$f":"Июнь2014!F28","v":5175},5207,32,6.1835748792271605E-3]
[null,"Всего",null,null,{"$f":"Июнь2014!F29","v":932361},934075,1714,1.8383437316662476E-3]
[]
[]
[null,"Количество активных клиентов в Системе торгов (совершивших в течение месяца хотя бы одну сделку):",null,null,null,null,null,"Таблица 3"]
[null,"Группы клиентов",null,null,{"$f":"EDATE(C6,-1)","v":"2014-06-30"},{"$f":"EDATE(E33,1)","v":"2014-07-30"},"Изменение (ед.)","Изменение (%)"]
[null,"Физические лица",null,null,{"$f":"Июнь2014!F34","v":54480},57118,{"$f":"F34-E34","v":2638},{"$f":"F34/E34-1","v":4.8421439060205573E-2}]
[null,"Юридические лица",null,null,{"$f":"Июнь2014!F35","v":1276},1191,-85,-6.6614420062695912E-2]
[null,"Нерезиденты",null,null,{"$f":"Июнь2014!F36","v":581},578,-3,-5.1635111876076056E-3]
[null,"Нерезиденты - физические лица ",null,null,{"$f":"Июнь2014!F37","v":174},171,-3,-1.7241379310344862E-2]
[null,"Нерезиденты - юридические лица ",null,null,{"$f":"Июнь2014!F38","v":407},407,0,0]
[null,"Клиенты, передавшие свои средства в ДУ",null,null,{"$f":"Июнь2014!F39","v":723},727,4,5.5325034578146415E-3]
[null,"Всего",null,null,{"$f":"Июнь2014!F40","v":57060},59614,2554,4.4759901857693629E-2]
[]
[]
[]
[null,"Изменение количества уникальных клиентов - ретроспективные данные"]
[]
[]
[]
[null,"Количество уникальных клиентов в Системе торгов (по состоянию на последний день месяца) (ежегодная статистика):",null,null,null,null,null,"Таблица 1"]
[null,"Группы клиентов",null,null,"2009-12-31","2010-12-31","2011-12-31","2012-12-31","2013-12-31"]
[null,"Физические лица",null,null,671475,714295,772175,805549,881844]
[null,"Юридические лица",null,null,16364,17170,16850,17821,19539]
[null,"Нерезиденты",null,null,3851,4295,5058,5876,6957]
[null,"Клиенты, передавшие свои средства в ДУ",null,null,4717,5348,5242,5261,5182]
[null,"Всего",null,null,696407,741108,799325,834507,913522]
[]
[]
[]
[]
[]
[]
[]
[]
[]
[]
[]
[]
[]
[]
[]
[]
[]
[]
[]
[]
[]
[]
[]
[]
[]
[]
[]
[null,"Количество уникальных клиентов в Системе торгов (по состоянию на последний день месяца) (за последние 6 месяцев):",null,null,null,null,null,"Таблица 2"]
[null,"Группы клиентов",{"$f":"EDATE(D83,-1)","v":"2014-02-28"},{"$f":"EDATE(E83,-1)","v":"2014-03-30"},{"$f":"EDATE(F83,-1)","v":"2014-04-30"},{"$f":"EDATE(G83,-1)","v":"2014-05-30"},{"$f":"EDATE(H83,-1)","v":"2014-06-30"},{"$f":"EDATE(E11,1)","v":"2014-07-30"}]
[null,"Физические лица",886594,892693,896413,897706,900250,901853]
[null,"Юридические лица",19633,19706,19733,19759,19811,19846]
[null,"Нерезиденты",7064,6815,6885,6946,7125,7169]
[null,"Клиенты, передавшие свои средства в ДУ",5217,5226,5192,5159,5175,5207]
[null,"Всего",918508,924440,928223,929570,932361,934075]
[]
[]
[]
[]
[]
[]
[]
[]
[]
[]
[]
[]
[]
[]
[]
[]
[]
[]
[]
[]
[]
[]
[]
[]
[]
[]
[]
[]
[]
[]
[]
[]
[]
[]
[]
[null,"Дополнительные показатели за","Июль 2014 "]
[]
[]
[null,null,null,null,null,null,null,"Таблица 1"]
[null,"Участники торгов",null,null,null,null,"Абсолютные показатели"]
[null,"Количество Участников торгов, имеющих активных клиентов",null,null,null,null,438]
[]
[]
[]
[null,"Списки ведущих операторов фондового рынка - клиенты Участников торгов за ",null,null,null,{"$f":"C6","v":"2014-07-31"}]
[]
[]
[null,"Ведущие операторы рынка – число зарегистрированных клиентов",null,null,null,null,null,"Таблица 1"]
[null,"(по общему количеству уникальных клиентов всех типов, зарегистрированных в системе торгов биржи, в том числе  в течение месяца) "]
[null,"Наименование Участника торгов",null,null,null,null,"Количество клиентов"]
[null,"ВТБ 24 (ЗАО)",null,null,null,null,207953]
[null,"Сбербанк",null,null,null,null,181643]
[null,"ЗАО \"ФИНАМ\"",null,null,null,null,119528]
[null,"ФГ БКС",null,null,null,null,115909]
[null,"ОАО \"АЛЬФА-БАНК\"",null,null,null,null,61072]
[null,"ООО \"АТОН\"",null,null,null,null,44911]
[null,"ФГ \"ОТКРЫТИЕ\" ",null,null,null,null,44759]
[null,"ГК \"АЛОР\"",null,null,null,null,30321]
[null,"КИТ Финанс (ООО)",null,null,null,null,20946]
[null,"ООО \"Инвестиционная палата\"",null,null,null,null,19659]
[]
[]
[null,"Ведущие операторы рынка – число активных клиентов",null,null,null,null,null,"Таблица 2"]
[null,"(по количеству уникальных клиентов, совершивших хотя бы одну сделку за месяц)"]
[null,"Наименование Участника торгов",null,null,null,null,"Количество клиентов"]
[null,"Сбербанк",null,null,null,null,10947]
[null,"ЗАО \"ФИНАМ\"",null,null,null,null,9184]
[null,"ФГ БКС",null,null,null,null,8726]
[null,"ВТБ 24 (ЗАО)",null,null,null,null,6578]
[null,"ФГ \"ОТКРЫТИЕ\" ",null,null,null,null,4194]
[null,"ОАО \"АЛЬФА-БАНК\"",null,null,null,null,3653]
[null,"ООО \"АТОН\"",null,null,null,null,2661]
[null,"ГПБ (ОАО)",null,null,null,null,1854]
[null,"ГК \"АЛОР\"",null,null,null,null,1331]
[null,"ООО \"НЭТТРЭЙДЕР\"",null,null,null,null,1324]
[]
[]
[null,"Ведущие операторы рынка – объем клиентских операций",null,null,null,null,null,"Таблица 3"]
[null,"(по стоимостному объему сделок, заключенных в интересах клиентов за месяц) "]
[null,"Наименование Участника торгов",null,null,null,null,"Торговый оборот, руб."]
[null,"ФГ \"ОТКРЫТИЕ\" ",null,null,null,null,1122448458623.26]
[null,"ФГ БКС",null,null,null,null,742509183283.04797]
[null,"Сбербанк",null,null,null,null,631442391329.92004]
[null,"ИК \"Ренессанс Капитал\"",null,null,null,null,424256201171.61499]
[null,"ЗАО \"ФИНАМ\"",null,null,null,null,371811200916.69598]
[null,"ООО \"БК РЕГИОН\"",null,null,null,null,318081722302.33002]
[null,"ООО \"ИК ВЕЛЕС Капитал\"",null,null,null,null,171286409256.89999]
[null,"ГК \"АЛОР\"",null,null,null,null,142318806520.41101]
[null,"ЗАО \"БАНК КРЕДИТ СВИСС (МОСКВА)\"",null,null,null,null,135441092279.02]
[null,"ГПБ (ОАО)",null,null,null,null,129435406213.87]

{"sheet":"Август2014","index":7,"n_rows":178,"n_cols":9,"rows_kept":178,"cut":false,"hidden":false,"merged":[[143,6,143,7],[144,6,144,7],[1,1,1,7],[2,1,2,7],[22,1,22,3],[47,7,47,8],[48,1,48,3],[49,1,49,3],[50,1,50,3],[51,1,51,3],[52,1,52,3],[33,1,33,3],[34,1,34,3],[35,1,35,3],[36,1,36,3],[2,8,2,13],[10,1,10,3],[11,1,11,3],[12,1,12,3],[139,6,139,7],[23,1,23,3],[24,1,24,3],[25,1,25,3],[26,1,26,3],[27,1,27,3],[32,1,32,3],[13,1,13,3],[14,1,14,3],[15,1,15,3],[16,1,16,3],[21,1,21,3],[37,1,37,3],[140,6,140,7],[141,6,141,7],[142,6,142,7],[38,1,38,3],[53,1,53,3],[127,1,127,5],[127,6,127,7],[128,1,128,5],[128,6,128,7],[137,1,137,5],[137,6,137,7],[138,1,138,5],[138,6,138,7],[143,1,143,5],[144,1,144,5],[139,1,139,5],[140,1,140,5],[141,1,141,5],[142,1,142,5],[152,1,152,5],[152,6,152,7],[153,1,153,5],[153,6,153,7],[154,1,154,5],[154,6,154,7],[145,1,145,5],[145,6,145,7],[146,1,146,5],[146,6,146,7],[147,1,147,5],[147,6,147,7],[158,1,158,5],[158,6,158,7],[159,1,159,5],[159,6,159,7],[160,1,160,5],[160,6,160,7],[155,1,155,5],[155,6,155,7],[156,1,156,5],[156,6,156,7],[157,1,157,5],[157,6,157,7],[169,6,169,7],[170,6,170,7],[171,6,171,7],[161,1,161,5],[161,6,161,7],[162,1,162,5],[162,6,162,7],[167,6,167,7],[168,6,168,7],[175,6,175,7],[176,6,176,7],[177,6,177,7],[172,6,172,7],[173,6,173,7],[174,6,174,7]]}
[]
[null,"Клиенты Участников торгов Фондовой биржи ММВБ"]
[null,"2014-08-31"]
[]
[]
[null,"Динамика количества клиентов за ",{"$f":"B3","v":"2014-08-31"}]
[]
[]
[]
[null,"Количество зарегистрированных клиентов в Системе торгов (по состоянию на последний день месяца):",null,null,null,null,null,"Таблица 1"]
[null,"Группы клиентов",null,null,"2014-07-31",{"$f":"EDATE(E11,1)","v":"2014-08-31"},"Изменение (ед.)","Изменение (%)"]
[null,"Физические лица",null,null,{"$f":"Июль2014!F12","v":1078961},1093326,{"$f":"F12-E12","v":14365},{"$f":"F12/E12-1","v":1.3313734231357843E-2}]
[null,"Юридические лица",null,null,{"$f":"Июль2014!F13","v":36135},35687,-448,-1.2397952123979539E-2]
[null,"Нерезиденты",null,null,{"$f":"Июль2014!F14","v":12581},12704,123,9.7766473253317887E-3]
[null,"Нерезиденты - физические лица ",null,null,{"$f":"Июль2014!F15","v":2873},2995,122,4.2464323007309401E-2]
[null,"Нерезиденты - юридические лица ",null,null,{"$f":"Июль2014!F16","v":9708},9709,1,1.0300782859506974E-4]
[null,"Клиенты, передавшие свои средства в ДУ",null,null,{"$f":"Июль2014!F17","v":13018},12967,-51,-3.9176524811799229E-3]
[null,"Всего",null,null,{"$f":"Июль2014!F18","v":1140695},1154684,13989,1.226357615313467E-2]
[]
[]
[null,"Количество уникальных клиентов в Системе торгов (по состоянию на последний день месяца):",null,null,null,null,null,"Таблица 2"]
[null,"Группы клиентов",null,null,{"$f":"E11","v":"2014-07-31"},{"$f":"F11","v":"2014-08-31"},"Изменение (ед.)","Изменение (%)"]
[null,"Физические лица",null,null,{"$f":"Июль2014!F23","v":901853},915943,{"$f":"F23-E23","v":14090},{"$f":"F23/E23-1","v":1.5623388734084198E-2}]
[null,"Юридические лица",null,null,{"$f":"Июль2014!F24","v":19846},19872,{"$f":"F24-E24","v":26},{"$f":"F24/E24-1","v":1.3100876750982149E-3}]
[null,"Нерезиденты",null,null,{"$f":"Июль2014!F25","v":7169},7273,104,1.4506904728692982E-2]
[null,"Нерезиденты - физические лица ",null,null,{"$f":"Июль2014!F26","v":2800},2920,120,4.2857142857142927E-2]
[null,"Нерезиденты - юридические лица ",null,null,{"$f":"Июль2014!F27","v":4369},4353,-16,-3.6621652552071282E-3]
[null,"Клиенты, передавшие свои средства в ДУ",null,null,{"$f":"Июль2014!F28","v":5207},5173,-34,-6.5296715959285434E-3]
[null,"Всего",null,null,{"$f":"Июль2014!F29","v":934075},948261,14186,1.518721730053807E-2]
[]
[]
[null,"Количество активных клиентов в Системе торгов (совершивших в течение месяца хотя бы одну сделку):",null,null,null,null,null,"Таблица 3"]
[null,"Группы клиентов",null,null,{"$f":"EDATE(C6,-1)","v":"2014-07-31"},{"$f":"EDATE(E33,1)","v":"2014-08-31"},"Изменение (ед.)","Изменение (%)"]
[null,"Физические лица",null,null,{"$f":"Июль2014!F34","v":57118},56112,{"$f":"F34-E34","v":-1006},{"$f":"F34/E34-1","v":-1.7612661507755867E-2}]
[null,"Юридические лица",null,null,{"$f":"Июль2014!F35","v":1191},1143,-48,-4.0302267002518932E-2]
[null,"Нерезиденты",null,null,{"$f":"Июль2014!F36","v":578},565,-13,-2.249134948096887E-2]
[null,"Нерезиденты - физические лица ",null,null,{"$f":"Июль2014!F37","v":171},183,12,7.0175438596491224E-2]
[null,"Нерезиденты - юридические лица ",null,null,{"$f":"Июль2014!F38","v":407},382,-25,-6.1425061425061434E-2]
[null,"Клиенты, передавшие свои средства в ДУ",null,null,{"$f":"Июль2014!F39","v":727},667,-60,-8.2530949105914742E-2]
[null,"Всего",null,null,{"$f":"Июль2014!F40","v":59614},58487,-1127,-1.8904955211862973E-2]
[]
[]
[]
[null,"Изменение количества уникальных клиентов - ретроспективные данные"]
[]
[]
[]
[null,"Количество уникальных клиентов в Системе торгов (по состоянию на последний день месяца) (ежегодная статистика):",null,null,null,null,null,"Таблица 1"]
[null,"Группы клиентов",null,null,"2009-12-31","2010-12-31","2011-12-31","2012-12-31","2013-12-31"]
[null,"Физические лица",null,null,671475,714295,772175,805549,881844]
[null,"Юридические лица",null,null,16364,17170,16850,17821,19539]
[null,"Нерезиденты",null,null,3851,4295,5058,5876,6957]
[null,"Клиенты, передавшие свои средства в ДУ",null,null,4717,5348,5242,5261,5182]
[null,"Всего",null,null,696407,741108,799325,834507,913522]
[]
[]
[]
[]
[]
[]
[]
[]
[]
[]
[]
[]
[]
[]
[]
[]
[]
[]
[]
[]
[]
[]
[]
[]
[]
[]
[]
[null,"Количество уникальных клиентов в Системе торгов (по состоянию на последний день месяца) (за последние 6 месяцев):",null,null,null,null,null,"Таблица 2"]
[null,"Группы клиентов",{"$f":"EDATE(D83,-1)","v":"2014-03-30"},{"$f":"EDATE(E83,-1)","v":"2014-04-30"},{"$f":"EDATE(F83,-1)","v":"2014-05-30"},{"$f":"EDATE(G83,-1)","v":"2014-06-30"},{"$f":"EDATE(H83,-1)","v":"2014-07-31"},{"$f":"EDATE(E11,1)","v":"2014-08-31"}]
[null,"Физические лица",892693,896413,897706,900250,901853,915943]
[null,"Юридические лица",19706,19733,19759,19811,19846,19872]
[null,"Нерезиденты",6815,6885,6946,7125,7169,7273]
[null,"Клиенты, передавшие свои средства в ДУ",5226,5192,5159,5175,5207,5173]
[null,"Всего",924440,928223,929570,932361,934075,948261]
[]
[]
[]
[]
[]
[]
[]
[]
[]
[]
[]
[]
[]
[]
[]
[]
[]
[]
[]
[]
[]
[]
[]
[]
[]
[]
[]
[]
[]
[]
[]
[]
[]
[]
[]
[null,"Дополнительные показатели за","Август 2014 "]
[]
[]
[null,null,null,null,null,null,null,"Таблица 1"]
[null,"Участники торгов",null,null,null,null,"Абсолютные показатели"]
[null,"Количество Участников торгов, имеющих активных клиентов",null,null,null,null,432]
[]
[]
[]
[null,"Списки ведущих операторов фондового рынка - клиенты Участников торгов за ",null,null,null,{"$f":"C6","v":"2014-08-31"}]
[]
[]
[null,"Ведущие операторы рынка – число зарегистрированных клиентов",null,null,null,null,null,"Таблица 1"]
[null,"(по общему количеству уникальных клиентов всех типов, зарегистрированных в системе торгов биржи, в том числе  в течение месяца) "]
[null,"Наименование Участника торгов",null,null,null,null,"Количество клиентов"]
[null,"ВТБ 24 (ЗАО)",null,null,null,null,208753]
[null,"Сбербанк",null,null,null,null,173330]
[null,"ЗАО \"ФИНАМ\"",null,null,null,null,120034]
[null,"ФГ БКС",null,null,null,null,116442]
[null,"ОАО \"АЛЬФА-БАНК\"",null,null,null,null,61152]
[null,"ФГ \"ОТКРЫТИЕ\" ",null,null,null,null,45330]
[null,"ООО \"АТОН\"",null,null,null,null,45031]
[null,"ГК \"АЛОР\"",null,null,null,null,30370]
[null,"КИТ Финанс (ООО)",null,null,null,null,21007]
[null,"ООО \"Инвестиционная палата\"",null,null,null,null,19668]
[]
[]
[null,"Ведущие операторы рынка – число активных клиентов",null,null,null,null,null,"Таблица 2"]
[null,"(по количеству уникальных клиентов, совершивших хотя бы одну сделку за месяц)"]
[null,"Наименование Участника торгов",null,null,null,null,"Количество клиентов"]
[null,"ФГ БКС",null,null,null,null,11669]
[null,"Сбербанк",null,null,null,null,9390]
[null,"ЗАО \"ФИНАМ\"",null,null,null,null,8445]
[null,"ВТБ 24 (ЗАО)",null,null,null,null,6290]
[null,"ФГ \"ОТКРЫТИЕ\" ",null,null,null,null,4064]
[null,"ОАО \"АЛЬФА-БАНК\"",null,null,null,null,3588]
[null,"ООО \"АТОН\"",null,null,null,null,2500]
[null,"ГПБ (ОАО)",null,null,null,null,1650]
[null,"КИТ Финанс (ООО)",null,null,null,null,1235]
[null,"ГК \"АЛОР\"",null,null,null,null,1225]
[]
[]
[null,"Ведущие операторы рынка – объем клиентских операций",null,null,null,null,null,"Таблица 3"]
[null,"(по стоимостному объему сделок, заключенных в интересах клиентов за месяц) "]
[null,"Наименование Участника торгов",null,null,null,null,"Торговый оборот, руб."]
[null,"ФГ \"ОТКРЫТИЕ\" ",null,null,null,null,916854246939]
[null,"ФГ БКС",null,null,null,null,699416801100]
[null,"ООО \"Ренессанс Брокер\" ",null,null,null,null,520848303114]
[null,"Сбербанк",null,null,null,null,445777398980]
[null,"ЗАО \"ФИНАМ\"",null,null,null,null,309530012743]
[null,"ООО \"БК РЕГИОН\"",null,null,null,null,255043911692]
[null,"ООО \"ИК ВЕЛЕС Капитал\"",null,null,null,null,162002037127]
[null,"НБ \"ТРАСТ\" (ОАО)",null,null,null,null,121420943155]
[null,"ЗАО \"БАНК КРЕДИТ СВИСС (МОСКВА)\"",null,null,null,null,115040473244]
[null,"ГПБ (ОАО)",null,null,null,null,110328485716]

{"sheet":"Сентябрь2014","index":8,"n_rows":178,"n_cols":9,"rows_kept":178,"cut":false,"hidden":false,"merged":[[176,1,176,5],[177,1,177,5],[145,6,145,7],[146,6,146,7],[147,6,147,7],[168,1,168,5],[169,1,169,5],[170,1,170,5],[171,1,171,5],[172,1,172,5],[173,1,173,5],[175,6,175,7],[176,6,176,7],[177,6,177,7],[172,6,172,7],[173,6,173,7],[158,6,158,7],[159,6,159,7],[160,6,160,7],[174,1,174,5],[175,1,175,5],[174,6,174,7],[161,1,161,5],[162,1,162,5],[158,1,158,5],[159,1,159,5],[160,1,160,5],[169,6,169,7],[170,6,170,7],[171,6,171,7],[161,6,161,7],[162,6,162,7],[167,6,167,7],[168,6,168,7],[152,1,152,5],[152,6,152,7],[153,1,153,5],[153,6,153,7],[154,1,154,5],[154,6,154,7],[155,1,155,5],[155,6,155,7],[156,1,156,5],[156,6,156,7],[157,1,157,5],[157,6,157,7],[147,1,147,5],[142,1,142,5],[143,1,143,5],[144,1,144,5],[139,1,139,5],[140,1,140,5],[141,1,141,5],[53,1,53,3],[127,1,127,5],[127,6,127,7],[145,1,145,5],[146,1,146,5],[139,6,139,7],[140,6,140,7],[141,6,141,7],[142,6,142,7],[143,6,143,7],[144,6,144,7],[128,1,128,5],[128,6,128,7],[137,1,137,5],[137,6,137,7],[138,1,138,5],[138,6,138,7],[52,1,52,3],[33,1,33,3],[34,1,34,3],[35,1,35,3],[36,1,36,3],[37,1,37,3],[38,1,38,3],[47,7,47,8],[48,1,48,3],[49,1,49,3],[50,1,50,3],[51,1,51,3],[27,1,27,3],[32,1,32,3],[13,1,13,3],[14,1,14,3],[15,1,15,3],[16,1,16,3],[21,1,21,3],[22,1,22,3],[12,1,12,3],[23,1,23,3],[24,1,24,3],[25,1,25,3],[26,1,26,3],[1,1,1,7],[2,1,2,7],[2,8,2,13],[10,1,10,3],[11,1,11,3]]}
[]
[null,"Клиенты Участников торгов Фондовой биржи ММВБ"]
[null,"2014-09-30"]
[]
[]
[null,"Динамика количества клиентов за ",{"$f":"B3","v":"2014-09-30"}]
[]
[]
[]
[null,"Количество зарегистрированных клиентов в Системе торгов (по состоянию на последний день месяца):",null,null,null,null,null,"Таблица 1"]
[null,"Группы клиентов",null,null,"2014-08-31",{"$f":"EDATE(E11,1)","v":"2014-09-30"},"Изменение (ед.)","Изменение (%)"]
[null,"Физические лица",null,null,{"$f":"Август2014!F12","v":1093326},1090843,{"$f":"F12-E12","v":-2483},{"$f":"F12/E12-1","v":-2.2710518180304451E-3}]
[null,"Юридические лица",null,null,{"$f":"Август2014!F13","v":35687},35622,-65,-1.8213915431389838E-3]
[null,"Нерезиденты",null,null,{"$f":"Август2014!F14","v":12704},12839,135,1.0626574307304848E-2]
[null,"Нерезиденты - физические лица ",null,null,{"$f":"Август2014!F15","v":2995},3044,49,1.6360601001669473E-2]
[null,"Нерезиденты - юридические лица ",null,null,{"$f":"Август2014!F16","v":9709},9795,86,8.8577608404574182E-3]
[null,"Клиенты, передавшие свои средства в ДУ",null,null,{"$f":"Август2014!F17","v":12967},13053,86,6.6322202514075279E-3]
[null,"Всего",null,null,{"$f":"Август2014!F18","v":1154684},1152357,-2327,-2.0152699786262218E-3]
[]
[]
[null,"Количество уникальных клиентов в Системе торгов (по состоянию на последний день месяца):",null,null,null,null,null,"Таблица 2"]
[null,"Группы клиентов",null,null,{"$f":"E11","v":"2014-08-31"},{"$f":"F11","v":"2014-09-30"},"Изменение (ед.)","Изменение (%)"]
[null,"Физические лица",null,null,{"$f":"Август2014!F23","v":915943},912627,{"$f":"F23-E23","v":-3316},{"$f":"F23/E23-1","v":-3.620312617706567E-3}]
[null,"Юридические лица",null,null,{"$f":"Август2014!F24","v":19872},19829,{"$f":"F24-E24","v":-43},{"$f":"F24/E24-1","v":-2.163848631239973E-3}]
[null,"Нерезиденты",null,null,{"$f":"Август2014!F25","v":7273},7332,59,8.1121957926577615E-3]
[null,"Нерезиденты - физические лица ",null,null,{"$f":"Август2014!F26","v":2920},2967,47,1.6095890410958935E-2]
[null,"Нерезиденты - юридические лица ",null,null,{"$f":"Август2014!F27","v":4353},4365,12,2.7567195037905279E-3]
[null,"Клиенты, передавшие свои средства в ДУ",null,null,{"$f":"Август2014!F28","v":5173},5174,1,1.9331142470524476E-4]
[null,"Всего",null,null,{"$f":"Август2014!F29","v":948261},944962,-3299,-3.4789999799633708E-3]
[]
[]
[null,"Количество активных клиентов в Системе торгов (совершивших в течение месяца хотя бы одну сделку):",null,null,null,null,null,"Таблица 3"]
[null,"Группы клиентов",null,null,{"$f":"EDATE(C6,-1)","v":"2014-08-30"},{"$f":"EDATE(E33,1)","v":"2014-09-30"},"Изменение (ед.)","Изменение (%)"]
[null,"Физические лица",null,null,{"$f":"Август2014!F34","v":56112},54957,{"$f":"F34-E34","v":-1155},{"$f":"F34/E34-1","v":-2.0583832335329344E-2}]
[null,"Юридические лица",null,null,{"$f":"Август2014!F35","v":1143},1233,90,7.8740157480315043E-2]
[null,"Нерезиденты",null,null,{"$f":"Август2014!F36","v":565},586,21,3.7168141592920367E-2]
[null,"Нерезиденты - физические лица ",null,null,{"$f":"Август2014!F37","v":183},189,6,3.2786885245901676E-2]
[null,"Нерезиденты - юридические лица ",null,null,{"$f":"Август2014!F38","v":382},397,15,3.9267015706806241E-2]
[null,"Клиенты, передавшие свои средства в ДУ",null,null,{"$f":"Август2014!F39","v":667},630,-37,-5.5472263868065919E-2]
[null,"Всего",null,null,{"$f":"Август2014!F40","v":58487},57406,-1081,-1.8482739754133393E-2]
[]
[]
[]
[null,"Изменение количества уникальных клиентов - ретроспективные данные"]
[]
[]
[]
[null,"Количество уникальных клиентов в Системе торгов (по состоянию на последний день месяца) (ежегодная статистика):",null,null,null,null,null,"Таблица 1"]
[null,"Группы клиентов",null,null,"2009-12-31","2010-12-31","2011-12-31","2012-12-31","2013-12-31"]
[null,"Физические лица",null,null,671475,714295,772175,805549,881844]
[null,"Юридические лица",null,null,16364,17170,16850,17821,19539]
[null,"Нерезиденты",null,null,3851,4295,5058,5876,6957]
[null,"Клиенты, передавшие свои средства в ДУ",null,null,4717,5348,5242,5261,5182]
[null,"Всего",null,null,696407,741108,799325,834507,913522]
[]
[]
[]
[]
[]
[]
[]
[]
[]
[]
[]
[]
[]
[]
[]
[]
[]
[]
[]
[]
[]
[]
[]
[]
[]
[]
[]
[null,"Количество уникальных клиентов в Системе торгов (по состоянию на последний день месяца) (за последние 6 месяцев):",null,null,null,null,null,"Таблица 2"]
[null,"Группы клиентов",{"$f":"EDATE(D83,-1)","v":"2014-04-30"},{"$f":"EDATE(E83,-1)","v":"2014-05-30"},{"$f":"EDATE(F83,-1)","v":"2014-06-30"},{"$f":"EDATE(G83,-1)","v":"2014-07-30"},{"$f":"EDATE(H83,-1)","v":"2014-08-30"},{"$f":"EDATE(E11,1)","v":"2014-09-30"}]
[null,"Физические лица",896413,897706,900250,901853,915943,912627]
[null,"Юридические лица",19733,19759,19811,19846,19872,19829]
[null,"Нерезиденты",6885,6946,7125,7169,7273,7332]
[null,"Клиенты, передавшие свои средства в ДУ",5192,5159,5175,5207,5173,5174]
[null,"Всего",928223,929570,932361,934075,948261,944962]
[]
[]
[]
[]
[]
[]
[]
[]
[]
[]
[]
[]
[]
[]
[]
[]
[]
[]
[]
[]
[]
[]
[]
[]
[]
[]
[]
[]
[]
[]
[]
[]
[]
[]
[]
[null,"Дополнительные показатели за","Сентябрь 2014 "]
[]
[]
[null,null,null,null,null,null,null,"Таблица 1"]
[null,"Участники торгов",null,null,null,null,"Абсолютные показатели"]
[null,"Количество Участников торгов, имеющих активных клиентов",null,null,null,null,433]
[]
[]
[]
[null,"Списки ведущих операторов фондового рынка - клиенты Участников торгов за ",null,null,null,{"$f":"C6","v":"2014-09-30"}]
[]
[]
[null,"Ведущие операторы рынка – число зарегистрированных клиентов",null,null,null,null,null,"Таблица 1"]
[null,"(по общему количеству уникальных клиентов всех типов, зарегистрированных в системе торгов биржи, в том числе  в течение месяца) "]
[null,"Наименование Участника торгов",null,null,null,null,"Количество клиентов"]
[null,"ВТБ 24 (ЗАО)",null,null,null,null,209890]
[null,"Сбербанк",null,null,null,null,174091]
[null,"ЗАО \"ФИНАМ\"",null,null,null,null,120585]
[null,"ФГ БКС",null,null,null,null,117102]
[null,"ОАО \"АЛЬФА-БАНК\"",null,null,null,null,61230]
[null,"ФГ \"ОТКРЫТИЕ\" ",null,null,null,null,45841]
[null,"ООО \"АТОН\"",null,null,null,null,45171]
[null,"ГК \"АЛОР\"",null,null,null,null,30413]
[null,"КИТ Финанс (ООО)",null,null,null,null,21047]
[null,"ООО \"Инвестиционная палата\"",null,null,null,null,19686]
[]
[]
[null,"Ведущие операторы рынка – число активных клиентов",null,null,null,null,null,"Таблица 2"]
[null,"(по количеству уникальных клиентов, совершивших хотя бы одну сделку за месяц)"]
[null,"Наименование Участника торгов",null,null,null,null,"Количество клиентов"]
[null,"Сбербанк",null,null,null,null,9863]
[null,"ЗАО \"ФИНАМ\"",null,null,null,null,8541]
[null,"ФГ БКС",null,null,null,null,8482]
[null,"ВТБ 24 (ЗАО)",null,null,null,null,6548]
[null,"ФГ \"ОТКРЫТИЕ\" ",null,null,null,null,4361]
[null,"ОАО \"АЛЬФА-БАНК\"",null,null,null,null,3804]
[null,"ООО \"АТОН\"",null,null,null,null,2677]
[null,"ГПБ (ОАО)",null,null,null,null,1732]
[null,"ООО \"НЭТТРЭЙДЕР\"",null,null,null,null,1304]
[null,"ГК \"АЛОР\"",null,null,null,null,1272]
[]
[]
[null,"Ведущие операторы рынка – объем клиентских операций",null,null,null,null,null,"Таблица 3"]
[null,"(по стоимостному объему сделок, заключенных в интересах клиентов за месяц) "]
[null,"Наименование Участника торгов",null,null,null,null,"Торговый оборот, руб."]
[null,"ФГ \"ОТКРЫТИЕ\" ",null,null,null,null,1193165392447.6899]
[null,"ФГ БКС",null,null,null,null,794593033759.62598]
[null,"ООО \"Ренессанс Брокер\" ",null,null,null,null,599367788911.25195]
[null,"Сбербанк",null,null,null,null,356330338606.56799]
[null,"ЗАО \"ФИНАМ\"",null,null,null,null,331471278236.06799]
[null,"ООО \"БК РЕГИОН\"",null,null,null,null,221221195187.25]
[null,"ОАО \"УБРиР\"",null,null,null,null,180188578905.88]
[null,"ОАО Банк \"Петрокоммерц\"",null,null,null,null,170990806707.04001]
[null,"ООО \"ИК ВЕЛЕС Капитал\"",null,null,null,null,157455186465.25]
[null,"НБ \"ТРАСТ\" (ОАО)",null,null,null,null,155198371680]

{"sheet":"Октябрь2014","index":9,"n_rows":178,"n_cols":9,"rows_kept":178,"cut":false,"hidden":false,"merged":[[176,1,176,5],[176,6,176,7],[177,1,177,5],[177,6,177,7],[173,1,173,5],[173,6,173,7],[174,1,174,5],[174,6,174,7],[175,1,175,5],[175,6,175,7],[162,1,162,5],[162,6,162,7],[168,1,168,5],[168,6,168,7],[169,1,169,5],[169,6,169,7],[170,1,170,5],[170,6,170,7],[171,1,171,5],[171,6,171,7],[172,1,172,5],[172,6,172,7],[156,6,156,7],[157,1,157,5],[157,6,157,7],[158,1,158,5],[158,6,158,7],[141,6,141,7],[142,1,142,5],[153,1,153,5],[153,6,153,7],[154,1,154,5],[154,6,154,7],[145,1,145,5],[145,6,145,7],[146,1,146,5],[146,6,146,7],[147,1,147,5],[147,6,147,7],[143,1,143,5],[143,6,143,7],[144,1,144,5],[144,6,144,7],[167,6,167,7],[152,1,152,5],[152,6,152,7],[155,1,155,5],[155,6,155,7],[159,1,159,5],[159,6,159,7],[160,1,160,5],[160,6,160,7],[161,1,161,5],[161,6,161,7],[156,1,156,5],[52,1,52,3],[53,1,53,3],[127,1,127,5],[127,6,127,7],[142,6,142,7],[128,1,128,5],[128,6,128,7],[137,1,137,5],[137,6,137,7],[138,1,138,5],[138,6,138,7],[139,1,139,5],[139,6,139,7],[140,1,140,5],[140,6,140,7],[141,1,141,5],[47,7,47,8],[48,1,48,3],[49,1,49,3],[50,1,50,3],[51,1,51,3],[38,1,38,3],[23,1,23,3],[24,1,24,3],[25,1,25,3],[26,1,26,3],[27,1,27,3],[32,1,32,3],[33,1,33,3],[34,1,34,3],[35,1,35,3],[36,1,36,3],[37,1,37,3],[22,1,22,3],[1,1,1,7],[2,1,2,7],[2,8,2,13],[10,1,10,3],[11,1,11,3],[12,1,12,3],[13,1,13,3],[14,1,14,3],[15,1,15,3],[16,1,16,3],[21,1,21,3]]}
[]
[null,"Клиенты Участников торгов Фондовой биржи ММВБ"]
[null,"2014-10-30"]
[]
[]
[null,"Динамика количества клиентов за ",{"$f":"B3","v":"2014-10-30"}]
[]
[]
[]
[null,"Количество зарегистрированных клиентов в Системе торгов (по состоянию на последний день месяца):",null,null,null,null,null,"Таблица 1"]
[null,"Группы клиентов",null,null,"2014-09-30",{"$f":"EDATE(E11,1)","v":"2014-10-30"},"Изменение (ед.)","Изменение (%)"]
[null,"Физические лица",null,null,{"$f":"Сентябрь2014!F12","v":1090843},1094834,{"$f":"F12-E12","v":3991},{"$f":"F12/E12-1","v":3.6586383191714589E-3}]
[null,"Юридические лица",null,null,{"$f":"Сентябрь2014!F13","v":35622},35771,149,4.1828083768458146E-3]
[null,"Нерезиденты",null,null,{"$f":"Сентябрь2014!F14","v":12839},12631,-208,-1.6200638679024881E-2]
[null,"Нерезиденты - физические лица ",null,null,{"$f":"Сентябрь2014!F15","v":3044},3076,32,1.0512483574244502E-2]
[null,"Нерезиденты - юридические лица ",null,null,{"$f":"Сентябрь2014!F16","v":9795},9555,-240,-2.4502297090352232E-2]
[null,"Клиенты, передавшие свои средства в ДУ",null,null,{"$f":"Сентябрь2014!F17","v":13053},13047,-6,-4.5966444495515457E-4]
[null,"Всего",null,null,{"$f":"Сентябрь2014!F18","v":1152357},1156283,3926,3.4069303176011978E-3]
[]
[]
[null,"Количество уникальных клиентов в Системе торгов (по состоянию на последний день месяца):",null,null,null,null,null,"Таблица 2"]
[null,"Группы клиентов",null,null,{"$f":"E11","v":"2014-09-30"},{"$f":"F11","v":"2014-10-30"},"Изменение (ед.)","Изменение (%)"]
[null,"Физические лица",null,null,{"$f":"Сентябрь2014!F23","v":912627},916147,{"$f":"F23-E23","v":3520},{"$f":"F23/E23-1","v":3.8569974370690208E-3}]
[null,"Юридические лица",null,null,{"$f":"Сентябрь2014!F24","v":19829},19927,{"$f":"F24-E24","v":98},{"$f":"F24/E24-1","v":4.9422562912906365E-3}]
[null,"Нерезиденты",null,null,{"$f":"Сентябрь2014!F25","v":7332},7352,20,2.7277686852154037E-3]
[null,"Нерезиденты - физические лица ",null,null,{"$f":"Сентябрь2014!F26","v":2967},3000,33,1.1122345803842304E-2]
[null,"Нерезиденты - юридические лица ",null,null,{"$f":"Сентябрь2014!F27","v":4365},4352,-13,-2.978235967926679E-3]
[null,"Клиенты, передавшие свои средства в ДУ",null,null,{"$f":"Сентябрь2014!F28","v":5174},5159,-15,-2.8991109393119441E-3]
[null,"Всего",null,null,{"$f":"Сентябрь2014!F29","v":944962},948585,3623,3.8340166059587233E-3]
[]
[]
[null,"Количество активных клиентов в Системе торгов (совершивших в течение месяца хотя бы одну сделку):",null,null,null,null,null,"Таблица 3"]
[null,"Группы клиентов",null,null,{"$f":"EDATE(C6,-1)","v":"2014-09-30"},{"$f":"EDATE(E33,1)","v":"2014-10-30"},"Изменение (ед.)","Изменение (%)"]
[null,"Физические лица",null,null,{"$f":"Сентябрь2014!F34","v":54957},54686,{"$f":"F34-E34","v":-271},{"$f":"F34/E34-1","v":-4.9311279727787261E-3}]
[null,"Юридические лица",null,null,{"$f":"Сентябрь2014!F35","v":1233},1226,-7,-5.6772100567721306E-3]
[null,"Нерезиденты",null,null,{"$f":"Сентябрь2014!F36","v":586},545,-41,-6.9965870307167277E-2]
[null,"Нерезиденты - физические лица ",null,null,{"$f":"Сентябрь2014!F37","v":189},176,-13,-6.8783068783068835E-2]
[null,"Нерезиденты - юридические лица ",null,null,{"$f":"Сентябрь2014!F38","v":397},369,-28,-7.0528967254408048E-2]
[null,"Клиенты, передавшие свои средства в ДУ",null,null,{"$f":"Сентябрь2014!F39","v":630},704,74,0.11746031746031749]
[null,"Всего",null,null,{"$f":"Сентябрь2014!F40","v":57406},57161,-245,-4.2678465665609844E-3]
[]
[]
[]
[null,"Изменение количества уникальных клиентов - ретроспективные данные"]
[]
[]
[]
[null,"Количество уникальных клиентов в Системе торгов (по состоянию на последний день месяца) (ежегодная статистика):",null,null,null,null,null,"Таблица 1"]
[null,"Группы клиентов",null,null,"2009-12-31","2010-12-31","2011-12-31","2012-12-31","2013-12-31"]
[null,"Физические лица",null,null,671475,714295,772175,805549,881844]
[null,"Юридические лица",null,null,16364,17170,16850,17821,19539]
[null,"Нерезиденты",null,null,3851,4295,5058,5876,6957]
[null,"Клиенты, передавшие свои средства в ДУ",null,null,4717,5348,5242,5261,5182]
[null,"Всего",null,null,696407,741108,799325,834507,913522]
[]
[]
[]
[]
[]
[]
[]
[]
[]
[]
[]
[]
[]
[]
[]
[]
[]
[]
[]
[]
[]
[]
[]
[]
[]
[]
[]
[null,"Количество уникальных клиентов в Системе торгов (по состоянию на последний день месяца) (за последние 6 месяцев):",null,null,null,null,null,"Таблица 2"]
[null,"Группы клиентов",{"$f":"EDATE(D83,-1)","v":"2014-05-30"},{"$f":"EDATE(E83,-1)","v":"2014-06-30"},{"$f":"EDATE(F83,-1)","v":"2014-07-30"},{"$f":"EDATE(G83,-1)","v":"2014-08-30"},{"$f":"EDATE(H83,-1)","v":"2014-09-30"},{"$f":"EDATE(E11,1)","v":"2014-10-30"}]
[null,"Физические лица",897706,900250,901853,915943,912627,916147]
[null,"Юридические лица",19759,19811,19846,19872,19829,19927]
[null,"Нерезиденты",6946,7125,7169,7273,7332,7352]
[null,"Клиенты, передавшие свои средства в ДУ",5159,5175,5207,5173,5174,5159]
[null,"Всего",929570,932361,934075,948261,944962,948585]
[]
[]
[]
[]
[]
[]
[]
[]
[]
[]
[]
[]
[]
[]
[]
[]
[]
[]
[]
[]
[]
[]
[]
[]
[]
[]
[]
[]
[]
[]
[]
[]
[]
[]
[]
[null,"Дополнительные показатели за","Октябрь 2014 "]
[]
[]
[null,null,null,null,null,null,null,"Таблица 1"]
[null,"Участники торгов",null,null,null,null,"Абсолютные показатели"]
[null,"Количество Участников торгов, имеющих активных клиентов",null,null,null,null,438]
[]
[]
[]
[null,"Списки ведущих операторов фондового рынка - клиенты Участников торгов за ",null,null,null,{"$f":"C6","v":"2014-10-30"}]
[]
[]
[null,"Ведущие операторы рынка – число зарегистрированных клиентов",null,null,null,null,null,"Таблица 1"]
[null,"(по общему количеству уникальных клиентов всех типов, зарегистрированных в системе торгов биржи, в том числе  в течение месяца) "]
[null,"Наименование Участника торгов",null,null,null,null,"Количество клиентов"]
[null,"ВТБ 24 (ЗАО)","ВТБ 24 (ЗАО)","ВТБ 24 (ЗАО)","ВТБ 24 (ЗАО)","ВТБ 24 (ЗАО)",210752,210752]
[null,"Сбербанк","Сбербанк","Сбербанк","Сбербанк","Сбербанк",174902,174902]
[null,"ЗАО \"ФИНАМ\"","ЗАО \"ФИНАМ\"","ЗАО \"ФИНАМ\"","ЗАО \"ФИНАМ\"","ЗАО \"ФИНАМ\"",121285,121285]
[null,"ФГ БКС","ФГ БКС","ФГ БКС","ФГ БКС","ФГ БКС",117668,117668]
[null,"ОАО \"АЛЬФА-БАНК\"","ОАО \"АЛЬФА-БАНК\"","ОАО \"АЛЬФА-БАНК\"","ОАО \"АЛЬФА-БАНК\"","ОАО \"АЛЬФА-БАНК\"",61241,61241]
[null,"ФГ \"ОТКРЫТИЕ\"","ФГ \"ОТКРЫТИЕ\"","ФГ \"ОТКРЫТИЕ\"","ФГ \"ОТКРЫТИЕ\"","ФГ \"ОТКРЫТИЕ\"",46940,46940]
[null,"ООО \"АТОН\"","ООО \"АТОН\"","ООО \"АТОН\"","ООО \"АТОН\"","ООО \"АТОН\"",45328,45328]
[null,"ГК \"АЛОР\"","ГК \"АЛОР\"","ГК \"АЛОР\"","ГК \"АЛОР\"","ГК \"АЛОР\"",30485,30485]
[null,"КИТ Финанс (ООО)","КИТ Финанс (ООО)","КИТ Финанс (ООО)","КИТ Финанс (ООО)","КИТ Финанс (ООО)",21001,21001]
[null,"ООО \"Инвестиционная палата\"","ООО \"Инвестиционная палата\"","ООО \"Инвестиционная палата\"","ООО \"Инвестиционная палата\"","ООО \"Инвестиционная палата\"",19691,19691]
[]
[]
[null,"Ведущие операторы рынка – число активных клиентов",null,null,null,null,null,"Таблица 2"]
[null,"(по количеству уникальных клиентов, совершивших хотя бы одну сделку за месяц)"]
[null,"Наименование Участника торгов",null,null,null,null,"Количество клиентов"]
[null,"Сбербанк","Сбербанк","Сбербанк","Сбербанк","Сбербанк",9698,9698]
[null,"ЗАО \"ФИНАМ\"","ЗАО \"ФИНАМ\"","ЗАО \"ФИНАМ\"","ЗАО \"ФИНАМ\"","ЗАО \"ФИНАМ\"",8683,8683]
[null,"ФГ БКС","ФГ БКС","ФГ БКС","ФГ БКС","ФГ БКС",8328,8328]
[null,"ВТБ 24 (ЗАО)","ВТБ 24 (ЗАО)","ВТБ 24 (ЗАО)","ВТБ 24 (ЗАО)","ВТБ 24 (ЗАО)",6501,6501]
[null,"ФГ \"ОТКРЫТИЕ\"","ФГ \"ОТКРЫТИЕ\"","ФГ \"ОТКРЫТИЕ\"","ФГ \"ОТКРЫТИЕ\"","ФГ \"ОТКРЫТИЕ\"",4346,4346]
[null,"ОАО \"АЛЬФА-БАНК\"","ОАО \"АЛЬФА-БАНК\"","ОАО \"АЛЬФА-БАНК\"","ОАО \"АЛЬФА-БАНК\"","ОАО \"АЛЬФА-БАНК\"",3624,3624]
[null,"ООО \"АТОН\"","ООО \"АТОН\"","ООО \"АТОН\"","ООО \"АТОН\"","ООО \"АТОН\"",2547,2547]
[null,"ГПБ (ОАО)","ГПБ (ОАО)","ГПБ (ОАО)","ГПБ (ОАО)","ГПБ (ОАО)",1754,1754]
[null,"ГК \"АЛОР\"","ГК \"АЛОР\"","ГК \"АЛОР\"","ГК \"АЛОР\"","ГК \"АЛОР\"",1255,1255]
[null,"КИТ Финанс (ООО)","КИТ Финанс (ООО)","КИТ Финанс (ООО)","КИТ Финанс (ООО)","КИТ Финанс (ООО)",1183,1183]
[]
[]
[null,"Ведущие операторы рынка – объем клиентских операций",null,null,null,null,null,"Таблица 3"]
[null,"(по стоимостному объему сделок, заключенных в интересах клиентов за месяц) "]
[null,"Наименование Участника торгов",null,null,null,null,"Торговый оборот, руб."]
[null,"ФГ \"ОТКРЫТИЕ\"","ФГ \"ОТКРЫТИЕ\"","ФГ \"ОТКРЫТИЕ\"","ФГ \"ОТКРЫТИЕ\"","ФГ \"ОТКРЫТИЕ\"",2049979164844.29,2049979164844.29]
[null,"ФГ БКС","ФГ БКС","ФГ БКС","ФГ БКС","ФГ БКС",1254026811811.1499,1254026811811.1499]
[null,"ООО \"Ренессанс Брокер\" ",null,null,null,null,726279706187.64795,726279706187.64795]
[null,"Сбербанк","Сбербанк","Сбербанк","Сбербанк","Сбербанк",609761764957.22095,609761764957.22095]
[null,"ЗАО \"ФИНАМ\"","ЗАО \"ФИНАМ\"","ЗАО \"ФИНАМ\"","ЗАО \"ФИНАМ\"","ЗАО \"ФИНАМ\"",431585556447.20099,431585556447.20099]
[null,"ООО \"БК РЕГИОН\"","ООО \"БК РЕГИОН\"","ООО \"БК РЕГИОН\"","ООО \"БК РЕГИОН\"","ООО \"БК РЕГИОН\"",399982818342.10999,399982818342.10999]
[null,"ООО \"ИК ВЕЛЕС Капитал\"","ООО \"ИК ВЕЛЕС Капитал\"","ООО \"ИК ВЕЛЕС Капитал\"","ООО \"ИК ВЕЛЕС Капитал\"","ООО \"ИК ВЕЛЕС Капитал\"",320094169208.40002,320094169208.40002]
[null,"ОАО \"Промсвязьбанк\"","ОАО \"Промсвязьбанк\"","ОАО \"Промсвязьбанк\"","ОАО \"Промсвязьбанк\"","ОАО \"Промсвязьбанк\"",317521010250.96002,317521010250.96002]
[null,"НБ \"ТРАСТ\" (ОАО)","НБ \"ТРАСТ\" (ОАО)","НБ \"ТРАСТ\" (ОАО)","НБ \"ТРАСТ\" (ОАО)","НБ \"ТРАСТ\" (ОАО)",310117886897.98999,310117886897.98999]
[null,"ОАО \"УБРиР\"","ОАО \"УБРиР\"","ОАО \"УБРиР\"","ОАО \"УБРиР\"","ОАО \"УБРиР\"",256696930714.76999,256696930714.76999]

{"sheet":"Ноябрь2014","index":10,"n_rows":178,"n_cols":9,"rows_kept":178,"cut":false,"hidden":false,"merged":[[177,1,177,5],[177,6,177,7],[172,1,172,5],[172,6,172,7],[173,1,173,5],[173,6,173,7],[174,1,174,5],[174,6,174,7],[168,1,168,5],[168,6,168,7],[175,1,175,5],[175,6,175,7],[176,1,176,5],[176,6,176,7],[161,1,161,5],[161,6,161,7],[162,1,162,5],[162,6,162,7],[167,6,167,7],[169,1,169,5],[169,6,169,7],[170,1,170,5],[170,6,170,7],[171,1,171,5],[171,6,171,7],[155,1,155,5],[155,6,155,7],[156,1,156,5],[156,6,156,7],[157,1,157,5],[157,6,157,7],[158,1,158,5],[158,6,158,7],[159,1,159,5],[159,6,159,7],[160,1,160,5],[160,6,160,7],[145,1,145,5],[145,6,145,7],[146,1,146,5],[146,6,146,7],[147,1,147,5],[147,6,147,7],[152,1,152,5],[152,6,152,7],[153,1,153,5],[153,6,153,7],[154,1,154,5],[154,6,154,7],[143,1,143,5],[143,6,143,7],[144,1,144,5],[144,6,144,7],[139,1,139,5],[139,6,139,7],[140,1,140,5],[140,6,140,7],[141,1,141,5],[141,6,141,7],[53,1,53,3],[127,1,127,5],[127,6,127,7],[142,1,142,5],[142,6,142,7],[128,1,128,5],[128,6,128,7],[137,1,137,5],[137,6,137,7],[138,1,138,5],[138,6,138,7],[52,1,52,3],[33,1,33,3],[34,1,34,3],[35,1,35,3],[36,1,36,3],[37,1,37,3],[38,1,38,3],[47,7,47,8],[48,1,48,3],[49,1,49,3],[50,1,50,3],[51,1,51,3],[27,1,27,3],[32,1,32,3],[13,1,13,3],[14,1,14,3],[15,1,15,3],[16,1,16,3],[21,1,21,3],[22,1,22,3],[12,1,12,3],[23,1,23,3],[24,1,24,3],[25,1,25,3],[26,1,26,3],[1,1,1,7],[2,1,2,7],[2,8,2,13],[10,1,10,3],[11,1,11,3]]}
[]
[null,"Клиенты Участников торгов Фондовой биржи ММВБ"]
[null,"2014-11-30"]
[]
[]
[null,"Динамика количества клиентов за ",{"$f":"B3","v":"2014-11-30"}]
[]
[]
[]
[null,"Количество зарегистрированных клиентов в Системе торгов (по состоянию на последний день месяца):",null,null,null,null,null,"Таблица 1"]
[null,"Группы клиентов",null,null,"2014-10-30",{"$f":"EDATE(E11,1)","v":"2014-11-30"},"Изменение (ед.)","Изменение (%)"]
[null,"Физические лица",null,null,{"$f":"Октябрь2014!F12","v":1094834},1155712,{"$f":"F12-E12","v":60878},{"$f":"F12/E12-1","v":5.5604776614536888E-2}]
[null,"Юридические лица",null,null,{"$f":"Октябрь2014!F13","v":35771},35789,{"$f":"F13-E13","v":18},5.0320091694389113E-4]
[null,"Нерезиденты",null,null,{"$f":"Октябрь2014!F14","v":12631},12735,104,8.2337107117409492E-3]
[null,"Нерезиденты - физические лица ",null,null,{"$f":"Октябрь2014!F15","v":3076},3102,26,8.4525357607281304E-3]
[null,"Нерезиденты - юридические лица ",null,null,{"$f":"Октябрь2014!F16","v":9555},9633,78,8.1632653061225469E-3]
[null,"Клиенты, передавшие свои средства в ДУ",null,null,{"$f":"Октябрь2014!F17","v":13047},13100,53,4.0622365294704643E-3]
[null,"Всего",null,null,{"$f":"Октябрь2014!F18","v":1156283},1217336,61053,5.2801087623012721E-2]
[]
[]
[null,"Количество уникальных клиентов в Системе торгов (по состоянию на последний день месяца):",null,null,null,null,null,"Таблица 2"]
[null,"Группы клиентов",null,null,{"$f":"E11","v":"2014-10-30"},{"$f":"F11","v":"2014-11-30"},"Изменение (ед.)","Изменение (%)"]
[null,"Физические лица",null,null,{"$f":"Октябрь2014!F23","v":916147},921438,{"$f":"F23-E23","v":5291},{"$f":"F23/E23-1","v":5.7752740553644877E-3}]
[null,"Юридические лица",null,null,{"$f":"Октябрь2014!F24","v":19927},19975,{"$f":"F24-E24","v":48},{"$f":"F24/E24-1","v":2.4087920911326499E-3}]
[null,"Нерезиденты",null,null,{"$f":"Октябрь2014!F25","v":7352},7368,16,2.1762785636560977E-3]
[null,"Нерезиденты - физические лица ",null,null,{"$f":"Октябрь2014!F26","v":3000},3030,30,1.0000000000000009E-2]
[null,"Нерезиденты - юридические лица ",null,null,{"$f":"Октябрь2014!F27","v":4352},4338,-14,-3.2169117647058432E-3]
[null,"Клиенты, передавшие свои средства в ДУ",null,null,{"$f":"Октябрь2014!F28","v":5159},5145,-14,-2.7137042062415073E-3]
[null,"Всего",null,null,{"$f":"Октябрь2014!F29","v":948585},953926,5341,5.6304917324225823E-3]
[]
[]
[null,"Количество активных клиентов в Системе торгов (совершивших в течение месяца хотя бы одну сделку):",null,null,null,null,null,"Таблица 3"]
[null,"Группы клиентов",null,null,"2014-10-30",{"$f":"EDATE(E33,1)","v":"2014-11-30"},"Изменение (ед.)","Изменение (%)"]
[null,"Физические лица",null,null,{"$f":"Октябрь2014!F34","v":54686},56291,{"$f":"F34-E34","v":1605},{"$f":"F34/E34-1","v":2.9349376440039432E-2}]
[null,"Юридические лица",null,null,{"$f":"Октябрь2014!F35","v":1226},1113,-113,-9.2169657422512263E-2]
[null,"Нерезиденты",null,null,{"$f":"Октябрь2014!F36","v":545},537,-8,-1.4678899082568808E-2]
[null,"Нерезиденты - физические лица ",null,null,{"$f":"Октябрь2014!F37","v":176},186,10,5.6818181818181879E-2]
[null,"Нерезиденты - юридические лица ",null,null,{"$f":"Октябрь2014!F38","v":369},351,-18,-4.8780487804878092E-2]
[null,"Клиенты, передавшие свои средства в ДУ",null,null,{"$f":"Октябрь2014!F39","v":704},594,-110,-0.15625]
[null,"Всего",null,null,{"$f":"Октябрь2014!F40","v":57161},58535,1374,2.4037368135616966E-2]
[]
[]
[]
[null,"Изменение количества уникальных клиентов - ретроспективные данные"]
[]
[]
[]
[null,"Количество уникальных клиентов в Системе торгов (по состоянию на последний день месяца) (ежегодная статистика):",null,null,null,null,null,"Таблица 1"]
[null,"Группы клиентов",null,null,"2009-12-31","2010-12-31","2011-12-31","2012-12-31","2013-12-31"]
[null,"Физические лица",null,null,671475,714295,772175,805549,881844]
[null,"Юридические лица",null,null,16364,17170,16850,17821,19539]
[null,"Нерезиденты",null,null,3851,4295,5058,5876,6957]
[null,"Клиенты, передавшие свои средства в ДУ",null,null,4717,5348,5242,5261,5182]
[null,"Всего",null,null,696407,741108,799325,834507,913522]
[]
[]
[]
[]
[]
[]
[]
[]
[]
[]
[]
[]
[]
[]
[]
[]
[]
[]
[]
[]
[]
[]
[]
[]
[]
[]
[]
[null,"Количество уникальных клиентов в Системе торгов (по состоянию на последний день месяца) (за последние 6 месяцев):",null,null,null,null,null,"Таблица 2"]
[null,"Группы клиентов",{"$f":"EDATE(D83,-1)","v":"2014-06-30"},{"$f":"EDATE(E83,-1)","v":"2014-07-30"},{"$f":"EDATE(F83,-1)","v":"2014-08-30"},{"$f":"EDATE(G83,-1)","v":"2014-09-30"},{"$f":"EDATE(H83,-1)","v":"2014-10-30"},{"$f":"EDATE(E11,1)","v":"2014-11-30"}]
[null,"Физические лица",900250,901853,915943,912627,916147,921438]
[null,"Юридические лица",19811,19846,19872,19829,19927,19975]
[null,"Нерезиденты",7125,7169,7273,7332,7352,7368]
[null,"Клиенты, передавшие свои средства в ДУ",5175,5207,5173,5174,5159,5145]
[null,"Всего",932361,934075,948261,944962,948585,953926]
[]
[]
[]
[]
[]
[]
[]
[]
[]
[]
[]
[]
[]
[]
[]
[]
[]
[]
[]
[]
[]
[]
[]
[]
[]
[]
[]
[]
[]
[]
[]
[]
[]
[]
[]
[null,"Дополнительные показатели за","Ноябрь 2014 "]
[]
[]
[null,null,null,null,null,null,null,"Таблица 1"]
[null,"Участники торгов",null,null,null,null,"Абсолютные показатели"]
[null,"Количество Участников торгов, имеющих активных клиентов",null,null,null,null,420]
[]
[]
[]
[null,"Списки ведущих операторов фондового рынка - клиенты Участников торгов за ",null,null,null,{"$f":"C6","v":"2014-11-30"}]
[]
[]
[null,"Ведущие операторы рынка – число зарегистрированных клиентов",null,null,null,null,null,"Таблица 1"]
[null,"(по общему количеству уникальных клиентов всех типов, зарегистрированных в системе торгов биржи, в том числе  в течение месяца) "]
[null,"Наименование Участника торгов",null,null,null,null,"Количество клиентов"]
[null,"ВТБ 24 (ЗАО)","ВТБ 24 (ЗАО)","ВТБ 24 (ЗАО)","ВТБ 24 (ЗАО)","ВТБ 24 (ЗАО)",211633,211633]
[null,"Сбербанк","Сбербанк","Сбербанк","Сбербанк","Сбербанк",175528,175528]
[null,"ЗАО \"ФИНАМ\"","ЗАО \"ФИНАМ\"","ЗАО \"ФИНАМ\"","ЗАО \"ФИНАМ\"","ЗАО \"ФИНАМ\"",122130,122130]
[null,"ФГ БКС","ФГ БКС","ФГ БКС","ФГ БКС","ФГ БКС",118461,118461]
[null,"ОАО \"АЛЬФА-БАНК\"","ОАО \"АЛЬФА-БАНК\"","ОАО \"АЛЬФА-БАНК\"","ОАО \"АЛЬФА-БАНК\"","ОАО \"АЛЬФА-БАНК\"",61312,61312]
[null,"ФГ \"ОТКРЫТИЕ\"","ФГ \"ОТКРЫТИЕ\"","ФГ \"ОТКРЫТИЕ\"","ФГ \"ОТКРЫТИЕ\"","ФГ \"ОТКРЫТИЕ\"",48241,48241]
[null,"ООО \"АТОН\"","ООО \"АТОН\"","ООО \"АТОН\"","ООО \"АТОН\"","ООО \"АТОН\"",45458,45458]
[null,"ГК \"АЛОР\"","ГК \"АЛОР\"","ГК \"АЛОР\"","ГК \"АЛОР\"","ГК \"АЛОР\"",30708,30708]
[null,"КИТ Финанс (ООО)","КИТ Финанс (ООО)","КИТ Финанс (ООО)","КИТ Финанс (ООО)","КИТ Финанс (ООО)",21082,21082]
[null,"ООО \"Инвестиционная палата\"","ООО \"Инвестиционная палата\"","ООО \"Инвестиционная палата\"","ООО \"Инвестиционная палата\"","ООО \"Инвестиционная палата\"",19701,19701]
[]
[]
[null,"Ведущие операторы рынка – число активных клиентов",null,null,null,null,null,"Таблица 2"]
[null,"(по количеству уникальных клиентов, совершивших хотя бы одну сделку за месяц)"]
[null,"Наименование Участника торгов",null,null,null,null,"Количество клиентов"]
[null,"Сбербанк","Сбербанк","Сбербанк","Сбербанк","Сбербанк",10085,10085]
[null,"ЗАО \"ФИНАМ\"","ЗАО \"ФИНАМ\"","ЗАО \"ФИНАМ\"","ЗАО \"ФИНАМ\"","ЗАО \"ФИНАМ\"",8845,8845]
[null,"ФГ БКС","ФГ БКС","ФГ БКС","ФГ БКС","ФГ БКС",8595,8595]
[null,"ВТБ 24 (ЗАО)","ВТБ 24 (ЗАО)","ВТБ 24 (ЗАО)","ВТБ 24 (ЗАО)","ВТБ 24 (ЗАО)",6900,6900]
[null,"ФГ \"ОТКРЫТИЕ\"","ФГ \"ОТКРЫТИЕ\"","ФГ \"ОТКРЫТИЕ\"","ФГ \"ОТКРЫТИЕ\"","ФГ \"ОТКРЫТИЕ\"",4390,4390]
[null,"ОАО \"АЛЬФА-БАНК\"","ОАО \"АЛЬФА-БАНК\"","ОАО \"АЛЬФА-БАНК\"","ОАО \"АЛЬФА-БАНК\"","ОАО \"АЛЬФА-БАНК\"",3816,3816]
[null,"ООО \"АТОН\"","ООО \"АТОН\"","ООО \"АТОН\"","ООО \"АТОН\"","ООО \"АТОН\"",2692,2692]
[null,"ГПБ (ОАО)","ГПБ (ОАО)","ГПБ (ОАО)","ГПБ (ОАО)","ГПБ (ОАО)",1780,1780]
[null,"ГК \"АЛОР\"","ГК \"АЛОР\"","ГК \"АЛОР\"","ГК \"АЛОР\"","ГК \"АЛОР\"",1280,1280]
[null,"КИТ Финанс (ООО)","КИТ Финанс (ООО)","КИТ Финанс (ООО)","КИТ Финанс (ООО)","КИТ Финанс (ООО)",1234,1234]
[]
[]
[null,"Ведущие операторы рынка – объем клиентских операций",null,null,null,null,null,"Таблица 3"]
[null,"(по стоимостному объему сделок, заключенных в интересах клиентов за месяц) "]
[null,"Наименование Участника торгов",null,null,null,null,"Торговый оборот, руб."]
[null,"ФГ \"ОТКРЫТИЕ\"","ФГ \"ОТКРЫТИЕ\"","ФГ \"ОТКРЫТИЕ\"","ФГ \"ОТКРЫТИЕ\"","ФГ \"ОТКРЫТИЕ\"",1653901224201.49,1653901224201.49]
[null,"ФГ БКС","ФГ БКС","ФГ БКС","ФГ БКС","ФГ БКС",1109340434944.52,1109340434944.52]
[null,"Сбербанк","Сбербанк","Сбербанк","Сбербанк","Сбербанк",658391938103.90198,658391938103.90198]
[null,"ООО \"Ренессанс Брокер\" ","ООО \"Ренессанс Брокер\" ","ООО \"Ренессанс Брокер\" ","ООО \"Ренессанс Брокер\" ","ООО \"Ренессанс Брокер\" ",643843283532.80603,643843283532.80603]
[null,"ООО \"БК РЕГИОН\"","ООО \"БК РЕГИОН\"","ООО \"БК РЕГИОН\"","ООО \"БК РЕГИОН\"","ООО \"БК РЕГИОН\"",550030577208.31995,550030577208.31995]
[null,"ЗАО \"ФИНАМ\"","ЗАО \"ФИНАМ\"","ЗАО \"ФИНАМ\"","ЗАО \"ФИНАМ\"","ЗАО \"ФИНАМ\"",338580808334.72302,338580808334.72302]
[null,"ОАО \"Промсвязьбанк\"","ОАО \"Промсвязьбанк\"","ОАО \"Промсвязьбанк\"","ОАО \"Промсвязьбанк\"","ОАО \"Промсвязьбанк\"",316610319035.23999,316610319035.23999]
[null,"НБ \"ТРАСТ\" (ОАО)","НБ \"ТРАСТ\" (ОАО)","НБ \"ТРАСТ\" (ОАО)","НБ \"ТРАСТ\" (ОАО)","НБ \"ТРАСТ\" (ОАО)",243916942028,243916942028]
[null,"ООО \"ИК ВЕЛЕС Капитал\"","ООО \"ИК ВЕЛЕС Капитал\"","ООО \"ИК ВЕЛЕС Капитал\"","ООО \"ИК ВЕЛЕС Капитал\"","ООО \"ИК ВЕЛЕС Капитал\"",243879262614.75,243879262614.75]
[null,"ОАО \"УБРиР\"","ОАО \"УБРиР\"","ОАО \"УБРиР\"","ОАО \"УБРиР\"","ОАО \"УБРиР\"",229192969855.44,229192969855.44]

{"sheet":"Декабрь2014","index":11,"n_rows":178,"n_cols":9,"rows_kept":178,"cut":false,"hidden":false,"merged":[[177,1,177,5],[177,6,177,7],[172,1,172,5],[172,6,172,7],[173,1,173,5],[173,6,173,7],[174,1,174,5],[174,6,174,7],[168,1,168,5],[168,6,168,7],[175,1,175,5],[175,6,175,7],[176,1,176,5],[176,6,176,7],[161,1,161,5],[161,6,161,7],[162,1,162,5],[162,6,162,7],[167,6,167,7],[169,1,169,5],[169,6,169,7],[170,1,170,5],[170,6,170,7],[171,1,171,5],[171,6,171,7],[155,1,155,5],[155,6,155,7],[156,1,156,5],[156,6,156,7],[157,1,157,5],[157,6,157,7],[158,1,158,5],[158,6,158,7],[159,1,159,5],[159,6,159,7],[160,1,160,5],[160,6,160,7],[145,1,145,5],[145,6,145,7],[146,1,146,5],[146,6,146,7],[147,1,147,5],[147,6,147,7],[152,1,152,5],[152,6,152,7],[153,1,153,5],[153,6,153,7],[154,1,154,5],[154,6,154,7],[143,1,143,5],[143,6,143,7],[144,1,144,5],[144,6,144,7],[139,1,139,5],[139,6,139,7],[140,1,140,5],[140,6,140,7],[141,1,141,5],[141,6,141,7],[53,1,53,3],[127,1,127,5],[127,6,127,7],[142,1,142,5],[142,6,142,7],[128,1,128,5],[128,6,128,7],[137,1,137,5],[137,6,137,7],[138,1,138,5],[138,6,138,7],[52,1,52,3],[33,1,33,3],[34,1,34,3],[35,1,35,3],[36,1,36,3],[37,1,37,3],[38,1,38,3],[47,7,47,8],[48,1,48,3],[49,1,49,3],[50,1,50,3],[51,1,51,3],[27,1,27,3],[32,1,32,3],[13,1,13,3],[14,1,14,3],[15,1,15,3],[16,1,16,3],[21,1,21,3],[22,1,22,3],[12,1,12,3],[23,1,23,3],[24,1,24,3],[25,1,25,3],[26,1,26,3],[1,1,1,7],[2,1,2,7],[2,8,2,13],[10,1,10,3],[11,1,11,3]]}
[]
[null,"Клиенты Участников торгов Фондовой биржи ММВБ"]
[null,"2014-12-31"]
[]
[]
[null,"Динамика количества клиентов за ",{"$f":"B3","v":"2014-12-31"}]
[]
[]
[]
[null,"Количество зарегистрированных клиентов в Системе торгов (по состоянию на последний день месяца):",null,null,null,null,null,"Таблица 1"]
[null,"Группы клиентов",null,null,"2014-11-30",{"$f":"EDATE(E11,1)","v":"2014-12-30"},"Изменение (ед.)","Изменение (%)"]
[null,"Физические лица",null,null,{"$f":"Ноябрь2014!F12","v":1155712},1129475,{"$f":"F12-E12","v":-26237},{"$f":"F12/E12-1","v":-2.2702022649241371E-2}]
[null,"Юридические лица",null,null,{"$f":"Ноябрь2014!F13","v":35789},36085,{"$f":"F13-E13","v":296},8.2706977004107785E-3]
[null,"Нерезиденты",null,null,{"$f":"Ноябрь2014!F14","v":12735},12793,58,4.5543776992540419E-3]
[null,"Нерезиденты - физические лица ",null,null,{"$f":"Ноябрь2014!F15","v":3102},3190,88,2.8368794326241176E-2]
[null,"Нерезиденты - юридические лица ",null,null,{"$f":"Ноябрь2014!F16","v":9633},9603,-30,-3.1142946122703075E-3]
[null,"Клиенты, передавшие свои средства в ДУ",null,null,{"$f":"Ноябрь2014!F17","v":13100},13081,-19,-1.4503816793892677E-3]
[null,"Всего",null,null,{"$f":"Ноябрь2014!F18","v":1217336},1191434,-25902,-2.1277609468544401E-2]
[]
[]
[null,"Количество уникальных клиентов в Системе торгов (по состоянию на последний день месяца):",null,null,null,null,null,"Таблица 2"]
[null,"Группы клиентов",null,null,{"$f":"E11","v":"2014-11-30"},{"$f":"F11","v":"2014-12-30"},"Изменение (ед.)","Изменение (%)"]
[null,"Физические лица",null,null,{"$f":"Ноябрь2014!F23","v":921438},944559,{"$f":"F23-E23","v":23121},{"$f":"F23/E23-1","v":2.5092301381102189E-2}]
[null,"Юридические лица",null,null,{"$f":"Ноябрь2014!F24","v":19975},20178,{"$f":"F24-E24","v":203},{"$f":"F24/E24-1","v":1.0162703379223981E-2}]
[null,"Нерезиденты",null,null,{"$f":"Ноябрь2014!F25","v":7368},7486,118,1.601520086862096E-2]
[null,"Нерезиденты - физические лица ",null,null,{"$f":"Ноябрь2014!F26","v":3030},3113,83,2.7392739273927491E-2]
[null,"Нерезиденты - юридические лица ",null,null,{"$f":"Ноябрь2014!F27","v":4338},4373,35,8.0682342093130188E-3]
[null,"Клиенты, передавшие свои средства в ДУ",null,null,{"$f":"Ноябрь2014!F28","v":5145},5142,-3,-5.8309037900872163E-4]
[null,"Всего",null,null,{"$f":"Ноябрь2014!F29","v":953926},977365,23439,2.4571088323412926E-2]
[]
[]
[null,"Количество активных клиентов в Системе торгов (совершивших в течение месяца хотя бы одну сделку):",null,null,null,null,null,"Таблица 3"]
[null,"Группы клиентов",null,null,{"$f":"E11","v":"2014-11-30"},{"$f":"F11","v":"2014-12-30"},"Изменение (ед.)","Изменение (%)"]
[null,"Физические лица",null,null,{"$f":"Ноябрь2014!F34","v":56291},78587,{"$f":"F34-E34","v":22296},{"$f":"F34/E34-1","v":0.39608463164626673}]
[null,"Юридические лица",null,null,{"$f":"Ноябрь2014!F35","v":1113},1441,328,0.29469901168014379]
[null,"Нерезиденты",null,null,{"$f":"Ноябрь2014!F36","v":537},668,131,0.24394785847299816]
[null,"Нерезиденты - физические лица ",null,null,{"$f":"Ноябрь2014!F37","v":186},268,82,0.44086021505376349]
[null,"Нерезиденты - юридические лица ",null,null,{"$f":"Ноябрь2014!F38","v":351},400,49,0.13960113960113962]
[null,"Клиенты, передавшие свои средства в ДУ",null,null,{"$f":"Ноябрь2014!F39","v":594},624,30,5.0505050505050608E-2]
[null,"Всего",null,null,{"$f":"Ноябрь2014!F40","v":58535},81320,22785,0.38925429230374986]
[]
[]
[]
[null,"Изменение количества уникальных клиентов - ретроспективные данные"]
[]
[]
[]
[null,"Количество уникальных клиентов в Системе торгов (по состоянию на последний день месяца) (ежегодная статистика):",null,null,null,null,null,"Таблица 1"]
[null,"Группы клиентов",null,null,"2010-12-31","2011-12-31","2012-12-31","2013-12-31","2014-12-31"]
[null,"Физические лица",null,null,714295,772175,805549,881844,944559]
[null,"Юридические лица",null,null,17170,16850,17821,19539,20178]
[null,"Нерезиденты",null,null,4295,5058,5876,6957,7486]
[null,"Клиенты, передавшие свои средства в ДУ",null,null,5348,5242,5261,5182,5142]
[null,"Всего",null,null,741108,799325,834507,913522,977365]
[]
[]
[]
[]
[]
[]
[]
[]
[]
[]
[]
[]
[]
[]
[]
[]
[]
[]
[]
[]
[]
[]
[]
[]
[]
[]
[]
[null,"Количество уникальных клиентов в Системе торгов (по состоянию на последний день месяца) (за последние 6 месяцев):",null,null,null,null,null,"Таблица 2"]
[null,"Группы клиентов",{"$f":"EDATE(D83,-1)","v":"2014-07-30"},{"$f":"EDATE(E83,-1)","v":"2014-08-30"},{"$f":"EDATE(F83,-1)","v":"2014-09-30"},{"$f":"EDATE(G83,-1)","v":"2014-10-30"},{"$f":"EDATE(H83,-1)","v":"2014-11-30"},{"$f":"EDATE(E11,1)","v":"2014-12-30"}]
[null,"Физические лица",901853,915943,912627,916147,921438,944559]
[null,"Юридические лица",19846,19872,19829,19927,19975,20178]
[null,"Нерезиденты",7169,7273,7332,7352,7368,7486]
[null,"Клиенты, передавшие свои средства в ДУ",5207,5173,5174,5159,5145,5142]
[null,"Всего",934075,948261,944962,948585,953926,977365]
[]
[]
[]
[]
[]
[]
[]
[]
[]
[]
[]
[]
[]
[]
[]
[]
[]
[]
[]
[]
[]
[]
[]
[]
[]
[]
[]
[]
[]
[]
[]
[]
[]
[]
[]
[null,"Дополнительные показатели за",{"$f":"B3","v":"2014-12-31"}]
[]
[]
[null,null,null,null,null,null,null,"Таблица 1"]
[null,"Участники торгов",null,null,null,null,"Абсолютные показатели"]
[null,"Количество Участников торгов, имеющих активных клиентов",null,null,null,null,429]
[]
[]
[]
[null,"Списки ведущих операторов фондового рынка - клиенты Участников торгов за ",null,null,null,{"$f":"C6","v":"2014-12-31"}]
[]
[]
[null,"Ведущие операторы рынка – число зарегистрированных клиентов",null,null,null,null,null,"Таблица 1"]
[null,"(по общему количеству уникальных клиентов всех типов, зарегистрированных в системе торгов биржи, в том числе  в течение месяца) "]
[null,"Наименование Участника торгов",null,null,null,null,"Количество клиентов"]
[null,"ВТБ 24 (ЗАО)","ВТБ 24 (ЗАО)","ВТБ 24 (ЗАО)","ВТБ 24 (ЗАО)","ВТБ 24 (ЗАО)",213367,213367]
[null,"Сбербанк","Сбербанк","Сбербанк","Сбербанк","Сбербанк",178335,178335]
[null,"ЗАО \"ФИНАМ\"","ЗАО \"ФИНАМ\"","ЗАО \"ФИНАМ\"","ЗАО \"ФИНАМ\"","ЗАО \"ФИНАМ\"",124375,124375]
[null,"ФГ БКС","ФГ БКС","ФГ БКС","ФГ БКС","ФГ БКС",121075,121075]
[null,"ОАО \"АЛЬФА-БАНК\"","ОАО \"АЛЬФА-БАНК\"","ОАО \"АЛЬФА-БАНК\"","ОАО \"АЛЬФА-БАНК\"","ОАО \"АЛЬФА-БАНК\"",61786,61786]
[null,"ФГ \"ОТКРЫТИЕ\"","ФГ \"ОТКРЫТИЕ\"","ФГ \"ОТКРЫТИЕ\"","ФГ \"ОТКРЫТИЕ\"","ФГ \"ОТКРЫТИЕ\"",51209,51209]
[null,"ООО \"АТОН\"","ООО \"АТОН\"","ООО \"АТОН\"","ООО \"АТОН\"","ООО \"АТОН\"",45792,45792]
[null,"ГК \"АЛОР\"","ГК \"АЛОР\"","ГК \"АЛОР\"","ГК \"АЛОР\"","ГК \"АЛОР\"",30858,30858]
[null,"КИТ Финанс (ООО)","КИТ Финанс (ООО)","КИТ Финанс (ООО)","КИТ Финанс (ООО)","КИТ Финанс (ООО)",21263,21263]
[null,"ООО \"Инвестиционная палата\"","ООО \"Инвестиционная палата\"","ООО \"Инвестиционная палата\"","ООО \"Инвестиционная палата\"","ООО \"Инвестиционная палата\"",19719,19719]
[]
[]
[null,"Ведущие операторы рынка – число активных клиентов",null,null,null,null,null,"Таблица 2"]
[null,"(по количеству уникальных клиентов, совершивших хотя бы одну сделку за месяц)"]
[null,"Наименование Участника торгов",null,null,null,null,"Количество клиентов"]
[null,"Сбербанк","Сбербанк","Сбербанк","Сбербанк","Сбербанк",14766,14766]
[null,"ЗАО \"ФИНАМ\"","ЗАО \"ФИНАМ\"","ЗАО \"ФИНАМ\"","ЗАО \"ФИНАМ\"","ЗАО \"ФИНАМ\"",12181,12181]
[null,"ФГ БКС","ФГ БКС","ФГ БКС","ФГ БКС","ФГ БКС",11659,11659]
[null,"ВТБ 24 (ЗАО)","ВТБ 24 (ЗАО)","ВТБ 24 (ЗАО)","ВТБ 24 (ЗАО)","ВТБ 24 (ЗАО)",9700,9700]
[null,"ФГ \"ОТКРЫТИЕ\"","ФГ \"ОТКРЫТИЕ\"","ФГ \"ОТКРЫТИЕ\"","ФГ \"ОТКРЫТИЕ\"","ФГ \"ОТКРЫТИЕ\"",6521,6521]
[null,"ОАО \"АЛЬФА-БАНК\"","ОАО \"АЛЬФА-БАНК\"","ОАО \"АЛЬФА-БАНК\"","ОАО \"АЛЬФА-БАНК\"","ОАО \"АЛЬФА-БАНК\"",5337,5337]
[null,"ООО \"АТОН\"","ООО \"АТОН\"","ООО \"АТОН\"","ООО \"АТОН\"","ООО \"АТОН\"",3670,3670]
[null,"ГПБ (ОАО)","ГПБ (ОАО)","ГПБ (ОАО)","ГПБ (ОАО)","ГПБ (ОАО)",2183,2183]
[null,"ГК \"АЛОР\"","ГК \"АЛОР\"","ГК \"АЛОР\"","ГК \"АЛОР\"","ГК \"АЛОР\"",1789,1789]
[null,"КИТ Финанс (ООО)","КИТ Финанс (ООО)","КИТ Финанс (ООО)","КИТ Финанс (ООО)","КИТ Финанс (ООО)",1649,1649]
[]
[]
[null,"Ведущие операторы рынка – объем клиентских операций",null,null,null,null,null,"Таблица 3"]
[null,"(по стоимостному объему сделок, заключенных в интересах клиентов за месяц) "]
[null,"Наименование Участника торгов",null,null,null,null,"Торговый оборот, руб."]
[null,"ФГ \"ОТКРЫТИЕ\"","ФГ \"ОТКРЫТИЕ\"","ФГ \"ОТКРЫТИЕ\"","ФГ \"ОТКРЫТИЕ\"","ФГ \"ОТКРЫТИЕ\"",1845659782413.6699,1845659782413.6699]
[null,"ФГ БКС","ФГ БКС","ФГ БКС","ФГ БКС","ФГ БКС",1499138364859.04,1499138364859.04]
[null,"Сбербанк","Сбербанк","Сбербанк","Сбербанк","Сбербанк",839841412872.80701,839841412872.80701]
[null,"ООО \"Ренессанс Брокер\" ","ООО \"Ренессанс Брокер\" ","ООО \"Ренессанс Брокер\" ","ООО \"Ренессанс Брокер\" ","ООО \"Ренессанс Брокер\" ",779086082344.09595,779086082344.09595]
[null,"ООО \"БК РЕГИОН\"","ООО \"БК РЕГИОН\"","ООО \"БК РЕГИОН\"","ООО \"БК РЕГИОН\"","ООО \"БК РЕГИОН\"",487063679364.95001,487063679364.95001]
[null,"ЗАО \"ФИНАМ\"","ЗАО \"ФИНАМ\"","ЗАО \"ФИНАМ\"","ЗАО \"ФИНАМ\"","ЗАО \"ФИНАМ\"",428736815976.02197,428736815976.02197]
[null,"ОАО \"Промсвязьбанк\"","ОАО \"Промсвязьбанк\"","ОАО \"Промсвязьбанк\"","ОАО \"Промсвязьбанк\"","ОАО \"Промсвязьбанк\"",365381611287.25,365381611287.25]
[null,"ООО \"ИК ВЕЛЕС Капитал\"","ООО \"ИК ВЕЛЕС Капитал\"","ООО \"ИК ВЕЛЕС Капитал\"","ООО \"ИК ВЕЛЕС Капитал\"","ООО \"ИК ВЕЛЕС Капитал\"",285711839408.96002,285711839408.96002]
[null,"ОАО \"УБРиР\"","ОАО \"УБРиР\"","ОАО \"УБРиР\"","ОАО \"УБРиР\"","ОАО \"УБРиР\"",229850832018.62,229850832018.62]
[null,"ОАО Банк \"Петрокоммерц\"","ОАО Банк \"Петрокоммерц\"","ОАО Банк \"Петрокоммерц\"","ОАО Банк \"Петрокоммерц\"","ОАО Банк \"Петрокоммерц\"",212971016861.63,212971016861.63]